BEGIN:VCALENDAR
VERSION:2.0
PRODID:-//Huntington Arts Council - ECPv6.15.20//NONSGML v1.0//EN
CALSCALE:GREGORIAN
METHOD:PUBLISH
X-WR-CALNAME:Huntington Arts Council
X-ORIGINAL-URL:https://www.huntingtonarts.org
X-WR-CALDESC:Events for Huntington Arts Council
REFRESH-INTERVAL;VALUE=DURATION:PT1H
X-Robots-Tag:noindex
X-PUBLISHED-TTL:PT1H
BEGIN:VTIMEZONE
TZID:America/New_York
BEGIN:DAYLIGHT
TZOFFSETFROM:-0500
TZOFFSETTO:-0400
TZNAME:EDT
DTSTART:20250309T070000
END:DAYLIGHT
BEGIN:STANDARD
TZOFFSETFROM:-0400
TZOFFSETTO:-0500
TZNAME:EST
DTSTART:20251102T060000
END:STANDARD
BEGIN:DAYLIGHT
TZOFFSETFROM:-0500
TZOFFSETTO:-0400
TZNAME:EDT
DTSTART:20260308T070000
END:DAYLIGHT
BEGIN:STANDARD
TZOFFSETFROM:-0400
TZOFFSETTO:-0500
TZNAME:EST
DTSTART:20261101T060000
END:STANDARD
BEGIN:DAYLIGHT
TZOFFSETFROM:-0500
TZOFFSETTO:-0400
TZNAME:EDT
DTSTART:20270314T070000
END:DAYLIGHT
BEGIN:STANDARD
TZOFFSETFROM:-0400
TZOFFSETTO:-0500
TZNAME:EST
DTSTART:20271107T060000
END:STANDARD
END:VTIMEZONE
BEGIN:VEVENT
DTSTART;TZID=America/New_York:20260303T183000
DTEND;TZID=America/New_York:20260303T200000
DTSTAMP:20260421T205655
CREATED:20251010T151121Z
LAST-MODIFIED:20251010T151121Z
UID:10017113-1772562600-1772568000@www.huntingtonarts.org
SUMMARY:4-Day Workshop: Enhance Your Understanding of Music Theory
DESCRIPTION:4-Day Workshop- offered online or on-site\nRegardless of the option you chose\, the 4-day workshop is designed to enhance your understanding of music theory\, to fill in the gaps\, and provide enlightening “aha” moments\, leading to a deeper connection with how music works. Furthermore\, this course aims to maximize your investment of time\, money\, and effort while cultivating the skills and understanding needed for improvisation and composition. \nThe workshop consists of 4 sessions\, each lasting approximately 1.5 hours. During these sessions\, I will guide you through the material and demonstrate key concepts. \nWorkshop Includes- \nFull access to the Online Video 4-Day Workshop. This will allow you to review the material before and after the workshop\nAlso Includes 3 Bonus eBooks- ($90 Value) \nHistory of Music Genres\nHistory of Note Names\nHistory of Music Notation\nThe First Session will take place on Thursday\, November 6\, at 6:30 p.m. Following that\, each following session will be offered on Tuesdays and Thursdays at 6:30 p.m.\, allowing you to choose the day and time that works best for you. \nSpace is limited\, so join today at- \nhttps://www.beforeyoulearn.com/musictheory \nand schedule your sessions using our online calendar once you’ve determined which days’ work best for you. \nThe cost is $220. \nWe are looking forward to seeing you there!
URL:https://www.huntingtonarts.org/event/4-day-workshop-enhance-your-understanding-of-music-theory/2026-03-03/
LOCATION:Please CHOOSE or add your venue!\, NY\, United States
CATEGORIES:Lectures,Miscellaneous,Music,Workshop Classes
ATTACH;FMTTYPE=image/png:https://www.huntingtonarts.org/wp-content/uploads/2025/10/camille.png
GEO:40.7127837;-74.0059413
END:VEVENT
BEGIN:VEVENT
DTSTART;TZID=America/New_York:20260303T193000
DTEND;TZID=America/New_York:20260303T210000
DTSTAMP:20260421T205655
CREATED:20260105T173124Z
LAST-MODIFIED:20260105T173124Z
UID:10018845-1772566200-1772571600@www.huntingtonarts.org
SUMMARY:Huntington Camera Club
DESCRIPTION:We meet at Huntington Public Library every Tuesday night to discuss photography. We have guest speakers\, member presentations\, in-house competitions and lots more. No photographic background is necessary but we do cover all levels of experience in our presentations. Visit our website for more information hccny.org
URL:https://www.huntingtonarts.org/event/huntington-camera-club-3/2026-03-03/
LOCATION:Huntington Public Library\, 338 Main Street\, Huntington\, 11743\, United States
CATEGORIES:Art Demo,Film/Media,History,Lectures,Workshop Classes
ATTACH;FMTTYPE=image/jpeg:https://www.huntingtonarts.org/wp-content/uploads/2025/12/HCC-logo-1.jpg
GEO:40.8705011;-73.4300972
X-APPLE-STRUCTURED-LOCATION;VALUE=URI;X-ADDRESS=Huntington Public Library 338 Main Street Huntington 11743 United States;X-APPLE-RADIUS=500;X-TITLE=338 Main Street:geo:-73.4300972,40.8705011
END:VEVENT
BEGIN:VEVENT
DTSTART;TZID=America/New_York:20260305T183000
DTEND;TZID=America/New_York:20260305T200000
DTSTAMP:20260421T205655
CREATED:20251010T151121Z
LAST-MODIFIED:20251010T151121Z
UID:10017114-1772735400-1772740800@www.huntingtonarts.org
SUMMARY:4-Day Workshop: Enhance Your Understanding of Music Theory
DESCRIPTION:4-Day Workshop- offered online or on-site\nRegardless of the option you chose\, the 4-day workshop is designed to enhance your understanding of music theory\, to fill in the gaps\, and provide enlightening “aha” moments\, leading to a deeper connection with how music works. Furthermore\, this course aims to maximize your investment of time\, money\, and effort while cultivating the skills and understanding needed for improvisation and composition. \nThe workshop consists of 4 sessions\, each lasting approximately 1.5 hours. During these sessions\, I will guide you through the material and demonstrate key concepts. \nWorkshop Includes- \nFull access to the Online Video 4-Day Workshop. This will allow you to review the material before and after the workshop\nAlso Includes 3 Bonus eBooks- ($90 Value) \nHistory of Music Genres\nHistory of Note Names\nHistory of Music Notation\nThe First Session will take place on Thursday\, November 6\, at 6:30 p.m. Following that\, each following session will be offered on Tuesdays and Thursdays at 6:30 p.m.\, allowing you to choose the day and time that works best for you. \nSpace is limited\, so join today at- \nhttps://www.beforeyoulearn.com/musictheory \nand schedule your sessions using our online calendar once you’ve determined which days’ work best for you. \nThe cost is $220. \nWe are looking forward to seeing you there!
URL:https://www.huntingtonarts.org/event/4-day-workshop-enhance-your-understanding-of-music-theory/2026-03-05/
LOCATION:Please CHOOSE or add your venue!\, NY\, United States
CATEGORIES:Lectures,Miscellaneous,Music,Workshop Classes
ATTACH;FMTTYPE=image/png:https://www.huntingtonarts.org/wp-content/uploads/2025/10/camille.png
GEO:40.7127837;-74.0059413
END:VEVENT
BEGIN:VEVENT
DTSTART;TZID=America/New_York:20260310T183000
DTEND;TZID=America/New_York:20260310T200000
DTSTAMP:20260421T205655
CREATED:20251010T151121Z
LAST-MODIFIED:20251010T151121Z
UID:10017115-1773167400-1773172800@www.huntingtonarts.org
SUMMARY:4-Day Workshop: Enhance Your Understanding of Music Theory
DESCRIPTION:4-Day Workshop- offered online or on-site\nRegardless of the option you chose\, the 4-day workshop is designed to enhance your understanding of music theory\, to fill in the gaps\, and provide enlightening “aha” moments\, leading to a deeper connection with how music works. Furthermore\, this course aims to maximize your investment of time\, money\, and effort while cultivating the skills and understanding needed for improvisation and composition. \nThe workshop consists of 4 sessions\, each lasting approximately 1.5 hours. During these sessions\, I will guide you through the material and demonstrate key concepts. \nWorkshop Includes- \nFull access to the Online Video 4-Day Workshop. This will allow you to review the material before and after the workshop\nAlso Includes 3 Bonus eBooks- ($90 Value) \nHistory of Music Genres\nHistory of Note Names\nHistory of Music Notation\nThe First Session will take place on Thursday\, November 6\, at 6:30 p.m. Following that\, each following session will be offered on Tuesdays and Thursdays at 6:30 p.m.\, allowing you to choose the day and time that works best for you. \nSpace is limited\, so join today at- \nhttps://www.beforeyoulearn.com/musictheory \nand schedule your sessions using our online calendar once you’ve determined which days’ work best for you. \nThe cost is $220. \nWe are looking forward to seeing you there!
URL:https://www.huntingtonarts.org/event/4-day-workshop-enhance-your-understanding-of-music-theory/2026-03-10/
LOCATION:Please CHOOSE or add your venue!\, NY\, United States
CATEGORIES:Lectures,Miscellaneous,Music,Workshop Classes
ATTACH;FMTTYPE=image/png:https://www.huntingtonarts.org/wp-content/uploads/2025/10/camille.png
GEO:40.7127837;-74.0059413
END:VEVENT
BEGIN:VEVENT
DTSTART;TZID=America/New_York:20260310T193000
DTEND;TZID=America/New_York:20260310T210000
DTSTAMP:20260421T205655
CREATED:20260105T173124Z
LAST-MODIFIED:20260105T173124Z
UID:10018846-1773171000-1773176400@www.huntingtonarts.org
SUMMARY:Huntington Camera Club
DESCRIPTION:We meet at Huntington Public Library every Tuesday night to discuss photography. We have guest speakers\, member presentations\, in-house competitions and lots more. No photographic background is necessary but we do cover all levels of experience in our presentations. Visit our website for more information hccny.org
URL:https://www.huntingtonarts.org/event/huntington-camera-club-3/2026-03-10/
LOCATION:Huntington Public Library\, 338 Main Street\, Huntington\, 11743\, United States
CATEGORIES:Art Demo,Film/Media,History,Lectures,Workshop Classes
ATTACH;FMTTYPE=image/jpeg:https://www.huntingtonarts.org/wp-content/uploads/2025/12/HCC-logo-1.jpg
GEO:40.8705011;-73.4300972
X-APPLE-STRUCTURED-LOCATION;VALUE=URI;X-ADDRESS=Huntington Public Library 338 Main Street Huntington 11743 United States;X-APPLE-RADIUS=500;X-TITLE=338 Main Street:geo:-73.4300972,40.8705011
END:VEVENT
BEGIN:VEVENT
DTSTART;TZID=America/New_York:20260312T183000
DTEND;TZID=America/New_York:20260312T200000
DTSTAMP:20260421T205655
CREATED:20251010T151121Z
LAST-MODIFIED:20251010T151121Z
UID:10017116-1773340200-1773345600@www.huntingtonarts.org
SUMMARY:4-Day Workshop: Enhance Your Understanding of Music Theory
DESCRIPTION:4-Day Workshop- offered online or on-site\nRegardless of the option you chose\, the 4-day workshop is designed to enhance your understanding of music theory\, to fill in the gaps\, and provide enlightening “aha” moments\, leading to a deeper connection with how music works. Furthermore\, this course aims to maximize your investment of time\, money\, and effort while cultivating the skills and understanding needed for improvisation and composition. \nThe workshop consists of 4 sessions\, each lasting approximately 1.5 hours. During these sessions\, I will guide you through the material and demonstrate key concepts. \nWorkshop Includes- \nFull access to the Online Video 4-Day Workshop. This will allow you to review the material before and after the workshop\nAlso Includes 3 Bonus eBooks- ($90 Value) \nHistory of Music Genres\nHistory of Note Names\nHistory of Music Notation\nThe First Session will take place on Thursday\, November 6\, at 6:30 p.m. Following that\, each following session will be offered on Tuesdays and Thursdays at 6:30 p.m.\, allowing you to choose the day and time that works best for you. \nSpace is limited\, so join today at- \nhttps://www.beforeyoulearn.com/musictheory \nand schedule your sessions using our online calendar once you’ve determined which days’ work best for you. \nThe cost is $220. \nWe are looking forward to seeing you there!
URL:https://www.huntingtonarts.org/event/4-day-workshop-enhance-your-understanding-of-music-theory/2026-03-12/
LOCATION:Please CHOOSE or add your venue!\, NY\, United States
CATEGORIES:Lectures,Miscellaneous,Music,Workshop Classes
ATTACH;FMTTYPE=image/png:https://www.huntingtonarts.org/wp-content/uploads/2025/10/camille.png
GEO:40.7127837;-74.0059413
END:VEVENT
BEGIN:VEVENT
DTSTART;TZID=America/New_York:20260312T183000
DTEND;TZID=America/New_York:20260312T200000
DTSTAMP:20260421T205655
CREATED:20260310T161703Z
LAST-MODIFIED:20260310T161703Z
UID:10022441-1773340200-1773345600@www.huntingtonarts.org
SUMMARY:Harborfields Public Library Program Department presents College-Style Digital Illustration Class
DESCRIPTION:This two class series is designed for students in grades 9-12 who already have base level knowledge using any digital art program. The college-style class will be an exercise in color\, value\, composition\, constructive criticism\, and working within the parameters of a professional project. Great preparation for any young artist planning to go to art college or have an art career in the future! \nTeens are asked to bring their own devices with their drawing program of choice to be able to work independently. Free digital art programs include: Krita (PC)\, FireAlpaca (PC)\, Medibang Paint (iPad)\, Ibis Paint (iPad)\, Autodesk Sketchbook (iPad)\, Adobe Fresco (iPad) \nPlease register.
URL:https://www.huntingtonarts.org/event/harborfields-public-library-program-department-presents-college-style-digital-illustration-class/2026-03-12/
LOCATION:Harborfields Library\, 31 Broadway\, Greenlawn\, NY\, 11740\, United States
CATEGORIES:Art Demo,Lectures
ATTACH;FMTTYPE=image/jpeg:https://www.huntingtonarts.org/wp-content/uploads/2026/03/9_digistal-illustration-1200-x-400-px.jpg
ORGANIZER;CN="Harborfields Public Library Program Department":MAILTO:programs@harborfieldslibrary.org
END:VEVENT
BEGIN:VEVENT
DTSTART;TZID=America/New_York:20260317T183000
DTEND;TZID=America/New_York:20260317T200000
DTSTAMP:20260421T205655
CREATED:20251010T151121Z
LAST-MODIFIED:20251010T151121Z
UID:10017117-1773772200-1773777600@www.huntingtonarts.org
SUMMARY:4-Day Workshop: Enhance Your Understanding of Music Theory
DESCRIPTION:4-Day Workshop- offered online or on-site\nRegardless of the option you chose\, the 4-day workshop is designed to enhance your understanding of music theory\, to fill in the gaps\, and provide enlightening “aha” moments\, leading to a deeper connection with how music works. Furthermore\, this course aims to maximize your investment of time\, money\, and effort while cultivating the skills and understanding needed for improvisation and composition. \nThe workshop consists of 4 sessions\, each lasting approximately 1.5 hours. During these sessions\, I will guide you through the material and demonstrate key concepts. \nWorkshop Includes- \nFull access to the Online Video 4-Day Workshop. This will allow you to review the material before and after the workshop\nAlso Includes 3 Bonus eBooks- ($90 Value) \nHistory of Music Genres\nHistory of Note Names\nHistory of Music Notation\nThe First Session will take place on Thursday\, November 6\, at 6:30 p.m. Following that\, each following session will be offered on Tuesdays and Thursdays at 6:30 p.m.\, allowing you to choose the day and time that works best for you. \nSpace is limited\, so join today at- \nhttps://www.beforeyoulearn.com/musictheory \nand schedule your sessions using our online calendar once you’ve determined which days’ work best for you. \nThe cost is $220. \nWe are looking forward to seeing you there!
URL:https://www.huntingtonarts.org/event/4-day-workshop-enhance-your-understanding-of-music-theory/2026-03-17/
LOCATION:Please CHOOSE or add your venue!\, NY\, United States
CATEGORIES:Lectures,Miscellaneous,Music,Workshop Classes
ATTACH;FMTTYPE=image/png:https://www.huntingtonarts.org/wp-content/uploads/2025/10/camille.png
GEO:40.7127837;-74.0059413
END:VEVENT
BEGIN:VEVENT
DTSTART;TZID=America/New_York:20260317T193000
DTEND;TZID=America/New_York:20260317T210000
DTSTAMP:20260421T205655
CREATED:20260105T173124Z
LAST-MODIFIED:20260105T173124Z
UID:10018847-1773775800-1773781200@www.huntingtonarts.org
SUMMARY:Huntington Camera Club
DESCRIPTION:We meet at Huntington Public Library every Tuesday night to discuss photography. We have guest speakers\, member presentations\, in-house competitions and lots more. No photographic background is necessary but we do cover all levels of experience in our presentations. Visit our website for more information hccny.org
URL:https://www.huntingtonarts.org/event/huntington-camera-club-3/2026-03-17/
LOCATION:Huntington Public Library\, 338 Main Street\, Huntington\, 11743\, United States
CATEGORIES:Art Demo,Film/Media,History,Lectures,Workshop Classes
ATTACH;FMTTYPE=image/jpeg:https://www.huntingtonarts.org/wp-content/uploads/2025/12/HCC-logo-1.jpg
GEO:40.8705011;-73.4300972
X-APPLE-STRUCTURED-LOCATION;VALUE=URI;X-ADDRESS=Huntington Public Library 338 Main Street Huntington 11743 United States;X-APPLE-RADIUS=500;X-TITLE=338 Main Street:geo:-73.4300972,40.8705011
END:VEVENT
BEGIN:VEVENT
DTSTART;TZID=America/New_York:20260319T183000
DTEND;TZID=America/New_York:20260319T200000
DTSTAMP:20260421T205655
CREATED:20251010T151121Z
LAST-MODIFIED:20251010T151121Z
UID:10017118-1773945000-1773950400@www.huntingtonarts.org
SUMMARY:4-Day Workshop: Enhance Your Understanding of Music Theory
DESCRIPTION:4-Day Workshop- offered online or on-site\nRegardless of the option you chose\, the 4-day workshop is designed to enhance your understanding of music theory\, to fill in the gaps\, and provide enlightening “aha” moments\, leading to a deeper connection with how music works. Furthermore\, this course aims to maximize your investment of time\, money\, and effort while cultivating the skills and understanding needed for improvisation and composition. \nThe workshop consists of 4 sessions\, each lasting approximately 1.5 hours. During these sessions\, I will guide you through the material and demonstrate key concepts. \nWorkshop Includes- \nFull access to the Online Video 4-Day Workshop. This will allow you to review the material before and after the workshop\nAlso Includes 3 Bonus eBooks- ($90 Value) \nHistory of Music Genres\nHistory of Note Names\nHistory of Music Notation\nThe First Session will take place on Thursday\, November 6\, at 6:30 p.m. Following that\, each following session will be offered on Tuesdays and Thursdays at 6:30 p.m.\, allowing you to choose the day and time that works best for you. \nSpace is limited\, so join today at- \nhttps://www.beforeyoulearn.com/musictheory \nand schedule your sessions using our online calendar once you’ve determined which days’ work best for you. \nThe cost is $220. \nWe are looking forward to seeing you there!
URL:https://www.huntingtonarts.org/event/4-day-workshop-enhance-your-understanding-of-music-theory/2026-03-19/
LOCATION:Please CHOOSE or add your venue!\, NY\, United States
CATEGORIES:Lectures,Miscellaneous,Music,Workshop Classes
ATTACH;FMTTYPE=image/png:https://www.huntingtonarts.org/wp-content/uploads/2025/10/camille.png
GEO:40.7127837;-74.0059413
END:VEVENT
BEGIN:VEVENT
DTSTART;TZID=America/New_York:20260319T183000
DTEND;TZID=America/New_York:20260319T200000
DTSTAMP:20260421T205655
CREATED:20260310T161703Z
LAST-MODIFIED:20260310T161703Z
UID:10022442-1773945000-1773950400@www.huntingtonarts.org
SUMMARY:Harborfields Public Library Program Department presents College-Style Digital Illustration Class
DESCRIPTION:This two class series is designed for students in grades 9-12 who already have base level knowledge using any digital art program. The college-style class will be an exercise in color\, value\, composition\, constructive criticism\, and working within the parameters of a professional project. Great preparation for any young artist planning to go to art college or have an art career in the future! \nTeens are asked to bring their own devices with their drawing program of choice to be able to work independently. Free digital art programs include: Krita (PC)\, FireAlpaca (PC)\, Medibang Paint (iPad)\, Ibis Paint (iPad)\, Autodesk Sketchbook (iPad)\, Adobe Fresco (iPad) \nPlease register.
URL:https://www.huntingtonarts.org/event/harborfields-public-library-program-department-presents-college-style-digital-illustration-class/2026-03-19/
LOCATION:Harborfields Library\, 31 Broadway\, Greenlawn\, NY\, 11740\, United States
CATEGORIES:Art Demo,Lectures
ATTACH;FMTTYPE=image/jpeg:https://www.huntingtonarts.org/wp-content/uploads/2026/03/9_digistal-illustration-1200-x-400-px.jpg
ORGANIZER;CN="Harborfields Public Library Program Department":MAILTO:programs@harborfieldslibrary.org
END:VEVENT
BEGIN:VEVENT
DTSTART;TZID=America/New_York:20260324T183000
DTEND;TZID=America/New_York:20260324T200000
DTSTAMP:20260421T205655
CREATED:20251010T151121Z
LAST-MODIFIED:20251010T151121Z
UID:10017119-1774377000-1774382400@www.huntingtonarts.org
SUMMARY:4-Day Workshop: Enhance Your Understanding of Music Theory
DESCRIPTION:4-Day Workshop- offered online or on-site\nRegardless of the option you chose\, the 4-day workshop is designed to enhance your understanding of music theory\, to fill in the gaps\, and provide enlightening “aha” moments\, leading to a deeper connection with how music works. Furthermore\, this course aims to maximize your investment of time\, money\, and effort while cultivating the skills and understanding needed for improvisation and composition. \nThe workshop consists of 4 sessions\, each lasting approximately 1.5 hours. During these sessions\, I will guide you through the material and demonstrate key concepts. \nWorkshop Includes- \nFull access to the Online Video 4-Day Workshop. This will allow you to review the material before and after the workshop\nAlso Includes 3 Bonus eBooks- ($90 Value) \nHistory of Music Genres\nHistory of Note Names\nHistory of Music Notation\nThe First Session will take place on Thursday\, November 6\, at 6:30 p.m. Following that\, each following session will be offered on Tuesdays and Thursdays at 6:30 p.m.\, allowing you to choose the day and time that works best for you. \nSpace is limited\, so join today at- \nhttps://www.beforeyoulearn.com/musictheory \nand schedule your sessions using our online calendar once you’ve determined which days’ work best for you. \nThe cost is $220. \nWe are looking forward to seeing you there!
URL:https://www.huntingtonarts.org/event/4-day-workshop-enhance-your-understanding-of-music-theory/2026-03-24/
LOCATION:Please CHOOSE or add your venue!\, NY\, United States
CATEGORIES:Lectures,Miscellaneous,Music,Workshop Classes
ATTACH;FMTTYPE=image/png:https://www.huntingtonarts.org/wp-content/uploads/2025/10/camille.png
GEO:40.7127837;-74.0059413
END:VEVENT
BEGIN:VEVENT
DTSTART;TZID=America/New_York:20260324T193000
DTEND;TZID=America/New_York:20260324T210000
DTSTAMP:20260421T205655
CREATED:20260105T173124Z
LAST-MODIFIED:20260105T173124Z
UID:10018848-1774380600-1774386000@www.huntingtonarts.org
SUMMARY:Huntington Camera Club
DESCRIPTION:We meet at Huntington Public Library every Tuesday night to discuss photography. We have guest speakers\, member presentations\, in-house competitions and lots more. No photographic background is necessary but we do cover all levels of experience in our presentations. Visit our website for more information hccny.org
URL:https://www.huntingtonarts.org/event/huntington-camera-club-3/2026-03-24/
LOCATION:Huntington Public Library\, 338 Main Street\, Huntington\, 11743\, United States
CATEGORIES:Art Demo,Film/Media,History,Lectures,Workshop Classes
ATTACH;FMTTYPE=image/jpeg:https://www.huntingtonarts.org/wp-content/uploads/2025/12/HCC-logo-1.jpg
GEO:40.8705011;-73.4300972
X-APPLE-STRUCTURED-LOCATION;VALUE=URI;X-ADDRESS=Huntington Public Library 338 Main Street Huntington 11743 United States;X-APPLE-RADIUS=500;X-TITLE=338 Main Street:geo:-73.4300972,40.8705011
END:VEVENT
BEGIN:VEVENT
DTSTART;TZID=America/New_York:20260326T183000
DTEND;TZID=America/New_York:20260326T200000
DTSTAMP:20260421T205655
CREATED:20251010T151121Z
LAST-MODIFIED:20251010T151121Z
UID:10017120-1774549800-1774555200@www.huntingtonarts.org
SUMMARY:4-Day Workshop: Enhance Your Understanding of Music Theory
DESCRIPTION:4-Day Workshop- offered online or on-site\nRegardless of the option you chose\, the 4-day workshop is designed to enhance your understanding of music theory\, to fill in the gaps\, and provide enlightening “aha” moments\, leading to a deeper connection with how music works. Furthermore\, this course aims to maximize your investment of time\, money\, and effort while cultivating the skills and understanding needed for improvisation and composition. \nThe workshop consists of 4 sessions\, each lasting approximately 1.5 hours. During these sessions\, I will guide you through the material and demonstrate key concepts. \nWorkshop Includes- \nFull access to the Online Video 4-Day Workshop. This will allow you to review the material before and after the workshop\nAlso Includes 3 Bonus eBooks- ($90 Value) \nHistory of Music Genres\nHistory of Note Names\nHistory of Music Notation\nThe First Session will take place on Thursday\, November 6\, at 6:30 p.m. Following that\, each following session will be offered on Tuesdays and Thursdays at 6:30 p.m.\, allowing you to choose the day and time that works best for you. \nSpace is limited\, so join today at- \nhttps://www.beforeyoulearn.com/musictheory \nand schedule your sessions using our online calendar once you’ve determined which days’ work best for you. \nThe cost is $220. \nWe are looking forward to seeing you there!
URL:https://www.huntingtonarts.org/event/4-day-workshop-enhance-your-understanding-of-music-theory/2026-03-26/
LOCATION:Please CHOOSE or add your venue!\, NY\, United States
CATEGORIES:Lectures,Miscellaneous,Music,Workshop Classes
ATTACH;FMTTYPE=image/png:https://www.huntingtonarts.org/wp-content/uploads/2025/10/camille.png
GEO:40.7127837;-74.0059413
END:VEVENT
BEGIN:VEVENT
DTSTART;TZID=America/New_York:20260331T183000
DTEND;TZID=America/New_York:20260331T200000
DTSTAMP:20260421T205655
CREATED:20251010T151121Z
LAST-MODIFIED:20251010T151121Z
UID:10017121-1774981800-1774987200@www.huntingtonarts.org
SUMMARY:4-Day Workshop: Enhance Your Understanding of Music Theory
DESCRIPTION:4-Day Workshop- offered online or on-site\nRegardless of the option you chose\, the 4-day workshop is designed to enhance your understanding of music theory\, to fill in the gaps\, and provide enlightening “aha” moments\, leading to a deeper connection with how music works. Furthermore\, this course aims to maximize your investment of time\, money\, and effort while cultivating the skills and understanding needed for improvisation and composition. \nThe workshop consists of 4 sessions\, each lasting approximately 1.5 hours. During these sessions\, I will guide you through the material and demonstrate key concepts. \nWorkshop Includes- \nFull access to the Online Video 4-Day Workshop. This will allow you to review the material before and after the workshop\nAlso Includes 3 Bonus eBooks- ($90 Value) \nHistory of Music Genres\nHistory of Note Names\nHistory of Music Notation\nThe First Session will take place on Thursday\, November 6\, at 6:30 p.m. Following that\, each following session will be offered on Tuesdays and Thursdays at 6:30 p.m.\, allowing you to choose the day and time that works best for you. \nSpace is limited\, so join today at- \nhttps://www.beforeyoulearn.com/musictheory \nand schedule your sessions using our online calendar once you’ve determined which days’ work best for you. \nThe cost is $220. \nWe are looking forward to seeing you there!
URL:https://www.huntingtonarts.org/event/4-day-workshop-enhance-your-understanding-of-music-theory/2026-03-31/
LOCATION:Please CHOOSE or add your venue!\, NY\, United States
CATEGORIES:Lectures,Miscellaneous,Music,Workshop Classes
ATTACH;FMTTYPE=image/png:https://www.huntingtonarts.org/wp-content/uploads/2025/10/camille.png
GEO:40.7127837;-74.0059413
END:VEVENT
BEGIN:VEVENT
DTSTART;TZID=America/New_York:20260331T193000
DTEND;TZID=America/New_York:20260331T210000
DTSTAMP:20260421T205655
CREATED:20260105T173124Z
LAST-MODIFIED:20260105T173124Z
UID:10018849-1774985400-1774990800@www.huntingtonarts.org
SUMMARY:Huntington Camera Club
DESCRIPTION:We meet at Huntington Public Library every Tuesday night to discuss photography. We have guest speakers\, member presentations\, in-house competitions and lots more. No photographic background is necessary but we do cover all levels of experience in our presentations. Visit our website for more information hccny.org
URL:https://www.huntingtonarts.org/event/huntington-camera-club-3/2026-03-31/
LOCATION:Huntington Public Library\, 338 Main Street\, Huntington\, 11743\, United States
CATEGORIES:Art Demo,Film/Media,History,Lectures,Workshop Classes
ATTACH;FMTTYPE=image/jpeg:https://www.huntingtonarts.org/wp-content/uploads/2025/12/HCC-logo-1.jpg
GEO:40.8705011;-73.4300972
X-APPLE-STRUCTURED-LOCATION;VALUE=URI;X-ADDRESS=Huntington Public Library 338 Main Street Huntington 11743 United States;X-APPLE-RADIUS=500;X-TITLE=338 Main Street:geo:-73.4300972,40.8705011
END:VEVENT
END:VCALENDAR