BEGIN:VCALENDAR
VERSION:2.0
PRODID:-//Huntington Arts Council - ECPv6.15.20//NONSGML v1.0//EN
CALSCALE:GREGORIAN
METHOD:PUBLISH
X-ORIGINAL-URL:https://www.huntingtonarts.org
X-WR-CALDESC:Events for Huntington Arts Council
REFRESH-INTERVAL;VALUE=DURATION:PT1H
X-Robots-Tag:noindex
X-PUBLISHED-TTL:PT1H
BEGIN:VTIMEZONE
TZID:America/New_York
BEGIN:DAYLIGHT
TZOFFSETFROM:-0500
TZOFFSETTO:-0400
TZNAME:EDT
DTSTART:20230312T070000
END:DAYLIGHT
BEGIN:STANDARD
TZOFFSETFROM:-0400
TZOFFSETTO:-0500
TZNAME:EST
DTSTART:20231105T060000
END:STANDARD
BEGIN:DAYLIGHT
TZOFFSETFROM:-0500
TZOFFSETTO:-0400
TZNAME:EDT
DTSTART:20240310T070000
END:DAYLIGHT
BEGIN:STANDARD
TZOFFSETFROM:-0400
TZOFFSETTO:-0500
TZNAME:EST
DTSTART:20241103T060000
END:STANDARD
BEGIN:DAYLIGHT
TZOFFSETFROM:-0500
TZOFFSETTO:-0400
TZNAME:EDT
DTSTART:20250309T070000
END:DAYLIGHT
BEGIN:STANDARD
TZOFFSETFROM:-0400
TZOFFSETTO:-0500
TZNAME:EST
DTSTART:20251102T060000
END:STANDARD
END:VTIMEZONE
BEGIN:VEVENT
DTSTART;TZID=America/New_York:20241109T120000
DTEND;TZID=America/New_York:20241109T130000
DTSTAMP:20260422T212506
CREATED:20240923T141539Z
LAST-MODIFIED:20240923T141539Z
UID:10014442-1731153600-1731157200@www.huntingtonarts.org
SUMMARY:The Whaling Museum presents Pies & Parades
DESCRIPTION:PIES & PARADES\nSaturday\, November 9 | Adults & Kids\n12:00pm & 2:00pm \nWhy is Macy’s logo a nautical star? Because the store was founded by a whaler! Celebrate the 100th anniversary of the Macy’s Thanksgiving Day Parade and discover the surprising origins of other Thanksgiving traditions\, from food to football. Craft a delicious smelling “potpourri pie” to adorn your own holiday table! \nRegister Online\n$10 Participant; $5 Museum Members
URL:https://www.huntingtonarts.org/event/the-whaling-museum-presents-pies-parades/2024-11-09/1/
LOCATION:The Whaling Museum & Education Center of Cold Spring Harbor\, 301 Main Street\, Cold Spring Harbor\, NY\, 11724\, United States
CATEGORIES:Art Demo,Children and Family,History,Lectures,Workshop Classes
ATTACH;FMTTYPE=image/jpeg:https://www.huntingtonarts.org/wp-content/uploads/2024/09/Photo-Pies-and-Parades.jpeg
ORGANIZER;CN="The Whaling Museum and Education Center":MAILTO:jpalumbo@cshwhalingmuseum.org
GEO:40.8724711;-73.4536788
X-APPLE-STRUCTURED-LOCATION;VALUE=URI;X-ADDRESS=The Whaling Museum & Education Center of Cold Spring Harbor 301 Main Street Cold Spring Harbor NY 11724 United States;X-APPLE-RADIUS=500;X-TITLE=301 Main Street:geo:-73.4536788,40.8724711
END:VEVENT
BEGIN:VEVENT
DTSTART;TZID=America/New_York:20241109T140000
DTEND;TZID=America/New_York:20241109T150000
DTSTAMP:20260422T212506
CREATED:20240923T141539Z
LAST-MODIFIED:20240923T141539Z
UID:10014443-1731160800-1731164400@www.huntingtonarts.org
SUMMARY:The Whaling Museum presents Pies & Parades
DESCRIPTION:PIES & PARADES\nSaturday\, November 9 | Adults & Kids\n12:00pm & 2:00pm \nWhy is Macy’s logo a nautical star? Because the store was founded by a whaler! Celebrate the 100th anniversary of the Macy’s Thanksgiving Day Parade and discover the surprising origins of other Thanksgiving traditions\, from food to football. Craft a delicious smelling “potpourri pie” to adorn your own holiday table! \nRegister Online\n$10 Participant; $5 Museum Members
URL:https://www.huntingtonarts.org/event/the-whaling-museum-presents-pies-parades/2024-11-09/2/
LOCATION:The Whaling Museum & Education Center of Cold Spring Harbor\, 301 Main Street\, Cold Spring Harbor\, NY\, 11724\, United States
CATEGORIES:Art Demo,Children and Family,History,Lectures,Workshop Classes
ATTACH;FMTTYPE=image/jpeg:https://www.huntingtonarts.org/wp-content/uploads/2024/09/Photo-Pies-and-Parades.jpeg
ORGANIZER;CN="The Whaling Museum and Education Center":MAILTO:jpalumbo@cshwhalingmuseum.org
GEO:40.8724711;-73.4536788
X-APPLE-STRUCTURED-LOCATION;VALUE=URI;X-ADDRESS=The Whaling Museum & Education Center of Cold Spring Harbor 301 Main Street Cold Spring Harbor NY 11724 United States;X-APPLE-RADIUS=500;X-TITLE=301 Main Street:geo:-73.4536788,40.8724711
END:VEVENT
BEGIN:VEVENT
DTSTART;TZID=America/New_York:20241114T183000
DTEND;TZID=America/New_York:20241114T200000
DTSTAMP:20260422T212506
CREATED:20240923T141609Z
LAST-MODIFIED:20240923T141609Z
UID:10014444-1731609000-1731614400@www.huntingtonarts.org
SUMMARY:The Whaling Museum presents Crafts & Cocktails: Pickles
DESCRIPTION:CRAFTS & COCKTAILS: PICKLES\nThursday\, November 14 | Adults 21+\n6:30 – 8:00pm \nIt’s National Pickle Day! Get to know pickles & preservation in this informative workshop\, along with other items on the menu on a whaleship. Taste pickle samplings\, make your own pickles and sample pickle-flavored beer! \nRegister Online\n$35 Participant; $25 Members
URL:https://www.huntingtonarts.org/event/the-whaling-museum-presents-crafts-cocktails-pickles/
LOCATION:The Whaling Museum & Education Center of Cold Spring Harbor\, 301 Main Street\, Cold Spring Harbor\, NY\, 11724\, United States
CATEGORIES:History,Lectures,Miscellaneous,Workshop Classes
ATTACH;FMTTYPE=image/jpeg:https://www.huntingtonarts.org/wp-content/uploads/2024/09/Photo-Crafts-and-Cocktails-Pickles-scaled.jpg
ORGANIZER;CN="The Whaling Museum and Education Center":MAILTO:jpalumbo@cshwhalingmuseum.org
GEO:40.8724711;-73.4536788
X-APPLE-STRUCTURED-LOCATION;VALUE=URI;X-ADDRESS=The Whaling Museum & Education Center of Cold Spring Harbor 301 Main Street Cold Spring Harbor NY 11724 United States;X-APPLE-RADIUS=500;X-TITLE=301 Main Street:geo:-73.4536788,40.8724711
END:VEVENT
BEGIN:VEVENT
DTSTART;TZID=America/New_York:20241117T120000
DTEND;TZID=America/New_York:20241117T130000
DTSTAMP:20260422T212506
CREATED:20240923T141636Z
LAST-MODIFIED:20240923T141636Z
UID:10014445-1731844800-1731848400@www.huntingtonarts.org
SUMMARY:The Whaling Museum presents Pickle Party
DESCRIPTION:PICKLE PARTY\nSunday\, November 17 | Families & Kids\n12:00pm & 2:00pm \nDiscover what’s on the menu on a whaleship – including pickles! Taste pickle samples\, decorate a jar\, and make your own pickles to take home. Start your holidays early as you make a Weihnachtsgurke\, a traditional German pickle ornament. \n$10 Participant; $5 Museum Members
URL:https://www.huntingtonarts.org/event/the-whaling-museum-presents-pickle-party/2024-11-17/1/
LOCATION:The Whaling Museum & Education Center of Cold Spring Harbor\, 301 Main Street\, Cold Spring Harbor\, NY\, 11724\, United States
CATEGORIES:Children and Family,History,Lectures,Miscellaneous,Workshop Classes
ATTACH;FMTTYPE=image/jpeg:https://www.huntingtonarts.org/wp-content/uploads/2024/09/Photo-Pickle-Party-scaled.jpg
ORGANIZER;CN="The Whaling Museum and Education Center":MAILTO:jpalumbo@cshwhalingmuseum.org
GEO:40.8724711;-73.4536788
X-APPLE-STRUCTURED-LOCATION;VALUE=URI;X-ADDRESS=The Whaling Museum & Education Center of Cold Spring Harbor 301 Main Street Cold Spring Harbor NY 11724 United States;X-APPLE-RADIUS=500;X-TITLE=301 Main Street:geo:-73.4536788,40.8724711
END:VEVENT
BEGIN:VEVENT
DTSTART;TZID=America/New_York:20241117T140000
DTEND;TZID=America/New_York:20241117T150000
DTSTAMP:20260422T212506
CREATED:20240923T141636Z
LAST-MODIFIED:20240923T141636Z
UID:10014446-1731852000-1731855600@www.huntingtonarts.org
SUMMARY:The Whaling Museum presents Pickle Party
DESCRIPTION:PICKLE PARTY\nSunday\, November 17 | Families & Kids\n12:00pm & 2:00pm \nDiscover what’s on the menu on a whaleship – including pickles! Taste pickle samples\, decorate a jar\, and make your own pickles to take home. Start your holidays early as you make a Weihnachtsgurke\, a traditional German pickle ornament. \n$10 Participant; $5 Museum Members
URL:https://www.huntingtonarts.org/event/the-whaling-museum-presents-pickle-party/2024-11-17/2/
LOCATION:The Whaling Museum & Education Center of Cold Spring Harbor\, 301 Main Street\, Cold Spring Harbor\, NY\, 11724\, United States
CATEGORIES:Children and Family,History,Lectures,Miscellaneous,Workshop Classes
ATTACH;FMTTYPE=image/jpeg:https://www.huntingtonarts.org/wp-content/uploads/2024/09/Photo-Pickle-Party-scaled.jpg
ORGANIZER;CN="The Whaling Museum and Education Center":MAILTO:jpalumbo@cshwhalingmuseum.org
GEO:40.8724711;-73.4536788
X-APPLE-STRUCTURED-LOCATION;VALUE=URI;X-ADDRESS=The Whaling Museum & Education Center of Cold Spring Harbor 301 Main Street Cold Spring Harbor NY 11724 United States;X-APPLE-RADIUS=500;X-TITLE=301 Main Street:geo:-73.4536788,40.8724711
END:VEVENT
END:VCALENDAR