BEGIN:VCALENDAR
VERSION:2.0
PRODID:-//Huntington Arts Council - ECPv6.15.20//NONSGML v1.0//EN
CALSCALE:GREGORIAN
METHOD:PUBLISH
X-WR-CALNAME:Huntington Arts Council
X-ORIGINAL-URL:https://www.huntingtonarts.org
X-WR-CALDESC:Events for Huntington Arts Council
REFRESH-INTERVAL;VALUE=DURATION:PT1H
X-Robots-Tag:noindex
X-PUBLISHED-TTL:PT1H
BEGIN:VTIMEZONE
TZID:America/New_York
BEGIN:DAYLIGHT
TZOFFSETFROM:-0500
TZOFFSETTO:-0400
TZNAME:EDT
DTSTART:20210314T070000
END:DAYLIGHT
BEGIN:STANDARD
TZOFFSETFROM:-0400
TZOFFSETTO:-0500
TZNAME:EST
DTSTART:20211107T060000
END:STANDARD
BEGIN:DAYLIGHT
TZOFFSETFROM:-0500
TZOFFSETTO:-0400
TZNAME:EDT
DTSTART:20220313T070000
END:DAYLIGHT
BEGIN:STANDARD
TZOFFSETFROM:-0400
TZOFFSETTO:-0500
TZNAME:EST
DTSTART:20221106T060000
END:STANDARD
BEGIN:DAYLIGHT
TZOFFSETFROM:-0500
TZOFFSETTO:-0400
TZNAME:EDT
DTSTART:20230312T070000
END:DAYLIGHT
BEGIN:STANDARD
TZOFFSETFROM:-0400
TZOFFSETTO:-0500
TZNAME:EST
DTSTART:20231105T060000
END:STANDARD
BEGIN:DAYLIGHT
TZOFFSETFROM:-0500
TZOFFSETTO:-0400
TZNAME:EDT
DTSTART:20240310T070000
END:DAYLIGHT
BEGIN:STANDARD
TZOFFSETFROM:-0400
TZOFFSETTO:-0500
TZNAME:EST
DTSTART:20241103T060000
END:STANDARD
END:VTIMEZONE
BEGIN:VEVENT
DTSTART;TZID=America/New_York:20230930T080000
DTEND;TZID=America/New_York:20231027T150000
DTSTAMP:20260421T205911
CREATED:20230912T185105Z
LAST-MODIFIED:20230912T185105Z
UID:10006477-1696060800-1698418800@www.huntingtonarts.org
SUMMARY:Art League of LI to Host LI Craft Guild Exhibition - Seeing the Other
DESCRIPTION:Art League of Long Island will host the LI Craft Guild’s Exhibition from 9/30/23 – 10/27/23 in their Jeanie Tengelsen Gallery.
URL:https://www.huntingtonarts.org/event/art-league-of-li-to-host-li-craft-guild-exhibition-seeing-the-other/
LOCATION:Art League of Long Island\, 107 East Deer Park Road\, Dix Hills\, NY\, 11746\, United States
CATEGORIES:Dance
ATTACH;FMTTYPE=image/png:https://www.huntingtonarts.org/wp-content/uploads/2023/09/Screen-Shot-2023-07-11-at-12.07.03-PM.png
ORGANIZER;CN="Art League of Long Island":MAILTO:info@artleagueli.org
END:VEVENT
BEGIN:VEVENT
DTSTART;TZID=America/New_York:20230923T130000
DTEND;TZID=America/New_York:20230923T160000
DTSTAMP:20260421T205911
CREATED:20230912T145036Z
LAST-MODIFIED:20230912T145036Z
UID:10006464-1695474000-1695484800@www.huntingtonarts.org
SUMMARY:Dance Visions NY at Liberty Hall Dance Festival
DESCRIPTION:Dance Visions NY will perform at the Liberty Hall Dance Festival September 23\, rain-date of Sept. 24. Don’t miss out on seeing 10 professional dance performances inspired by moments in history! All performances are on the beautiful grounds of the history museum. Dance Visions NY will perform in the rose garden at 1:30 and 2:45 in a short program demonstrating the link between Walt Whitman and Isadora Duncan in excerpts from their concert “I see America Dancing.” With Beth Jucovy\, Louisa Armstrong-Harrison and Hope Kroog. For info and tix see http://www.buggeballet.com/performances
URL:https://www.huntingtonarts.org/event/dance-visions-ny-at-liberty-hall-dance-festival/
LOCATION:NY
CATEGORIES:Dance
ATTACH;FMTTYPE=image/jpeg:https://www.huntingtonarts.org/wp-content/uploads/2023/09/Louisa-in-Maenad_KoDaFe_WhitneyBrowne-8699-scaled.jpg
ORGANIZER;CN="Dance Visions NY":MAILTO:dancevisions.ny@gmail.com
END:VEVENT
BEGIN:VEVENT
DTSTART;TZID=America/New_York:20230628T193000
DTEND;TZID=America/New_York:20230628T210000
DTSTAMP:20260421T205911
CREATED:20230410T234354Z
LAST-MODIFIED:20230613T115557Z
UID:10005903-1687980600-1687986000@www.huntingtonarts.org
SUMMARY:Dance Visions NY presents “Forging the Elements” for a program by Creative Performances
DESCRIPTION:“Forging the Elements\,” is a stand-alone revision taken from the company’s pivotal work\, “Through the Portals”. The piece depicts worlds of color and relationships. The colors (as dancers) also represent the elements of fire\, water\, air and earth as well as personality traits. The colors develop individual traits and interact\, and identity is tested and strengthened through these interactions. Artwork from Susan Ruth Cohen’s “Finding the Song” which was created along with the choreography\, serves as the background and taking off point for the various scenes in the work. This piece will be presented along with 7 other works by emerging and established choreographers as part of the series “8 in a Show” curated and presented by “Creative Performances.”
URL:https://www.huntingtonarts.org/event/dance-visions-ny-presents-forging-the-elements-for-a-program-by-creative-performances/
LOCATION:Dixon Place\, 161A Chrystie St.\, New York\, NY\, 10002\, United States
CATEGORIES:Dance
ORGANIZER;CN="Creative Perfromances":MAILTO:stylepointenyc@gmail.com
END:VEVENT
BEGIN:VEVENT
DTSTART;TZID=America/New_York:20230618T130000
DTEND;TZID=America/New_York:20230618T141500
DTSTAMP:20260421T205911
CREATED:20230410T234320Z
LAST-MODIFIED:20230613T115607Z
UID:10005908-1687093200-1687097700@www.huntingtonarts.org
SUMMARY:Dance Visions NY presents “Rising Up”
DESCRIPTION:Dance Visions NY is delighted to present a new and unique program on the grounds of the Universalist Unitarian Congregation Shelter Rock (UUCSR) in collaboration with the organization. Grounded in contemporary movements for social justice\, the program includes a new work addressing bodily autonomy entitled “Dialogue\, Isadora Duncan’s groundbreaking\, dynamic work of strength and optimism created to the 3rd movement of Tchaikovsky’s Pathetique Sonata #6 (circa 1916)\, “From a Distant Past Part 1″\, a new manifestation of the 1st section of our poem-based dance theater piece developed over the course of several years with themes of cyclic worlds\, and a revision from our pivotal work “Through the Portals” with themes of establishing identity. In addition we will present new dances created to songs in collaboration with “Willow\,” an interfaith women’s choir. The program includes original\, timely and meaningful dance\, music\, poetry and theatre. It expresses the climate of our times and is performed by excellent\, diverse artists in a beautiful\, historical outdoor setting.\nThis program is made possible with funds from the Statewide Community Regrant Program\, a regrant program of the New York State Council on the Arts with the support of the Office of the Governor and the New York State Legislature and administered by The Huntington Arts Council\, Inc.
URL:https://www.huntingtonarts.org/event/dance-visions-ny-presents-rising-up/
LOCATION:Unitarian Universalist Congregation at Shelter Rock\, 48 Shelter Rock Road\, Manhasset\, New York\, 11030\, United States
CATEGORIES:Dance,Music,Poetry,Theater
ORGANIZER;CN="Dance Visions NY":MAILTO:dancevisions.ny@gmail.com
GEO:40.7825735;-73.6857697
X-APPLE-STRUCTURED-LOCATION;VALUE=URI;X-ADDRESS=Unitarian Universalist Congregation at Shelter Rock 48 Shelter Rock Road Manhasset New York 11030 United States;X-APPLE-RADIUS=500;X-TITLE=48 Shelter Rock Road:geo:-73.6857697,40.7825735
END:VEVENT
BEGIN:VEVENT
DTSTART;TZID=America/New_York:20230521T190000
DTEND;TZID=America/New_York:20230521T210000
DTSTAMP:20260421T205911
CREATED:20230406T215351Z
LAST-MODIFIED:20230613T115844Z
UID:10005973-1684695600-1684702800@www.huntingtonarts.org
SUMMARY:Dance Visions NY presents “From a Distant Past\, Part 1” with WAXworks
DESCRIPTION:This new intimate manifestation of a past Dance Visions NY work is based on an original poem and is created with 3 dancers. With mythic overtones\, it addresses timeless and timely themes of dark and light\, destruction and creation\, and cycles of endings and beginnings. Using the spoken poem over background music\, and incorporating Isadora Duncan dance repertory\, it is the first of a 3-part symbolic work following a river as it makes its way toward the ocean.\nJoining us in this WAXworks program are 6 other emerging and established choreographers sharing new works.
URL:https://www.huntingtonarts.org/event/dance-visions-ny-presents-from-a-distant-past-part-1-with-waxworks/
LOCATION:Triskelion Arts\, 106 Calyer St.\, Brooklyn\, 11222\, United States
CATEGORIES:Dance,Poetry,Theater
END:VEVENT
BEGIN:VEVENT
DTSTART;TZID=America/New_York:20221218T140000
DTEND;TZID=America/New_York:20221219T160000
DTSTAMP:20260421T205911
CREATED:20220829T211112Z
LAST-MODIFIED:20220829T211112Z
UID:10004822-1671372000-1671465600@www.huntingtonarts.org
SUMMARY:Eglevsky Ballet Presents "The Nutcracker"
DESCRIPTION:The Eglevsky Ballet presents the holiday classic “The Nutcracker” at the Tilles Center for the Performing Arts. Featuring the professional dancers of the Eglevsky Ballet and students from the Eglevsky Ballet academy\, this enchanting ballet tells the story of a Clara\, her mysterious godfather\, Drosselmeyer\, and his gift of an enchanted nutcracker which has all of us believing in the magic of the holiday season. Complete with a live orchestra conducted by EB music director David Bernard\, the audience is sure to be delighted by the sumptuous sets\, costumes\, and Long Island’s only-automated 25-foot growing Christmas tree!
URL:https://www.huntingtonarts.org/event/eglevsky-ballet-presents-the-nutcracker/2022-12-18/
LOCATION:The Tilles Center for the Performing Arts\, 720 Nothern Blvd\, Brookville\, NY\, 11548\, United States
CATEGORIES:Dance
ATTACH;FMTTYPE=image/jpeg:https://www.huntingtonarts.org/wp-content/uploads/2022/08/SavetheDateBlast-01-3-scaled-1.jpg
ORGANIZER;CN="Eglevsky Ballet":MAILTO:info@eglevsky.org
GEO:40.8198945;-73.5952242
X-APPLE-STRUCTURED-LOCATION;VALUE=URI;X-ADDRESS=The Tilles Center for the Performing Arts 720 Nothern Blvd Brookville NY 11548 United States;X-APPLE-RADIUS=500;X-TITLE=720 Nothern Blvd:geo:-73.5952242,40.8198945
END:VEVENT
BEGIN:VEVENT
DTSTART;TZID=America/New_York:20221129T130000
DTEND;TZID=America/New_York:20221129T140000
DTSTAMP:20260421T205911
CREATED:20220823T145956Z
LAST-MODIFIED:20220823T145956Z
UID:10004756-1669726800-1669730400@www.huntingtonarts.org
SUMMARY:Harborfields Library Presents The Red Hot Mamas
DESCRIPTION:The Red Hot Mamas of Long Island are a unique senior tap-dancing group of women\, ages 55-77 that has been performing on Long Island over the past 30 years! Join us for a holiday-themed show and refreshments. Free tickets are available at the Circulation Desk. This program is sponsored by the Friends of the Library.
URL:https://www.huntingtonarts.org/event/harbor-fields-library-presents-the-red-hot-mamas/
LOCATION:Harborfields Library\, 31 Broadway\, Greenlawn\, NY\, 11740\, United States
CATEGORIES:Dance
ATTACH;FMTTYPE=image/jpeg:https://www.huntingtonarts.org/wp-content/uploads/2022/08/Nov2022_Red-Hot-Mamas.jpg
ORGANIZER;CN="Harborfields Library Program Office":MAILTO:harblib@suffolk.lib.ny.us
END:VEVENT
BEGIN:VEVENT
DTSTART;TZID=America/New_York:20221009T190000
DTEND;TZID=America/New_York:20221009T210000
DTSTAMP:20260421T205911
CREATED:20220816T194347Z
LAST-MODIFIED:20220816T194347Z
UID:10004870-1665342000-1665349200@www.huntingtonarts.org
SUMMARY:St. John's Cultural Event Series Presents Tap & Piano Show
DESCRIPTION:Pianist Alex Pryrodny teams up with an award-winning tap dancer Alex MacDonald for an evening of piano and tap.
URL:https://www.huntingtonarts.org/event/st-johns-cultural-event-series-presents-tap-piano-show/
LOCATION:St. John\’s Church\, Huntington\, 12 Prospect Street\, Huntington\, NY\, 11743\, United States
CATEGORIES:Dance
ATTACH;FMTTYPE=image/png:https://www.huntingtonarts.org/wp-content/uploads/2022/08/TAP-PIANO-1.png
ORGANIZER;CN="St. John\'s Huntington":MAILTO:music@stjohnshuntington.org
END:VEVENT
BEGIN:VEVENT
DTSTART;TZID=America/New_York:20221009T140000
DTEND;TZID=America/New_York:20221009T160000
DTSTAMP:20260421T205911
CREATED:20220829T211035Z
LAST-MODIFIED:20220829T211035Z
UID:10004879-1665324000-1665331200@www.huntingtonarts.org
SUMMARY:Eglevsky Ballet Presents This Is Ballet NOW!
DESCRIPTION:The Eglevsky Ballet presents “This Is Ballet Now!” an exciting evening of dance honoring both the past and present state of ballet in the dance world. Featuring works from the classical ballet canon as well as new contemporary ballet choreographers Kevin Jenkins\, Morgan McEwan ( Artistic Director\, MorDance)\, Gabrielle Lamb (Artistic Director\, Pigeonwing Dance) and Maurice Brandon Curry\, the company’s Executive Artistic Director bring innovative dance theater to the stage. Performances are Saturday\, October 8th at 7PM and Sunday\, October 9th at 2PM at the Olmsted Theatre at Adelphi University. Tickets are $40
URL:https://www.huntingtonarts.org/event/eglevsky-ballet-presents-this-is-ballet-now/2022-10-09/
LOCATION:Adelphi University Performing Arts Center\, 1 South Avenue\, Garden City\, NY\, 11530\, United States
CATEGORIES:Dance
ATTACH;FMTTYPE=image/jpeg:https://www.huntingtonarts.org/wp-content/uploads/2022/08/ThisIsBalletNow-01-scaled-1.jpg
ORGANIZER;CN="Eglevsky Ballet":MAILTO:info@eglevsky.org
GEO:40.7187729;-73.6518032
X-APPLE-STRUCTURED-LOCATION;VALUE=URI;X-ADDRESS=Adelphi University Performing Arts Center 1 South Avenue Garden City NY 11530 United States;X-APPLE-RADIUS=500;X-TITLE=1 South Avenue:geo:-73.6518032,40.7187729
END:VEVENT
BEGIN:VEVENT
DTSTART;TZID=America/New_York:20220917T190000
DTEND;TZID=America/New_York:20220917T220000
DTSTAMP:20260421T205911
CREATED:20220816T194541Z
LAST-MODIFIED:20220816T194541Z
UID:10005055-1663441200-1663452000@www.huntingtonarts.org
SUMMARY:Sol y Sombra Performing at Hispanic Festival at the Patchogue Theater
DESCRIPTION:Sol y Sombra will be performing Flamenco as part of the Hispanic Chamber of Commerce’s of ATCHOGUE’S annual Hispanic Festival.
URL:https://www.huntingtonarts.org/event/sol-y-sombra-performing-at-hispanic-festival-at-the-patchogue-theater/
LOCATION:Patchogue Theatre of the Performing Arts\, 71 E Main St\, Patchogue\, 11772\, United States
CATEGORIES:Dance
ATTACH;FMTTYPE=image/jpeg:https://www.huntingtonarts.org/wp-content/uploads/2022/08/GiseleHP22-scaled-1.jpg
GEO:40.7658772;-73.0134773
X-APPLE-STRUCTURED-LOCATION;VALUE=URI;X-ADDRESS=Patchogue Theatre of the Performing Arts 71 E Main St Patchogue 11772 United States;X-APPLE-RADIUS=500;X-TITLE=71 E Main St:geo:-73.0134773,40.7658772
END:VEVENT
BEGIN:VEVENT
DTSTART;TZID=America/New_York:20220701T200000
DTEND;TZID=America/New_York:20220701T220000
DTSTAMP:20260421T205911
CREATED:20220324T215416Z
LAST-MODIFIED:20220324T215416Z
UID:10005223-1656705600-1656712800@www.huntingtonarts.org
SUMMARY:Long Island Dance Consortium presents A CELEBRATION OF DANCE
DESCRIPTION:Long Island Dance Consortium presents “A CELEBRATION OF DANCE 1” featuring The Red Hot Mamas\, a unique group of senior tap dancers\, who will perform with their usual sophistication and vivacity and the brilliant dancers of Long Island Academy of Dance Arts who will showcase their sensational virtuosity and cutting-edge choreography. The Dance Theatre Company will bring their upbeat style of Broadway jazz to the stage and Ohana Mokuloa will present traditional and breathtaking Hawaiian and Polynesian dances. The winners of the Rea Jacobs Dance Scholarship and the Sandi Bloomberg Dance Scholarship will perform exciting solos. A show that will delight you and make you smile!
URL:https://www.huntingtonarts.org/event/long-island-dance-consortium-presents-a-celebration-of-dance/
LOCATION:Heckscher Park\, Huntington\, 164 Main St. \, Huntington\, NY\, 11743\, United States
CATEGORIES:Dance
ATTACH;FMTTYPE=image/jpeg:https://www.huntingtonarts.org/wp-content/uploads/2022/03/LIDANCE-CO.-SPLIT-LEAP-1-scaled.jpg
GEO:40.8728839;-73.4222998
X-APPLE-STRUCTURED-LOCATION;VALUE=URI;X-ADDRESS=Heckscher Park Huntington 164 Main St.  Huntington NY 11743 United States;X-APPLE-RADIUS=500;X-TITLE=164 Main St.:geo:-73.4222998,40.8728839
END:VEVENT
END:VCALENDAR