BEGIN:VCALENDAR
VERSION:2.0
PRODID:-//Huntington Arts Council - ECPv6.15.20//NONSGML v1.0//EN
CALSCALE:GREGORIAN
METHOD:PUBLISH
X-WR-CALNAME:Huntington Arts Council
X-ORIGINAL-URL:https://www.huntingtonarts.org
X-WR-CALDESC:Events for Huntington Arts Council
REFRESH-INTERVAL;VALUE=DURATION:PT1H
X-Robots-Tag:noindex
X-PUBLISHED-TTL:PT1H
BEGIN:VTIMEZONE
TZID:America/New_York
BEGIN:DAYLIGHT
TZOFFSETFROM:-0500
TZOFFSETTO:-0400
TZNAME:EDT
DTSTART:20250309T070000
END:DAYLIGHT
BEGIN:STANDARD
TZOFFSETFROM:-0400
TZOFFSETTO:-0500
TZNAME:EST
DTSTART:20251102T060000
END:STANDARD
BEGIN:DAYLIGHT
TZOFFSETFROM:-0500
TZOFFSETTO:-0400
TZNAME:EDT
DTSTART:20260308T070000
END:DAYLIGHT
BEGIN:STANDARD
TZOFFSETFROM:-0400
TZOFFSETTO:-0500
TZNAME:EST
DTSTART:20261101T060000
END:STANDARD
BEGIN:DAYLIGHT
TZOFFSETFROM:-0500
TZOFFSETTO:-0400
TZNAME:EDT
DTSTART:20270314T070000
END:DAYLIGHT
BEGIN:STANDARD
TZOFFSETFROM:-0400
TZOFFSETTO:-0500
TZNAME:EST
DTSTART:20271107T060000
END:STANDARD
END:VTIMEZONE
BEGIN:VEVENT
DTSTART;TZID=America/New_York:20260421T193000
DTEND;TZID=America/New_York:20260421T220000
DTSTAMP:20260421T181212
CREATED:20260312T182027Z
LAST-MODIFIED:20260312T182027Z
UID:10022572-1776799800-1776808800@www.huntingtonarts.org
SUMMARY:Swing Dance Long Island presents the Mess Around Band and an Evening of Dancing
DESCRIPTION:Join us at the Huntington Moose Lodge for an evening of mostly Swing Dancing starting with a dance lesson at 7:30 PM. We’ll have the Mess Around Band playing a variety of music but it will be mostly swing dancing from 8 until 10 PM. Beginners and Singles are welcome. No partner required. Wear comfortable clothes. $15 for SDLI members and students\, $20 for non-SDLI members. Please check the website https://www.sdli.org for the latest information.
URL:https://www.huntingtonarts.org/event/swing-dance-long-island-presents-the-mess-around-band-and-an-evening-of-dancing/
LOCATION:Huntington Moose Lodge\, 631 Pulaski Road\, Greenlawn\, NY\, 11740\, United States
CATEGORIES:Dance
ATTACH;FMTTYPE=image/png:https://www.huntingtonarts.org/wp-content/uploads/2026/03/SDLI-2026-01-08-postcard-2.png
ORGANIZER;CN="Swing Dance Long Island":MAILTO:info@sdli.org
END:VEVENT
BEGIN:VEVENT
DTSTART;TZID=America/New_York:20260426T170000
DTEND;TZID=America/New_York:20260426T181500
DTSTAMP:20260421T181212
CREATED:20260316T190741Z
LAST-MODIFIED:20260405T204544Z
UID:10022832-1777222800-1777227300@www.huntingtonarts.org
SUMMARY:Dance Visions NY presents “There But by Fortune” for SPARK Theatre Festival
DESCRIPTION:Choreographer. Beth Jucovy premieres her new work at the prestigious SPARK Theatre Festival at the 28th St Theatre\, NYC. There But by Fortune is a theatrical dance work incorporating live song that explores emotional and moral complexities of family\, dependence\, and power buffeted by the inequities of fortune and circumstance. The work invites audiences to question success and systems enabling exploitation\, both within personal relationships and a broader social and political context. With Beth Jucovy and Louisa Armstrong-Harrison and a chorus of company dancers as well as Farah Chandu and the Willow Women’s Choir.\n*This work is supported by Long Island Grants for the Arts through funds provided by the office of the Governor and the New York State Legislature\, and administered by The Huntington Arts Council.
URL:https://www.huntingtonarts.org/event/dance-visions-ny-presents-there-but-by-fortune-for-spark-theatre-festival/
LOCATION:Tada! Theatre/28th St Theatre\, 15 W. 28th Street\, 2nd Fl\, 10001\, New York\, 10001\, United States
CATEGORIES:Dance,Music,Theater
ATTACH;FMTTYPE=image/png:https://www.huntingtonarts.org/wp-content/uploads/2026/03/There-but-by-Fortune.-image.png
ORGANIZER;CN="Dance Visions NY":MAILTO:dancevisions.ny@gmail.com
END:VEVENT
BEGIN:VEVENT
DTSTART;TZID=America/New_York:20260428T193000
DTEND;TZID=America/New_York:20260428T220000
DTSTAMP:20260421T181212
CREATED:20260312T182004Z
LAST-MODIFIED:20260312T182004Z
UID:10022700-1777404600-1777413600@www.huntingtonarts.org
SUMMARY:DJ Dancing with Swing Dance Long Island
DESCRIPTION:Join us at the Huntington Moose Lodge for an evening of mostly Swing Dancing starting with a dance lesson at 7:30 PM\, DJ music and mostly swing dancing from 8 until 10 PM. Beginners and Singles are welcome. No partner required. Wear comfortable clothes. $10 for SDLI members and students\, $15 for non-SDLI members. On the 4th Tuesday of the month we “usually” have Carol Fraser teaching a more advanced swing dance lesson. Please check the website: https://www.sdli.org for the latest information.
URL:https://www.huntingtonarts.org/event/dj-dancing-with-swing-dance-long-island-2/2026-04-28/
LOCATION:Huntington Moose Lodge\, 631 Pulaski Road\, Greenlawn\, NY\, 11740\, United States
CATEGORIES:Dance
ATTACH;FMTTYPE=image/png:https://www.huntingtonarts.org/wp-content/uploads/2026/03/SDLI-2026-01-08-postcard-1.png
ORGANIZER;CN="Swing Dance Long Island":MAILTO:info@sdli.org
END:VEVENT
END:VCALENDAR