BEGIN:VCALENDAR
VERSION:2.0
PRODID:-//Huntington Arts Council - ECPv6.15.20//NONSGML v1.0//EN
CALSCALE:GREGORIAN
METHOD:PUBLISH
X-ORIGINAL-URL:https://www.huntingtonarts.org
X-WR-CALDESC:Events for Huntington Arts Council
REFRESH-INTERVAL;VALUE=DURATION:PT1H
X-Robots-Tag:noindex
X-PUBLISHED-TTL:PT1H
BEGIN:VTIMEZONE
TZID:America/New_York
BEGIN:DAYLIGHT
TZOFFSETFROM:-0500
TZOFFSETTO:-0400
TZNAME:EDT
DTSTART:20250309T070000
END:DAYLIGHT
BEGIN:STANDARD
TZOFFSETFROM:-0400
TZOFFSETTO:-0500
TZNAME:EST
DTSTART:20251102T060000
END:STANDARD
BEGIN:DAYLIGHT
TZOFFSETFROM:-0500
TZOFFSETTO:-0400
TZNAME:EDT
DTSTART:20260308T070000
END:DAYLIGHT
BEGIN:STANDARD
TZOFFSETFROM:-0400
TZOFFSETTO:-0500
TZNAME:EST
DTSTART:20261101T060000
END:STANDARD
BEGIN:DAYLIGHT
TZOFFSETFROM:-0500
TZOFFSETTO:-0400
TZNAME:EDT
DTSTART:20270314T070000
END:DAYLIGHT
BEGIN:STANDARD
TZOFFSETFROM:-0400
TZOFFSETTO:-0500
TZNAME:EST
DTSTART:20271107T060000
END:STANDARD
END:VTIMEZONE
BEGIN:VEVENT
DTSTART;TZID=America/New_York:20260526T193000
DTEND;TZID=America/New_York:20260526T220000
DTSTAMP:20260421T223836
CREATED:20260312T182043Z
LAST-MODIFIED:20260316T145144Z
UID:10022573-1779823800-1779832800@www.huntingtonarts.org
SUMMARY:Swing Dance Long Island Presents the Gene Casey and the Lone Sharks and an Evening of Dancing
DESCRIPTION:Normally SDLI has a live band on the 3rd Tuesday (and an extra live band on months with a 5th Tuesday) but this month we need to change it up a bit.  The dance floor at the Moose Lodge is being replaced.   Luckily Gene Casey and the Lone Sharks are available to play for our listening and dancing pleasure with only a one week delay… Join us to break in the newly refurbished dance floor at the Huntington Moose Lodge. \nJoin us at the Huntington Moose Lodge for an evening of mostly Swing Dancing starting with a dance lesson at 7:30 PM. We’ll have Gene Casey and the Lone Sharks playing a variety of music but it will be mostly swing dancing and a bit of Rock-A-Billy from 8 until 10 PM. Beginners and Singles are welcome. No partner required. Wear comfortable clothes. $15 for SDLI members and students\, $20 for non-SDLI members. Please check the website https://www.sdli.org for the latest information.
URL:https://www.huntingtonarts.org/event/swing-dance-long-island-presents-the-gene-casey-and-the-lone-sharks-and-an-evening-of-dancing/
LOCATION:Huntington Moose Lodge\, 631 Pulaski Road\, Greenlawn\, NY\, 11740\, United States
CATEGORIES:Dance
ATTACH;FMTTYPE=image/png:https://www.huntingtonarts.org/wp-content/uploads/2026/03/SDLI-2026-01-08-postcard-3.png
ORGANIZER;CN="Swing Dance Long Island":MAILTO:info@sdli.org
END:VEVENT
END:VCALENDAR