BEGIN:VCALENDAR
VERSION:2.0
PRODID:-//Huntington Arts Council - ECPv6.15.20//NONSGML v1.0//EN
CALSCALE:GREGORIAN
METHOD:PUBLISH
X-WR-CALNAME:Huntington Arts Council
X-ORIGINAL-URL:https://www.huntingtonarts.org
X-WR-CALDESC:Events for Huntington Arts Council
REFRESH-INTERVAL;VALUE=DURATION:PT1H
X-Robots-Tag:noindex
X-PUBLISHED-TTL:PT1H
BEGIN:VTIMEZONE
TZID:America/New_York
BEGIN:DAYLIGHT
TZOFFSETFROM:-0500
TZOFFSETTO:-0400
TZNAME:EDT
DTSTART:20250309T070000
END:DAYLIGHT
BEGIN:STANDARD
TZOFFSETFROM:-0400
TZOFFSETTO:-0500
TZNAME:EST
DTSTART:20251102T060000
END:STANDARD
BEGIN:DAYLIGHT
TZOFFSETFROM:-0500
TZOFFSETTO:-0400
TZNAME:EDT
DTSTART:20260308T070000
END:DAYLIGHT
BEGIN:STANDARD
TZOFFSETFROM:-0400
TZOFFSETTO:-0500
TZNAME:EST
DTSTART:20261101T060000
END:STANDARD
BEGIN:DAYLIGHT
TZOFFSETFROM:-0500
TZOFFSETTO:-0400
TZNAME:EDT
DTSTART:20270314T070000
END:DAYLIGHT
BEGIN:STANDARD
TZOFFSETFROM:-0400
TZOFFSETTO:-0500
TZNAME:EST
DTSTART:20271107T060000
END:STANDARD
END:VTIMEZONE
BEGIN:VEVENT
DTSTART;TZID=America/New_York:20260602T193000
DTEND;TZID=America/New_York:20260602T220000
DTSTAMP:20260421T234244
CREATED:20260312T182412Z
LAST-MODIFIED:20260312T182412Z
UID:10022641-1780428600-1780437600@www.huntingtonarts.org
SUMMARY:Pizza Night with Swing Dance Long Island
DESCRIPTION:Pizza will be served at Swing Dance Long Island’s Tuesday dance on the first Tuesday of each month at the Huntington Moose Lodge in Greenlawn. Lesson at 7:30PM and social swing dancing at 8PM. No partner is necessary and beginners are welcome. $10 for SDLI members and students\, $15 for non-SDLI members. Please check the website: https://www.sdli.org for the latest information.
URL:https://www.huntingtonarts.org/event/pizza-night-with-swing-dance-long-island/2026-06-02/
LOCATION:Huntington Moose Lodge\, 631 Pulaski Road\, Greenlawn\, NY\, 11740\, United States
CATEGORIES:Dance
ATTACH;FMTTYPE=image/png:https://www.huntingtonarts.org/wp-content/uploads/2026/03/SDLI-PizzaNight.png
ORGANIZER;CN="Swing Dance Long Island":MAILTO:info@sdli.org
END:VEVENT
BEGIN:VEVENT
DTSTART;TZID=America/New_York:20260609T193000
DTEND;TZID=America/New_York:20260609T220000
DTSTAMP:20260421T234244
CREATED:20260312T181949Z
LAST-MODIFIED:20260312T181949Z
UID:10022761-1781033400-1781042400@www.huntingtonarts.org
SUMMARY:DJ Dancing with Swing Dance Long Island
DESCRIPTION:Join us at the Huntington Moose Lodge for an evening of mostly Swing Dancing starting with a dance lesson at 7:30 PM\, DJ music and mostly swing dancing from 8 until 10 PM. Beginners and Singles are welcome. No partner required. Wear comfortable clothes. $10 for SDLI members and students\, $15 for non-SDLI members. On the 2nd Tuesday of the month we often have a guest instructor teaching either West Coast Swing or some other form of dance. Please check the web site: https://www.sdli.org for the latest information.
URL:https://www.huntingtonarts.org/event/dj-dancing-with-swing-dance-long-island/2026-06-09/
LOCATION:Huntington Moose Lodge\, 631 Pulaski Road\, Greenlawn\, NY\, 11740\, United States
CATEGORIES:Dance
ATTACH;FMTTYPE=image/png:https://www.huntingtonarts.org/wp-content/uploads/2026/03/SDLI-2026-01-08-postcard.png
ORGANIZER;CN="Swing Dance Long Island":MAILTO:info@sdli.org
END:VEVENT
BEGIN:VEVENT
DTSTART;TZID=America/New_York:20260614T140000
DTEND;TZID=America/New_York:20260614T170000
DTSTAMP:20260421T234244
CREATED:20251112T172209Z
LAST-MODIFIED:20260103T161336Z
UID:10017510-1781445600-1781456400@www.huntingtonarts.org
SUMMARY:Long Island Traditional Music Association presents LITMA Smithtown Contradance
DESCRIPTION:Contradance for all. \nAll dances taught. \nBeginners\, singles and families welcome
URL:https://www.huntingtonarts.org/event/long-island-traditional-music-association-presents-litma-smithtown-contradance/2026-06-14/
LOCATION:Smithtown Historical Society Brush Barn\, 211 E Main St\, Smithtown\, 11787\, United States
CATEGORIES:Dance
ATTACH;FMTTYPE=image/png:https://www.huntingtonarts.org/wp-content/uploads/2025/11/LogoLowRes-1.png
ORGANIZER;CN="Long Island Traditional Music Association(LITMA)":MAILTO:lapeherb@gmail.com
END:VEVENT
BEGIN:VEVENT
DTSTART;TZID=America/New_York:20260616T193000
DTEND;TZID=America/New_York:20260616T220000
DTSTAMP:20260421T234244
CREATED:20260312T182202Z
LAST-MODIFIED:20260312T182202Z
UID:10022574-1781638200-1781647200@www.huntingtonarts.org
SUMMARY:Swing Dance Long Island presents Roy Wilson and the Buzzards and an Evening of Dancing
DESCRIPTION:Join us at the Huntington Moose Lodge for an evening of mostly Swing Dancing starting with a dance lesson at 7:30 PM. We’ll have Roy Wilson and the Buzzards playing a variety of music but it will be mostly swing dancing and Rock-A-Billy from 8 until 10 PM. Beginners and Singles are welcome. No partner required. Wear comfortable clothes. $15 for SDLI members and students\, $20 for non-SDLI members. Please check the website https://www.sdli.org for the latest information.
URL:https://www.huntingtonarts.org/event/swing-dance-long-island-presents-roy-wilson-and-the-buzzards-and-an-evening-of-dancing/
LOCATION:Huntington Moose Lodge\, 631 Pulaski Road\, Greenlawn\, NY\, 11740\, United States
CATEGORIES:Dance
ATTACH;FMTTYPE=image/png:https://www.huntingtonarts.org/wp-content/uploads/2026/03/SDLI-2026-01-08-postcard-4.png
ORGANIZER;CN="Swing Dance Long Island":MAILTO:info@sdli.org
END:VEVENT
BEGIN:VEVENT
DTSTART;TZID=America/New_York:20260623T193000
DTEND;TZID=America/New_York:20260623T220000
DTSTAMP:20260421T234244
CREATED:20260312T182004Z
LAST-MODIFIED:20260312T182004Z
UID:10022702-1782243000-1782252000@www.huntingtonarts.org
SUMMARY:DJ Dancing with Swing Dance Long Island
DESCRIPTION:Join us at the Huntington Moose Lodge for an evening of mostly Swing Dancing starting with a dance lesson at 7:30 PM\, DJ music and mostly swing dancing from 8 until 10 PM. Beginners and Singles are welcome. No partner required. Wear comfortable clothes. $10 for SDLI members and students\, $15 for non-SDLI members. On the 4th Tuesday of the month we “usually” have Carol Fraser teaching a more advanced swing dance lesson. Please check the website: https://www.sdli.org for the latest information.
URL:https://www.huntingtonarts.org/event/dj-dancing-with-swing-dance-long-island-2/2026-06-23/
LOCATION:Huntington Moose Lodge\, 631 Pulaski Road\, Greenlawn\, NY\, 11740\, United States
CATEGORIES:Dance
ATTACH;FMTTYPE=image/png:https://www.huntingtonarts.org/wp-content/uploads/2026/03/SDLI-2026-01-08-postcard-1.png
ORGANIZER;CN="Swing Dance Long Island":MAILTO:info@sdli.org
END:VEVENT
BEGIN:VEVENT
DTSTART;TZID=America/New_York:20260630T193000
DTEND;TZID=America/New_York:20260630T220000
DTSTAMP:20260421T234244
CREATED:20260312T182232Z
LAST-MODIFIED:20260312T182232Z
UID:10022575-1782847800-1782856800@www.huntingtonarts.org
SUMMARY:Swing Dance Long Island presents The Brian Lewis New Vintage Orchestra and an Evening of Dancing
DESCRIPTION:Join us at the Huntington Moose Lodge for an evening of mostly Swing Dancing starting with a dance lesson at 7:30 PM. We’ll have the Brian Lewis New Vintage Orchestra playing a variety of music. It will be mostly swing dancing from 8 until 10 PM. Beginners and Singles are welcome. No partner required. Wear comfortable clothes. $15 for SDLI members and students\, $20 for non-SDLI members. Please check the website https://www.sdli.org for the latest information.
URL:https://www.huntingtonarts.org/event/swing-dance-long-island-presents-the-brian-lewis-new-vintage-orchestra-and-an-evening-of-dancing/
LOCATION:Huntington Moose Lodge\, 631 Pulaski Road\, Greenlawn\, NY\, 11740\, United States
CATEGORIES:Dance
ATTACH;FMTTYPE=image/png:https://www.huntingtonarts.org/wp-content/uploads/2026/03/SDLI-2026-01-08-postcard-5.png
ORGANIZER;CN="Swing Dance Long Island":MAILTO:info@sdli.org
END:VEVENT
END:VCALENDAR