BEGIN:VCALENDAR
VERSION:2.0
PRODID:-//Huntington Arts Council - ECPv6.15.20//NONSGML v1.0//EN
CALSCALE:GREGORIAN
METHOD:PUBLISH
X-WR-CALNAME:Huntington Arts Council
X-ORIGINAL-URL:https://www.huntingtonarts.org
X-WR-CALDESC:Events for Huntington Arts Council
REFRESH-INTERVAL;VALUE=DURATION:PT1H
X-Robots-Tag:noindex
X-PUBLISHED-TTL:PT1H
BEGIN:VTIMEZONE
TZID:America/New_York
BEGIN:DAYLIGHT
TZOFFSETFROM:-0500
TZOFFSETTO:-0400
TZNAME:EDT
DTSTART:20250309T070000
END:DAYLIGHT
BEGIN:STANDARD
TZOFFSETFROM:-0400
TZOFFSETTO:-0500
TZNAME:EST
DTSTART:20251102T060000
END:STANDARD
BEGIN:DAYLIGHT
TZOFFSETFROM:-0500
TZOFFSETTO:-0400
TZNAME:EDT
DTSTART:20260308T070000
END:DAYLIGHT
BEGIN:STANDARD
TZOFFSETFROM:-0400
TZOFFSETTO:-0500
TZNAME:EST
DTSTART:20261101T060000
END:STANDARD
BEGIN:DAYLIGHT
TZOFFSETFROM:-0500
TZOFFSETTO:-0400
TZNAME:EDT
DTSTART:20270314T070000
END:DAYLIGHT
BEGIN:STANDARD
TZOFFSETFROM:-0400
TZOFFSETTO:-0500
TZNAME:EST
DTSTART:20271107T060000
END:STANDARD
END:VTIMEZONE
BEGIN:VEVENT
DTSTART;TZID=America/New_York:20260308T100000
DTEND;TZID=America/New_York:20260308T120000
DTSTAMP:20260421T205806
CREATED:20260227T195457Z
LAST-MODIFIED:20260227T195656Z
UID:10022439-1772964000-1772971200@www.huntingtonarts.org
SUMMARY:Huntington Arts Council\, Long Island Grants for the Arts Artist Fellowship Performer Spotlight Celebrating International Women’s Day at the Reboli Center
DESCRIPTION:As part of our Artist Fellowship Experience\, The Reboli Center will host a special International Women’s Day celebration honoring the creativity\, strength\, and artistic excellence of women in the arts. This inspiring morning program features performances by LI Grants for the Arts\, Artist Fellows Jessica Payes\, Michelle La Porte\, and Margarita Espada\, three dynamic artists whose work reflects the power and diversity of women’s voices. Through spoken word\, music\, and performance\, they will share artistry that is bold\, expressive\, and impactful. Free to attend by R.S.V.P only. Reserve your spot at ReboliCenter.org
URL:https://www.huntingtonarts.org/event/huntington-art-council-long-island-grants-for-the-arts-artist-fellowship-performer-spotlight-celebrating-international-womens-day-at-the-reboli-center/
LOCATION:The Reboli Center for Art and History\, 64 Main Street\, Stony Brook\, 11709\, United States
CATEGORIES:Dance,Music,Poetry
ATTACH;FMTTYPE=image/png:https://www.huntingtonarts.org/wp-content/uploads/2026/02/PERFORMER-SPOTLIGHT-1.png
ORGANIZER;CN="Huntington Arts Council%2C Inc.":MAILTO:info@huntingtonarts.org
END:VEVENT
BEGIN:VEVENT
DTSTART;TZID=America/New_York:20260308T140000
DTEND;TZID=America/New_York:20260308T170000
DTSTAMP:20260421T205806
CREATED:20251112T172209Z
LAST-MODIFIED:20260103T161336Z
UID:10017507-1772978400-1772989200@www.huntingtonarts.org
SUMMARY:Long Island Traditional Music Association presents LITMA Smithtown Contradance
DESCRIPTION:Contradance for all. \nAll dances taught. \nBeginners\, singles and families welcome
URL:https://www.huntingtonarts.org/event/long-island-traditional-music-association-presents-litma-smithtown-contradance/2026-03-08/
LOCATION:Smithtown Historical Society Brush Barn\, 211 E Main St\, Smithtown\, 11787\, United States
CATEGORIES:Dance
ATTACH;FMTTYPE=image/png:https://www.huntingtonarts.org/wp-content/uploads/2025/11/LogoLowRes-1.png
ORGANIZER;CN="Long Island Traditional Music Association(LITMA)":MAILTO:lapeherb@gmail.com
END:VEVENT
BEGIN:VEVENT
DTSTART;TZID=America/New_York:20260317T193000
DTEND;TZID=America/New_York:20260317T220000
DTSTAMP:20260421T205806
CREATED:20260311T145503Z
LAST-MODIFIED:20260311T145503Z
UID:10022447-1773775800-1773784800@www.huntingtonarts.org
SUMMARY:Swing Dance Long Island presents the Madeline Kole Quartet and an Evening of Dancing
DESCRIPTION:Join your friends at Swing Dance Long Island on Tuesday evening. There will be a drop in swing dance lesson at 7:30PM followed by social swing dancing to the music of the Madeline Kole Quartet. The band begins at 8PM. We’ll also be celebrating St. Patricks Day so come an’ be Irish with a bit o the wearin’ o the green.
URL:https://www.huntingtonarts.org/event/swing-dance-long-island-presents-the-madeline-kole-quartet-and-an-evening-of-dancing/
LOCATION:Huntington Moose Lodge\, 631 Pulaski Road\, Greenlawn\, NY\, 11740\, United States
CATEGORIES:Dance
ATTACH;FMTTYPE=image/png:https://www.huntingtonarts.org/wp-content/uploads/2026/03/Screenshot-2026-03-10-at-16.54.18.png
ORGANIZER;CN="Swing Dance Long Island":MAILTO:info@sdli.org
END:VEVENT
BEGIN:VEVENT
DTSTART;TZID=America/New_York:20260324T193000
DTEND;TZID=America/New_York:20260324T220000
DTSTAMP:20260421T205806
CREATED:20260312T182004Z
LAST-MODIFIED:20260312T182004Z
UID:10022699-1774380600-1774389600@www.huntingtonarts.org
SUMMARY:DJ Dancing with Swing Dance Long Island
DESCRIPTION:Join us at the Huntington Moose Lodge for an evening of mostly Swing Dancing starting with a dance lesson at 7:30 PM\, DJ music and mostly swing dancing from 8 until 10 PM. Beginners and Singles are welcome. No partner required. Wear comfortable clothes. $10 for SDLI members and students\, $15 for non-SDLI members. On the 4th Tuesday of the month we “usually” have Carol Fraser teaching a more advanced swing dance lesson. Please check the website: https://www.sdli.org for the latest information.
URL:https://www.huntingtonarts.org/event/dj-dancing-with-swing-dance-long-island-2/2026-03-24/
LOCATION:Huntington Moose Lodge\, 631 Pulaski Road\, Greenlawn\, NY\, 11740\, United States
CATEGORIES:Dance
ATTACH;FMTTYPE=image/png:https://www.huntingtonarts.org/wp-content/uploads/2026/03/SDLI-2026-01-08-postcard-1.png
ORGANIZER;CN="Swing Dance Long Island":MAILTO:info@sdli.org
END:VEVENT
BEGIN:VEVENT
DTSTART;TZID=America/New_York:20260331T193000
DTEND;TZID=America/New_York:20260331T220000
DTSTAMP:20260421T205806
CREATED:20260311T145933Z
LAST-MODIFIED:20260311T145933Z
UID:10022448-1774985400-1774994400@www.huntingtonarts.org
SUMMARY:Swing Dance with the Playing Favorites Band
DESCRIPTION:Join your friends at Swing Dance Long Island on Tuesday evening. There will be a drop in swing fundamentals dance lesson at 7:30PM to get you on the floor. Social swing dancing will begin at 8PM with the Playing Favorites Band. Singles and beginners are welcome\, no partner is necessary.
URL:https://www.huntingtonarts.org/event/swing-dance-with-the-playing-favorites-band/
LOCATION:Huntington Moose Lodge\, 631 Pulaski Road\, Greenlawn\, NY\, 11740\, United States
CATEGORIES:Dance
ATTACH;FMTTYPE=image/png:https://www.huntingtonarts.org/wp-content/uploads/2026/03/Screenshot-2026-03-10-at-16.54.18-1.png
ORGANIZER;CN="Swing Dance Long Island":MAILTO:info@sdli.org
END:VEVENT
END:VCALENDAR