BEGIN:VCALENDAR
VERSION:2.0
PRODID:-//Huntington Arts Council - ECPv6.15.20//NONSGML v1.0//EN
CALSCALE:GREGORIAN
METHOD:PUBLISH
X-WR-CALNAME:Huntington Arts Council
X-ORIGINAL-URL:https://www.huntingtonarts.org
X-WR-CALDESC:Events for Huntington Arts Council
REFRESH-INTERVAL;VALUE=DURATION:PT1H
X-Robots-Tag:noindex
X-PUBLISHED-TTL:PT1H
BEGIN:VTIMEZONE
TZID:America/New_York
BEGIN:DAYLIGHT
TZOFFSETFROM:-0500
TZOFFSETTO:-0400
TZNAME:EDT
DTSTART:20250309T070000
END:DAYLIGHT
BEGIN:STANDARD
TZOFFSETFROM:-0400
TZOFFSETTO:-0500
TZNAME:EST
DTSTART:20251102T060000
END:STANDARD
BEGIN:DAYLIGHT
TZOFFSETFROM:-0500
TZOFFSETTO:-0400
TZNAME:EDT
DTSTART:20260308T070000
END:DAYLIGHT
BEGIN:STANDARD
TZOFFSETFROM:-0400
TZOFFSETTO:-0500
TZNAME:EST
DTSTART:20261101T060000
END:STANDARD
BEGIN:DAYLIGHT
TZOFFSETFROM:-0500
TZOFFSETTO:-0400
TZNAME:EDT
DTSTART:20270314T070000
END:DAYLIGHT
BEGIN:STANDARD
TZOFFSETFROM:-0400
TZOFFSETTO:-0500
TZNAME:EST
DTSTART:20271107T060000
END:STANDARD
END:VTIMEZONE
BEGIN:VEVENT
DTSTART;VALUE=DATE:20260406
DTEND;VALUE=DATE:20260614
DTSTAMP:20260422T030715
CREATED:20260122T193742Z
LAST-MODIFIED:20260312T150045Z
UID:10022820-1775433600-1781395199@www.huntingtonarts.org
SUMMARY:Spirit of Huntington presents Drawing and Painting Class
DESCRIPTION:This expressive art program invites students to explore art through both learning and doing. Each session begins with a brief\, engaging introduction to a featured artist and their work. Students then create their own art using guided techniques and a range of materials—including watercolor\, pencil\, pastels\, and charcoal—while focusing on self-expression\, creativity\, and confidence rather than perfection. Our art classes are open to all abilities\, all ages\, and all levels of experience! \nIN PERSON CLASSES\nMondays: 5:00pm-6:30pm\nWednesdays: 3:00pm-4:15pm\nThursdays: 1:30pm-2:45pm\nSaturdays: 10:30am-12:00pm \nVIRTUAL CLASSES (Join us on Zoom!)\nSaturdays: 12:30pm-1:30pm \nPRICE\n$75 per class or 5 for $300 \nPlease call Michael D at 631-533-9639 for more info!
URL:https://www.huntingtonarts.org/event/spirit-of-huntington-presents-drawing-and-painting-class/2026-04-06/
LOCATION:Spirit of Huntington\, 2 Melville Rd. N.\, Huntington Station\, 11746\, United States
CATEGORIES:Art Demo,Children and Family,History,Workshop Classes
ATTACH;FMTTYPE=image/png:https://www.huntingtonarts.org/wp-content/uploads/2026/01/Art.png
ORGANIZER;CN="Spirit of Huntington":MAILTO:michaeld@spiritofhuntington.com
END:VEVENT
BEGIN:VEVENT
DTSTART;VALUE=DATE:20260406
DTEND;VALUE=DATE:20260614
DTSTAMP:20260422T030715
CREATED:20260122T193802Z
LAST-MODIFIED:20260312T145929Z
UID:10022819-1775433600-1781395199@www.huntingtonarts.org
SUMMARY:Spirit of Huntington presents Ceramics Class
DESCRIPTION:In this innovative program\, we teach individuals to ignite their passion for creative expression through physical interaction with clay. Students create their own pieces that are then kiln fired\, and glazed with colors of their choice. \nHAND BUILDING CLASSES (Guided class for those new to clay)\nThursdays: 3:00pm-4:30pm\nThursdays: 5:30pm-7:30pm\nWednesdays: 5:30pm-7:30pm\n$75 per class\n5 for $300\n10 for $590 \nWHEEL THROWING CLASSES (6 weeks)\nMondays 5:30pm-7:30pm\nTuesdays: 5:30pm-7:30pm\n$350 + $40 Clay/$75 per class \nWHEEL THROWING/HAND BUILDING (8 weeks)\nTuesdays: 10:00am-1:00pm\nThursdays: 10:00am-1:00pm\n$530 + $40 Clay/$75 per class \nKIDS SERIES (6 weeks)\nSaturdays: 9:30am-11:00am\n$250 + $40 Clay/$75 per class \nPlease call Michael D at 631-533-9639 for more info!
URL:https://www.huntingtonarts.org/event/spirit-of-huntington-presents-ceramics-class/2026-04-06/
LOCATION:Spirit of Huntington\, 2 Melville Rd. N.\, Huntington Station\, 11746\, United States
CATEGORIES:Art Demo,Children and Family,Workshop Classes
ATTACH;FMTTYPE=image/png:https://www.huntingtonarts.org/wp-content/uploads/2026/01/Clay.png
ORGANIZER;CN="Spirit of Huntington":MAILTO:michaeld@spiritofhuntington.com
END:VEVENT
BEGIN:VEVENT
DTSTART;TZID=America/New_York:20260428T193000
DTEND;TZID=America/New_York:20260428T210000
DTSTAMP:20260422T030715
CREATED:20260105T173124Z
LAST-MODIFIED:20260105T173124Z
UID:10018853-1777404600-1777410000@www.huntingtonarts.org
SUMMARY:Huntington Camera Club
DESCRIPTION:We meet at Huntington Public Library every Tuesday night to discuss photography. We have guest speakers\, member presentations\, in-house competitions and lots more. No photographic background is necessary but we do cover all levels of experience in our presentations. Visit our website for more information hccny.org
URL:https://www.huntingtonarts.org/event/huntington-camera-club-3/2026-04-28/
LOCATION:Huntington Public Library\, 338 Main Street\, Huntington\, 11743\, United States
CATEGORIES:Art Demo,Film/Media,History,Lectures,Workshop Classes
ATTACH;FMTTYPE=image/jpeg:https://www.huntingtonarts.org/wp-content/uploads/2025/12/HCC-logo-1.jpg
GEO:40.8705011;-73.4300972
X-APPLE-STRUCTURED-LOCATION;VALUE=URI;X-ADDRESS=Huntington Public Library 338 Main Street Huntington 11743 United States;X-APPLE-RADIUS=500;X-TITLE=338 Main Street:geo:-73.4300972,40.8705011
END:VEVENT
END:VCALENDAR