BEGIN:VCALENDAR
VERSION:2.0
PRODID:-//Huntington Arts Council - ECPv6.15.20//NONSGML v1.0//EN
CALSCALE:GREGORIAN
METHOD:PUBLISH
X-ORIGINAL-URL:https://www.huntingtonarts.org
X-WR-CALDESC:Events for Huntington Arts Council
REFRESH-INTERVAL;VALUE=DURATION:PT1H
X-Robots-Tag:noindex
X-PUBLISHED-TTL:PT1H
BEGIN:VTIMEZONE
TZID:America/New_York
BEGIN:DAYLIGHT
TZOFFSETFROM:-0500
TZOFFSETTO:-0400
TZNAME:EDT
DTSTART:20250309T070000
END:DAYLIGHT
BEGIN:STANDARD
TZOFFSETFROM:-0400
TZOFFSETTO:-0500
TZNAME:EST
DTSTART:20251102T060000
END:STANDARD
BEGIN:DAYLIGHT
TZOFFSETFROM:-0500
TZOFFSETTO:-0400
TZNAME:EDT
DTSTART:20260308T070000
END:DAYLIGHT
BEGIN:STANDARD
TZOFFSETFROM:-0400
TZOFFSETTO:-0500
TZNAME:EST
DTSTART:20261101T060000
END:STANDARD
BEGIN:DAYLIGHT
TZOFFSETFROM:-0500
TZOFFSETTO:-0400
TZNAME:EDT
DTSTART:20270314T070000
END:DAYLIGHT
BEGIN:STANDARD
TZOFFSETFROM:-0400
TZOFFSETTO:-0500
TZNAME:EST
DTSTART:20271107T060000
END:STANDARD
END:VTIMEZONE
BEGIN:VEVENT
DTSTART;VALUE=DATE:20260712
DTEND;VALUE=DATE:20260718
DTSTAMP:20260422T093250
CREATED:20260420T162904Z
LAST-MODIFIED:20260420T163323Z
UID:10024165-1783814400-1784332799@www.huntingtonarts.org
SUMMARY:Jan Guarino presents Fearless Watercolors at Omega Institute
DESCRIPTION:This program is a culmination of ideas I’ve discovered and techniques I’ve adapted from years of classes and workshops. It’s all guided by one goal: to help you interpret your subject in a way that feels unique\, fresh\, and truly worthy of becoming a painting. \nWatercolor is unlike any other medium—it has a mind of its own. That unpredictability can cause artists to freeze up and try to control every movement. \nIn this workshop\, you’ll learn how to work with the paint instead of against it. \nYou’ll discover techniques that help you feel free while still holding onto detail—how to gain control when you need it\, make corrections with confidence\, and actually enjoy the process. \nWe’ll explore how to trust your instincts with color\, build strong contrast\, and let blossoms\, drips\, and splatters become part of your expression—not mistakes.\nYou’ll also learn what makes a great reference photo so you can set yourself up for your best possible painting from the very beginning.\nI’ll share practical tools and solutions you can take with you and integrate into your own work right away.\nWhether you’re a beginner or have years of experience\, this workshop will give you insight\, clarity\, and techniques you can continue to build on.\nCome create something that feels like yours
URL:https://www.huntingtonarts.org/event/jan-guarino-presents-fearless-watercolors-at-omega-institute/
LOCATION:The Omega Institute\, 150 Lake Drive\, Rhinebeck\, NY\, 12572\, United States
CATEGORIES:Art Demo,Workshop Classes
ATTACH;FMTTYPE=image/jpeg:https://www.huntingtonarts.org/wp-content/uploads/2026/04/Sanctuary-scaled.jpg
ORGANIZER;CN="Jan Guarino":MAILTO:jan@janguarinofineart.com
END:VEVENT
END:VCALENDAR