BEGIN:VCALENDAR
VERSION:2.0
PRODID:-//Huntington Arts Council - ECPv6.15.20//NONSGML v1.0//EN
CALSCALE:GREGORIAN
METHOD:PUBLISH
X-WR-CALNAME:Huntington Arts Council
X-ORIGINAL-URL:https://www.huntingtonarts.org
X-WR-CALDESC:Events for Huntington Arts Council
REFRESH-INTERVAL;VALUE=DURATION:PT1H
X-Robots-Tag:noindex
X-PUBLISHED-TTL:PT1H
BEGIN:VTIMEZONE
TZID:America/New_York
BEGIN:DAYLIGHT
TZOFFSETFROM:-0500
TZOFFSETTO:-0400
TZNAME:EDT
DTSTART:20250309T070000
END:DAYLIGHT
BEGIN:STANDARD
TZOFFSETFROM:-0400
TZOFFSETTO:-0500
TZNAME:EST
DTSTART:20251102T060000
END:STANDARD
BEGIN:DAYLIGHT
TZOFFSETFROM:-0500
TZOFFSETTO:-0400
TZNAME:EDT
DTSTART:20260308T070000
END:DAYLIGHT
BEGIN:STANDARD
TZOFFSETFROM:-0400
TZOFFSETTO:-0500
TZNAME:EST
DTSTART:20261101T060000
END:STANDARD
BEGIN:DAYLIGHT
TZOFFSETFROM:-0500
TZOFFSETTO:-0400
TZNAME:EDT
DTSTART:20270314T070000
END:DAYLIGHT
BEGIN:STANDARD
TZOFFSETFROM:-0400
TZOFFSETTO:-0500
TZNAME:EST
DTSTART:20271107T060000
END:STANDARD
END:VTIMEZONE
BEGIN:VEVENT
DTSTART;TZID=America/New_York:20260618T110000
DTEND;TZID=America/New_York:20260730T140000
DTSTAMP:20260422T140527
CREATED:20260422T165751Z
LAST-MODIFIED:20260422T165751Z
UID:10024168-1781780400-1785420000@www.huntingtonarts.org
SUMMARY:Jan Guarino presents Fearless Watercolors In-Person
DESCRIPTION:Each week meet me in person for a 3 hour comprehensive class to learn how to paint landscapes\, lighthouses\, animals\, still life’s and florals in watercolors. Learn new techniques and build skills that allow you to enjoy the freedom of watercolors while adding details\, gain control and have fun with beautiful medium. You will receive the photo reference and a contour drawing before the class\, with a demo\, complete instruction and a critique in the class. \nNew dates: June 8\, 25\, July 3\, 9\, 3 & 30\nContact me if you are interested in joining me.\n6 for $285\, 5/$245\, 4/$202\, 3/$156\, 2/$107 or $55 per class as you go along.\nLet me know if you are interested and which dates you would like for me to reserve a seat for you. First come first serve.
URL:https://www.huntingtonarts.org/event/jan-guarino-presents-fearless-watercolors-in-person-2/
LOCATION:Huntington Arts Council\, 213 Main Street\, Huntington\, NY\, 11743\, United States
CATEGORIES:Art Demo
ATTACH;FMTTYPE=image/jpeg:https://www.huntingtonarts.org/wp-content/uploads/2026/04/The-Yellow-Bike-scaled.jpeg
ORGANIZER;CN="Jan Guarinio":MAILTO:jan@janguarinofineart.com
GEO:40.8721784;-73.4243051
X-APPLE-STRUCTURED-LOCATION;VALUE=URI;X-ADDRESS=Huntington Arts Council 213 Main Street Huntington NY 11743 United States;X-APPLE-RADIUS=500;X-TITLE=213 Main Street:geo:-73.4243051,40.8721784
END:VEVENT
END:VCALENDAR