BEGIN:VCALENDAR
VERSION:2.0
PRODID:-//Huntington Arts Council - ECPv6.15.20//NONSGML v1.0//EN
CALSCALE:GREGORIAN
METHOD:PUBLISH
X-WR-CALNAME:Huntington Arts Council
X-ORIGINAL-URL:https://www.huntingtonarts.org
X-WR-CALDESC:Events for Huntington Arts Council
REFRESH-INTERVAL;VALUE=DURATION:PT1H
X-Robots-Tag:noindex
X-PUBLISHED-TTL:PT1H
BEGIN:VTIMEZONE
TZID:America/New_York
BEGIN:DAYLIGHT
TZOFFSETFROM:-0500
TZOFFSETTO:-0400
TZNAME:EDT
DTSTART:20250309T070000
END:DAYLIGHT
BEGIN:STANDARD
TZOFFSETFROM:-0400
TZOFFSETTO:-0500
TZNAME:EST
DTSTART:20251102T060000
END:STANDARD
BEGIN:DAYLIGHT
TZOFFSETFROM:-0500
TZOFFSETTO:-0400
TZNAME:EDT
DTSTART:20260308T070000
END:DAYLIGHT
BEGIN:STANDARD
TZOFFSETFROM:-0400
TZOFFSETTO:-0500
TZNAME:EST
DTSTART:20261101T060000
END:STANDARD
BEGIN:DAYLIGHT
TZOFFSETFROM:-0500
TZOFFSETTO:-0400
TZNAME:EDT
DTSTART:20270314T070000
END:DAYLIGHT
BEGIN:STANDARD
TZOFFSETFROM:-0400
TZOFFSETTO:-0500
TZNAME:EST
DTSTART:20271107T060000
END:STANDARD
END:VTIMEZONE
BEGIN:VEVENT
DTSTART;TZID=America/New_York:20260611T183000
DTEND;TZID=America/New_York:20260611T200000
DTSTAMP:20260422T080419
CREATED:20260415T170223Z
LAST-MODIFIED:20260415T170223Z
UID:10023683-1781202600-1781208000@www.huntingtonarts.org
SUMMARY:The Whaling Museum presents Crafts & Cocktails: Beachy Windchimes
DESCRIPTION:Thurs. June 11 | 6:30 PM | Adults 21+ \nFrom musical windchimes to the great sails of tall ships\, discover the many fascinating ways humans have harnessed the power of wind through the centuries. Sip a Summer Wind cocktail or mocktail as you use driftwood\, seashells\, and frosted shard of sea glass to create a gorgeous set of chimes to hang up at home! \n$25 Member; $35 Participant
URL:https://www.huntingtonarts.org/event/the-whaling-museum-presents-crafts-cocktails-beachy-windchimes/
LOCATION:The Whaling Museum and Education Center\, 301 Main Street\, Cold Spring Harbor\, NY\, 11724\, United States
CATEGORIES:Art Demo,Exhibitions,History,Workshop Classes
ATTACH;FMTTYPE=image/jpeg:https://www.huntingtonarts.org/wp-content/uploads/2026/04/CC-Winchimes-2-scaled.jpeg
ORGANIZER;CN="The Whaling Museum and Education Center":MAILTO:jpalumbo@cshwhalingmuseum.org
GEO:40.8725752;-73.4541433
X-APPLE-STRUCTURED-LOCATION;VALUE=URI;X-ADDRESS=The Whaling Museum and Education Center 301 Main Street Cold Spring Harbor NY 11724 United States;X-APPLE-RADIUS=500;X-TITLE=301 Main Street:geo:-73.4541433,40.8725752
END:VEVENT
END:VCALENDAR