BEGIN:VCALENDAR
VERSION:2.0
PRODID:-//Huntington Arts Council - ECPv6.15.20//NONSGML v1.0//EN
CALSCALE:GREGORIAN
METHOD:PUBLISH
X-WR-CALNAME:Huntington Arts Council
X-ORIGINAL-URL:https://www.huntingtonarts.org
X-WR-CALDESC:Events for Huntington Arts Council
REFRESH-INTERVAL;VALUE=DURATION:PT1H
X-Robots-Tag:noindex
X-PUBLISHED-TTL:PT1H
BEGIN:VTIMEZONE
TZID:America/Montserrat
BEGIN:STANDARD
TZOFFSETFROM:-0400
TZOFFSETTO:-0400
TZNAME:AST
DTSTART:20250101T000000
END:STANDARD
END:VTIMEZONE
BEGIN:VEVENT
DTSTART;TZID=America/Montserrat:20260513T080000
DTEND;TZID=America/Montserrat:20260520T170000
DTSTAMP:20260422T063237
CREATED:20260105T173215Z
LAST-MODIFIED:20260105T173215Z
UID:10018914-1778659200-1779296400@www.huntingtonarts.org
SUMMARY:Artist Member Oksana Danziger presents Flowers in watercolor retreat in Provence France on May 2026
DESCRIPTION:Join artist Oksana Danziger for a week-long art retreat in Southern France\, where you’ll create your own collection of watercolor paintings and sketches inspired by the region’s enchanting landscapes\, golden light\, and timeless architecture. \nThis immersive French workshop is based in the historic town of Pézenas\, famous for its cobbled streets\, artisan boutiques\, and vibrant open-air cafés. During your free time\, explore charming markets\, meet local craftspeople\, and soak in the authentic atmosphere that has long inspired artists and writers. \nThroughout this watercolor art retreat\, Oksana will guide you in capturing the beauty of the region through plein air painting sessions. From the peaceful cloisters of a 12th-century abbey to the serene shores of the Canal du Midi\, each setting offers fresh inspiration for your Mediterranean artwork. A dedicated local guide will enrich your experience with fascinating cultural and historical insights into each painting location. \nYour home for the week is the elegant 4-star Garrigae Distillerie Spa Hotel\, just a 5-minute walk from Pézenas’ medieval center. Enjoy warm hospitality\, fresh-baked pastries each morning\, and exquisite Mediterranean cuisine at carefully selected gourmet restaurants. \nThis art retreat in France is designed for a small\, supportive group of 12 artists who enjoy painting\, cultural discovery\, and meaningful connection. Whether you’re a beginner or experienced painter\, you’ll find encouragement and creative growth in this inspiring environment. Non-painting partners and photo enthusiasts are also welcomed on this tour. A special program of guided visits is designed for them during the painting sessions.
URL:https://www.huntingtonarts.org/event/artist-member-oksana-danziger-presents-flowers-in-watercolor-retreat-in-provence-france-on-may-2026/
LOCATION:Please CHOOSE or add your venue!\, NY\, United States
CATEGORIES:Art Demo,Workshop Classes
ATTACH;FMTTYPE=image/jpeg:https://www.huntingtonarts.org/wp-content/uploads/2025/12/France-small.jpg
GEO:40.7127837;-74.0059413
END:VEVENT
END:VCALENDAR