BEGIN:VCALENDAR
VERSION:2.0
PRODID:-//Huntington Arts Council - ECPv6.15.20//NONSGML v1.0//EN
CALSCALE:GREGORIAN
METHOD:PUBLISH
X-ORIGINAL-URL:https://www.huntingtonarts.org
X-WR-CALDESC:Events for Huntington Arts Council
REFRESH-INTERVAL;VALUE=DURATION:PT1H
X-Robots-Tag:noindex
X-PUBLISHED-TTL:PT1H
BEGIN:VTIMEZONE
TZID:America/New_York
BEGIN:DAYLIGHT
TZOFFSETFROM:-0500
TZOFFSETTO:-0400
TZNAME:EDT
DTSTART:20250309T070000
END:DAYLIGHT
BEGIN:STANDARD
TZOFFSETFROM:-0400
TZOFFSETTO:-0500
TZNAME:EST
DTSTART:20251102T060000
END:STANDARD
BEGIN:DAYLIGHT
TZOFFSETFROM:-0500
TZOFFSETTO:-0400
TZNAME:EDT
DTSTART:20260308T070000
END:DAYLIGHT
BEGIN:STANDARD
TZOFFSETFROM:-0400
TZOFFSETTO:-0500
TZNAME:EST
DTSTART:20261101T060000
END:STANDARD
BEGIN:DAYLIGHT
TZOFFSETFROM:-0500
TZOFFSETTO:-0400
TZNAME:EDT
DTSTART:20270314T070000
END:DAYLIGHT
BEGIN:STANDARD
TZOFFSETFROM:-0400
TZOFFSETTO:-0500
TZNAME:EST
DTSTART:20271107T060000
END:STANDARD
BEGIN:DAYLIGHT
TZOFFSETFROM:-0500
TZOFFSETTO:-0400
TZNAME:EDT
DTSTART:20280312T070000
END:DAYLIGHT
BEGIN:STANDARD
TZOFFSETFROM:-0400
TZOFFSETTO:-0500
TZNAME:EST
DTSTART:20281105T060000
END:STANDARD
END:VTIMEZONE
BEGIN:VEVENT
DTSTART;TZID=America/New_York:20260825T140000
DTEND;TZID=America/New_York:20270202T100000
DTSTAMP:20260422T184645
CREATED:20260420T162442Z
LAST-MODIFIED:20260420T162442Z
UID:10024180-1787666400-1801562400@www.huntingtonarts.org
SUMMARY:Jan Guarino presents Fearless Watercolors On-Line Classes
DESCRIPTION:Watercolors are perceived as difficult\, unforgiving medium to paint in and the hardest to learn. I teach the beauty of how forgiving the medium really by painting landscapes\, florals\, waterscapes\, still lifes\, people… we paint anything and all things! \nYou will gain a new skill\, a deeper understanding of the medium and lose the fear around watercolors\, have fun and develop tangible ideas that they can use way beyond these classes. I simply LOVE this medium and long to embrace the unexpected and unusual effects of watercolors and integrate them into my paintings. \nCome in and lose your fear\, gain your skills and find your style!
URL:https://www.huntingtonarts.org/event/jan-guarino-presents-fearless-watercolors-on-line-classes/2026-08-25/
LOCATION:Zoom
CATEGORIES:Art Demo,Workshop Classes
ATTACH;FMTTYPE=image/jpeg:https://www.huntingtonarts.org/wp-content/uploads/2026/04/Peonies-3-scaled.jpg
ORGANIZER;CN="Jan Guarino":MAILTO:jan@janguarinofineart.com
END:VEVENT
BEGIN:VEVENT
DTSTART;TZID=America/New_York:20260901T140000
DTEND;TZID=America/New_York:20270209T100000
DTSTAMP:20260422T184645
CREATED:20260420T162442Z
LAST-MODIFIED:20260420T162442Z
UID:10024181-1788271200-1802167200@www.huntingtonarts.org
SUMMARY:Jan Guarino presents Fearless Watercolors On-Line Classes
DESCRIPTION:Watercolors are perceived as difficult\, unforgiving medium to paint in and the hardest to learn. I teach the beauty of how forgiving the medium really by painting landscapes\, florals\, waterscapes\, still lifes\, people… we paint anything and all things! \nYou will gain a new skill\, a deeper understanding of the medium and lose the fear around watercolors\, have fun and develop tangible ideas that they can use way beyond these classes. I simply LOVE this medium and long to embrace the unexpected and unusual effects of watercolors and integrate them into my paintings. \nCome in and lose your fear\, gain your skills and find your style!
URL:https://www.huntingtonarts.org/event/jan-guarino-presents-fearless-watercolors-on-line-classes/2026-09-01/
LOCATION:Zoom
CATEGORIES:Art Demo,Workshop Classes
ATTACH;FMTTYPE=image/jpeg:https://www.huntingtonarts.org/wp-content/uploads/2026/04/Peonies-3-scaled.jpg
ORGANIZER;CN="Jan Guarino":MAILTO:jan@janguarinofineart.com
END:VEVENT
BEGIN:VEVENT
DTSTART;TZID=America/New_York:20260908T140000
DTEND;TZID=America/New_York:20270216T100000
DTSTAMP:20260422T184645
CREATED:20260420T162442Z
LAST-MODIFIED:20260420T162442Z
UID:10024182-1788876000-1802772000@www.huntingtonarts.org
SUMMARY:Jan Guarino presents Fearless Watercolors On-Line Classes
DESCRIPTION:Watercolors are perceived as difficult\, unforgiving medium to paint in and the hardest to learn. I teach the beauty of how forgiving the medium really by painting landscapes\, florals\, waterscapes\, still lifes\, people… we paint anything and all things! \nYou will gain a new skill\, a deeper understanding of the medium and lose the fear around watercolors\, have fun and develop tangible ideas that they can use way beyond these classes. I simply LOVE this medium and long to embrace the unexpected and unusual effects of watercolors and integrate them into my paintings. \nCome in and lose your fear\, gain your skills and find your style!
URL:https://www.huntingtonarts.org/event/jan-guarino-presents-fearless-watercolors-on-line-classes/2026-09-08/
LOCATION:Zoom
CATEGORIES:Art Demo,Workshop Classes
ATTACH;FMTTYPE=image/jpeg:https://www.huntingtonarts.org/wp-content/uploads/2026/04/Peonies-3-scaled.jpg
ORGANIZER;CN="Jan Guarino":MAILTO:jan@janguarinofineart.com
END:VEVENT
BEGIN:VEVENT
DTSTART;TZID=America/New_York:20260915T140000
DTEND;TZID=America/New_York:20270223T100000
DTSTAMP:20260422T184645
CREATED:20260420T162442Z
LAST-MODIFIED:20260420T162442Z
UID:10024183-1789480800-1803376800@www.huntingtonarts.org
SUMMARY:Jan Guarino presents Fearless Watercolors On-Line Classes
DESCRIPTION:Watercolors are perceived as difficult\, unforgiving medium to paint in and the hardest to learn. I teach the beauty of how forgiving the medium really by painting landscapes\, florals\, waterscapes\, still lifes\, people… we paint anything and all things! \nYou will gain a new skill\, a deeper understanding of the medium and lose the fear around watercolors\, have fun and develop tangible ideas that they can use way beyond these classes. I simply LOVE this medium and long to embrace the unexpected and unusual effects of watercolors and integrate them into my paintings. \nCome in and lose your fear\, gain your skills and find your style!
URL:https://www.huntingtonarts.org/event/jan-guarino-presents-fearless-watercolors-on-line-classes/2026-09-15/
LOCATION:Zoom
CATEGORIES:Art Demo,Workshop Classes
ATTACH;FMTTYPE=image/jpeg:https://www.huntingtonarts.org/wp-content/uploads/2026/04/Peonies-3-scaled.jpg
ORGANIZER;CN="Jan Guarino":MAILTO:jan@janguarinofineart.com
END:VEVENT
BEGIN:VEVENT
DTSTART;TZID=America/New_York:20260922T140000
DTEND;TZID=America/New_York:20270302T100000
DTSTAMP:20260422T184645
CREATED:20260420T162442Z
LAST-MODIFIED:20260420T162442Z
UID:10024184-1790085600-1803981600@www.huntingtonarts.org
SUMMARY:Jan Guarino presents Fearless Watercolors On-Line Classes
DESCRIPTION:Watercolors are perceived as difficult\, unforgiving medium to paint in and the hardest to learn. I teach the beauty of how forgiving the medium really by painting landscapes\, florals\, waterscapes\, still lifes\, people… we paint anything and all things! \nYou will gain a new skill\, a deeper understanding of the medium and lose the fear around watercolors\, have fun and develop tangible ideas that they can use way beyond these classes. I simply LOVE this medium and long to embrace the unexpected and unusual effects of watercolors and integrate them into my paintings. \nCome in and lose your fear\, gain your skills and find your style!
URL:https://www.huntingtonarts.org/event/jan-guarino-presents-fearless-watercolors-on-line-classes/2026-09-22/
LOCATION:Zoom
CATEGORIES:Art Demo,Workshop Classes
ATTACH;FMTTYPE=image/jpeg:https://www.huntingtonarts.org/wp-content/uploads/2026/04/Peonies-3-scaled.jpg
ORGANIZER;CN="Jan Guarino":MAILTO:jan@janguarinofineart.com
END:VEVENT
BEGIN:VEVENT
DTSTART;TZID=America/New_York:20260929T140000
DTEND;TZID=America/New_York:20270309T100000
DTSTAMP:20260422T184645
CREATED:20260420T162442Z
LAST-MODIFIED:20260420T162442Z
UID:10024185-1790690400-1804586400@www.huntingtonarts.org
SUMMARY:Jan Guarino presents Fearless Watercolors On-Line Classes
DESCRIPTION:Watercolors are perceived as difficult\, unforgiving medium to paint in and the hardest to learn. I teach the beauty of how forgiving the medium really by painting landscapes\, florals\, waterscapes\, still lifes\, people… we paint anything and all things! \nYou will gain a new skill\, a deeper understanding of the medium and lose the fear around watercolors\, have fun and develop tangible ideas that they can use way beyond these classes. I simply LOVE this medium and long to embrace the unexpected and unusual effects of watercolors and integrate them into my paintings. \nCome in and lose your fear\, gain your skills and find your style!
URL:https://www.huntingtonarts.org/event/jan-guarino-presents-fearless-watercolors-on-line-classes/2026-09-29/
LOCATION:Zoom
CATEGORIES:Art Demo,Workshop Classes
ATTACH;FMTTYPE=image/jpeg:https://www.huntingtonarts.org/wp-content/uploads/2026/04/Peonies-3-scaled.jpg
ORGANIZER;CN="Jan Guarino":MAILTO:jan@janguarinofineart.com
END:VEVENT
BEGIN:VEVENT
DTSTART;TZID=America/New_York:20261006T140000
DTEND;TZID=America/New_York:20270316T110000
DTSTAMP:20260422T184645
CREATED:20260420T162442Z
LAST-MODIFIED:20260420T162442Z
UID:10024186-1791295200-1805194800@www.huntingtonarts.org
SUMMARY:Jan Guarino presents Fearless Watercolors On-Line Classes
DESCRIPTION:Watercolors are perceived as difficult\, unforgiving medium to paint in and the hardest to learn. I teach the beauty of how forgiving the medium really by painting landscapes\, florals\, waterscapes\, still lifes\, people… we paint anything and all things! \nYou will gain a new skill\, a deeper understanding of the medium and lose the fear around watercolors\, have fun and develop tangible ideas that they can use way beyond these classes. I simply LOVE this medium and long to embrace the unexpected and unusual effects of watercolors and integrate them into my paintings. \nCome in and lose your fear\, gain your skills and find your style!
URL:https://www.huntingtonarts.org/event/jan-guarino-presents-fearless-watercolors-on-line-classes/2026-10-06/
LOCATION:Zoom
CATEGORIES:Art Demo,Workshop Classes
ATTACH;FMTTYPE=image/jpeg:https://www.huntingtonarts.org/wp-content/uploads/2026/04/Peonies-3-scaled.jpg
ORGANIZER;CN="Jan Guarino":MAILTO:jan@janguarinofineart.com
END:VEVENT
BEGIN:VEVENT
DTSTART;TZID=America/New_York:20261013T140000
DTEND;TZID=America/New_York:20270323T110000
DTSTAMP:20260422T184645
CREATED:20260420T162442Z
LAST-MODIFIED:20260420T162442Z
UID:10024187-1791900000-1805799600@www.huntingtonarts.org
SUMMARY:Jan Guarino presents Fearless Watercolors On-Line Classes
DESCRIPTION:Watercolors are perceived as difficult\, unforgiving medium to paint in and the hardest to learn. I teach the beauty of how forgiving the medium really by painting landscapes\, florals\, waterscapes\, still lifes\, people… we paint anything and all things! \nYou will gain a new skill\, a deeper understanding of the medium and lose the fear around watercolors\, have fun and develop tangible ideas that they can use way beyond these classes. I simply LOVE this medium and long to embrace the unexpected and unusual effects of watercolors and integrate them into my paintings. \nCome in and lose your fear\, gain your skills and find your style!
URL:https://www.huntingtonarts.org/event/jan-guarino-presents-fearless-watercolors-on-line-classes/2026-10-13/
LOCATION:Zoom
CATEGORIES:Art Demo,Workshop Classes
ATTACH;FMTTYPE=image/jpeg:https://www.huntingtonarts.org/wp-content/uploads/2026/04/Peonies-3-scaled.jpg
ORGANIZER;CN="Jan Guarino":MAILTO:jan@janguarinofineart.com
END:VEVENT
BEGIN:VEVENT
DTSTART;TZID=America/New_York:20261020T140000
DTEND;TZID=America/New_York:20270330T110000
DTSTAMP:20260422T184645
CREATED:20260420T162442Z
LAST-MODIFIED:20260420T162442Z
UID:10024188-1792504800-1806404400@www.huntingtonarts.org
SUMMARY:Jan Guarino presents Fearless Watercolors On-Line Classes
DESCRIPTION:Watercolors are perceived as difficult\, unforgiving medium to paint in and the hardest to learn. I teach the beauty of how forgiving the medium really by painting landscapes\, florals\, waterscapes\, still lifes\, people… we paint anything and all things! \nYou will gain a new skill\, a deeper understanding of the medium and lose the fear around watercolors\, have fun and develop tangible ideas that they can use way beyond these classes. I simply LOVE this medium and long to embrace the unexpected and unusual effects of watercolors and integrate them into my paintings. \nCome in and lose your fear\, gain your skills and find your style!
URL:https://www.huntingtonarts.org/event/jan-guarino-presents-fearless-watercolors-on-line-classes/2026-10-20/
LOCATION:Zoom
CATEGORIES:Art Demo,Workshop Classes
ATTACH;FMTTYPE=image/jpeg:https://www.huntingtonarts.org/wp-content/uploads/2026/04/Peonies-3-scaled.jpg
ORGANIZER;CN="Jan Guarino":MAILTO:jan@janguarinofineart.com
END:VEVENT
BEGIN:VEVENT
DTSTART;TZID=America/New_York:20261027T140000
DTEND;TZID=America/New_York:20270406T110000
DTSTAMP:20260422T184645
CREATED:20260420T162442Z
LAST-MODIFIED:20260420T162442Z
UID:10024189-1793109600-1807009200@www.huntingtonarts.org
SUMMARY:Jan Guarino presents Fearless Watercolors On-Line Classes
DESCRIPTION:Watercolors are perceived as difficult\, unforgiving medium to paint in and the hardest to learn. I teach the beauty of how forgiving the medium really by painting landscapes\, florals\, waterscapes\, still lifes\, people… we paint anything and all things! \nYou will gain a new skill\, a deeper understanding of the medium and lose the fear around watercolors\, have fun and develop tangible ideas that they can use way beyond these classes. I simply LOVE this medium and long to embrace the unexpected and unusual effects of watercolors and integrate them into my paintings. \nCome in and lose your fear\, gain your skills and find your style!
URL:https://www.huntingtonarts.org/event/jan-guarino-presents-fearless-watercolors-on-line-classes/2026-10-27/
LOCATION:Zoom
CATEGORIES:Art Demo,Workshop Classes
ATTACH;FMTTYPE=image/jpeg:https://www.huntingtonarts.org/wp-content/uploads/2026/04/Peonies-3-scaled.jpg
ORGANIZER;CN="Jan Guarino":MAILTO:jan@janguarinofineart.com
END:VEVENT
BEGIN:VEVENT
DTSTART;TZID=America/New_York:20261103T140000
DTEND;TZID=America/New_York:20270413T120000
DTSTAMP:20260422T184645
CREATED:20260420T162442Z
LAST-MODIFIED:20260420T162442Z
UID:10024190-1793714400-1807617600@www.huntingtonarts.org
SUMMARY:Jan Guarino presents Fearless Watercolors On-Line Classes
DESCRIPTION:Watercolors are perceived as difficult\, unforgiving medium to paint in and the hardest to learn. I teach the beauty of how forgiving the medium really by painting landscapes\, florals\, waterscapes\, still lifes\, people… we paint anything and all things! \nYou will gain a new skill\, a deeper understanding of the medium and lose the fear around watercolors\, have fun and develop tangible ideas that they can use way beyond these classes. I simply LOVE this medium and long to embrace the unexpected and unusual effects of watercolors and integrate them into my paintings. \nCome in and lose your fear\, gain your skills and find your style!
URL:https://www.huntingtonarts.org/event/jan-guarino-presents-fearless-watercolors-on-line-classes/2026-11-03/
LOCATION:Zoom
CATEGORIES:Art Demo,Workshop Classes
ATTACH;FMTTYPE=image/jpeg:https://www.huntingtonarts.org/wp-content/uploads/2026/04/Peonies-3-scaled.jpg
ORGANIZER;CN="Jan Guarino":MAILTO:jan@janguarinofineart.com
END:VEVENT
BEGIN:VEVENT
DTSTART;TZID=America/New_York:20261110T140000
DTEND;TZID=America/New_York:20270420T120000
DTSTAMP:20260422T184645
CREATED:20260420T162442Z
LAST-MODIFIED:20260420T162442Z
UID:10024191-1794319200-1808222400@www.huntingtonarts.org
SUMMARY:Jan Guarino presents Fearless Watercolors On-Line Classes
DESCRIPTION:Watercolors are perceived as difficult\, unforgiving medium to paint in and the hardest to learn. I teach the beauty of how forgiving the medium really by painting landscapes\, florals\, waterscapes\, still lifes\, people… we paint anything and all things! \nYou will gain a new skill\, a deeper understanding of the medium and lose the fear around watercolors\, have fun and develop tangible ideas that they can use way beyond these classes. I simply LOVE this medium and long to embrace the unexpected and unusual effects of watercolors and integrate them into my paintings. \nCome in and lose your fear\, gain your skills and find your style!
URL:https://www.huntingtonarts.org/event/jan-guarino-presents-fearless-watercolors-on-line-classes/2026-11-10/
LOCATION:Zoom
CATEGORIES:Art Demo,Workshop Classes
ATTACH;FMTTYPE=image/jpeg:https://www.huntingtonarts.org/wp-content/uploads/2026/04/Peonies-3-scaled.jpg
ORGANIZER;CN="Jan Guarino":MAILTO:jan@janguarinofineart.com
END:VEVENT
BEGIN:VEVENT
DTSTART;TZID=America/New_York:20261117T140000
DTEND;TZID=America/New_York:20270427T120000
DTSTAMP:20260422T184645
CREATED:20260420T162442Z
LAST-MODIFIED:20260420T162442Z
UID:10024192-1794924000-1808827200@www.huntingtonarts.org
SUMMARY:Jan Guarino presents Fearless Watercolors On-Line Classes
DESCRIPTION:Watercolors are perceived as difficult\, unforgiving medium to paint in and the hardest to learn. I teach the beauty of how forgiving the medium really by painting landscapes\, florals\, waterscapes\, still lifes\, people… we paint anything and all things! \nYou will gain a new skill\, a deeper understanding of the medium and lose the fear around watercolors\, have fun and develop tangible ideas that they can use way beyond these classes. I simply LOVE this medium and long to embrace the unexpected and unusual effects of watercolors and integrate them into my paintings. \nCome in and lose your fear\, gain your skills and find your style!
URL:https://www.huntingtonarts.org/event/jan-guarino-presents-fearless-watercolors-on-line-classes/2026-11-17/
LOCATION:Zoom
CATEGORIES:Art Demo,Workshop Classes
ATTACH;FMTTYPE=image/jpeg:https://www.huntingtonarts.org/wp-content/uploads/2026/04/Peonies-3-scaled.jpg
ORGANIZER;CN="Jan Guarino":MAILTO:jan@janguarinofineart.com
END:VEVENT
BEGIN:VEVENT
DTSTART;TZID=America/New_York:20261124T140000
DTEND;TZID=America/New_York:20270504T120000
DTSTAMP:20260422T184645
CREATED:20260420T162442Z
LAST-MODIFIED:20260420T162442Z
UID:10024193-1795528800-1809432000@www.huntingtonarts.org
SUMMARY:Jan Guarino presents Fearless Watercolors On-Line Classes
DESCRIPTION:Watercolors are perceived as difficult\, unforgiving medium to paint in and the hardest to learn. I teach the beauty of how forgiving the medium really by painting landscapes\, florals\, waterscapes\, still lifes\, people… we paint anything and all things! \nYou will gain a new skill\, a deeper understanding of the medium and lose the fear around watercolors\, have fun and develop tangible ideas that they can use way beyond these classes. I simply LOVE this medium and long to embrace the unexpected and unusual effects of watercolors and integrate them into my paintings. \nCome in and lose your fear\, gain your skills and find your style!
URL:https://www.huntingtonarts.org/event/jan-guarino-presents-fearless-watercolors-on-line-classes/2026-11-24/
LOCATION:Zoom
CATEGORIES:Art Demo,Workshop Classes
ATTACH;FMTTYPE=image/jpeg:https://www.huntingtonarts.org/wp-content/uploads/2026/04/Peonies-3-scaled.jpg
ORGANIZER;CN="Jan Guarino":MAILTO:jan@janguarinofineart.com
END:VEVENT
BEGIN:VEVENT
DTSTART;TZID=America/New_York:20261201T140000
DTEND;TZID=America/New_York:20270511T120000
DTSTAMP:20260422T184645
CREATED:20260420T162442Z
LAST-MODIFIED:20260420T162442Z
UID:10024194-1796133600-1810036800@www.huntingtonarts.org
SUMMARY:Jan Guarino presents Fearless Watercolors On-Line Classes
DESCRIPTION:Watercolors are perceived as difficult\, unforgiving medium to paint in and the hardest to learn. I teach the beauty of how forgiving the medium really by painting landscapes\, florals\, waterscapes\, still lifes\, people… we paint anything and all things! \nYou will gain a new skill\, a deeper understanding of the medium and lose the fear around watercolors\, have fun and develop tangible ideas that they can use way beyond these classes. I simply LOVE this medium and long to embrace the unexpected and unusual effects of watercolors and integrate them into my paintings. \nCome in and lose your fear\, gain your skills and find your style!
URL:https://www.huntingtonarts.org/event/jan-guarino-presents-fearless-watercolors-on-line-classes/2026-12-01/
LOCATION:Zoom
CATEGORIES:Art Demo,Workshop Classes
ATTACH;FMTTYPE=image/jpeg:https://www.huntingtonarts.org/wp-content/uploads/2026/04/Peonies-3-scaled.jpg
ORGANIZER;CN="Jan Guarino":MAILTO:jan@janguarinofineart.com
END:VEVENT
BEGIN:VEVENT
DTSTART;TZID=America/New_York:20261208T140000
DTEND;TZID=America/New_York:20270518T120000
DTSTAMP:20260422T184645
CREATED:20260420T162442Z
LAST-MODIFIED:20260420T162442Z
UID:10024195-1796738400-1810641600@www.huntingtonarts.org
SUMMARY:Jan Guarino presents Fearless Watercolors On-Line Classes
DESCRIPTION:Watercolors are perceived as difficult\, unforgiving medium to paint in and the hardest to learn. I teach the beauty of how forgiving the medium really by painting landscapes\, florals\, waterscapes\, still lifes\, people… we paint anything and all things! \nYou will gain a new skill\, a deeper understanding of the medium and lose the fear around watercolors\, have fun and develop tangible ideas that they can use way beyond these classes. I simply LOVE this medium and long to embrace the unexpected and unusual effects of watercolors and integrate them into my paintings. \nCome in and lose your fear\, gain your skills and find your style!
URL:https://www.huntingtonarts.org/event/jan-guarino-presents-fearless-watercolors-on-line-classes/2026-12-08/
LOCATION:Zoom
CATEGORIES:Art Demo,Workshop Classes
ATTACH;FMTTYPE=image/jpeg:https://www.huntingtonarts.org/wp-content/uploads/2026/04/Peonies-3-scaled.jpg
ORGANIZER;CN="Jan Guarino":MAILTO:jan@janguarinofineart.com
END:VEVENT
BEGIN:VEVENT
DTSTART;TZID=America/New_York:20261215T140000
DTEND;TZID=America/New_York:20270525T120000
DTSTAMP:20260422T184645
CREATED:20260420T162442Z
LAST-MODIFIED:20260420T162442Z
UID:10024196-1797343200-1811246400@www.huntingtonarts.org
SUMMARY:Jan Guarino presents Fearless Watercolors On-Line Classes
DESCRIPTION:Watercolors are perceived as difficult\, unforgiving medium to paint in and the hardest to learn. I teach the beauty of how forgiving the medium really by painting landscapes\, florals\, waterscapes\, still lifes\, people… we paint anything and all things! \nYou will gain a new skill\, a deeper understanding of the medium and lose the fear around watercolors\, have fun and develop tangible ideas that they can use way beyond these classes. I simply LOVE this medium and long to embrace the unexpected and unusual effects of watercolors and integrate them into my paintings. \nCome in and lose your fear\, gain your skills and find your style!
URL:https://www.huntingtonarts.org/event/jan-guarino-presents-fearless-watercolors-on-line-classes/2026-12-15/
LOCATION:Zoom
CATEGORIES:Art Demo,Workshop Classes
ATTACH;FMTTYPE=image/jpeg:https://www.huntingtonarts.org/wp-content/uploads/2026/04/Peonies-3-scaled.jpg
ORGANIZER;CN="Jan Guarino":MAILTO:jan@janguarinofineart.com
END:VEVENT
BEGIN:VEVENT
DTSTART;TZID=America/New_York:20270202T193000
DTEND;TZID=America/New_York:20270202T210000
DTSTAMP:20260422T184645
CREATED:20260105T173124Z
LAST-MODIFIED:20260105T173124Z
UID:10018893-1801596600-1801602000@www.huntingtonarts.org
SUMMARY:Huntington Camera Club
DESCRIPTION:We meet at Huntington Public Library every Tuesday night to discuss photography. We have guest speakers\, member presentations\, in-house competitions and lots more. No photographic background is necessary but we do cover all levels of experience in our presentations. Visit our website for more information hccny.org
URL:https://www.huntingtonarts.org/event/huntington-camera-club-3/2027-02-02/
LOCATION:Huntington Public Library\, 338 Main Street\, Huntington\, 11743\, United States
CATEGORIES:Art Demo,Film/Media,History,Lectures,Workshop Classes
ATTACH;FMTTYPE=image/jpeg:https://www.huntingtonarts.org/wp-content/uploads/2025/12/HCC-logo-1.jpg
GEO:40.8705011;-73.4300972
X-APPLE-STRUCTURED-LOCATION;VALUE=URI;X-ADDRESS=Huntington Public Library 338 Main Street Huntington 11743 United States;X-APPLE-RADIUS=500;X-TITLE=338 Main Street:geo:-73.4300972,40.8705011
END:VEVENT
BEGIN:VEVENT
DTSTART;TZID=America/New_York:20270209T193000
DTEND;TZID=America/New_York:20270209T210000
DTSTAMP:20260422T184645
CREATED:20260105T173124Z
LAST-MODIFIED:20260105T173124Z
UID:10018894-1802201400-1802206800@www.huntingtonarts.org
SUMMARY:Huntington Camera Club
DESCRIPTION:We meet at Huntington Public Library every Tuesday night to discuss photography. We have guest speakers\, member presentations\, in-house competitions and lots more. No photographic background is necessary but we do cover all levels of experience in our presentations. Visit our website for more information hccny.org
URL:https://www.huntingtonarts.org/event/huntington-camera-club-3/2027-02-09/
LOCATION:Huntington Public Library\, 338 Main Street\, Huntington\, 11743\, United States
CATEGORIES:Art Demo,Film/Media,History,Lectures,Workshop Classes
ATTACH;FMTTYPE=image/jpeg:https://www.huntingtonarts.org/wp-content/uploads/2025/12/HCC-logo-1.jpg
GEO:40.8705011;-73.4300972
X-APPLE-STRUCTURED-LOCATION;VALUE=URI;X-ADDRESS=Huntington Public Library 338 Main Street Huntington 11743 United States;X-APPLE-RADIUS=500;X-TITLE=338 Main Street:geo:-73.4300972,40.8705011
END:VEVENT
BEGIN:VEVENT
DTSTART;TZID=America/New_York:20270216T193000
DTEND;TZID=America/New_York:20270216T210000
DTSTAMP:20260422T184645
CREATED:20260105T173124Z
LAST-MODIFIED:20260105T173124Z
UID:10018895-1802806200-1802811600@www.huntingtonarts.org
SUMMARY:Huntington Camera Club
DESCRIPTION:We meet at Huntington Public Library every Tuesday night to discuss photography. We have guest speakers\, member presentations\, in-house competitions and lots more. No photographic background is necessary but we do cover all levels of experience in our presentations. Visit our website for more information hccny.org
URL:https://www.huntingtonarts.org/event/huntington-camera-club-3/2027-02-16/
LOCATION:Huntington Public Library\, 338 Main Street\, Huntington\, 11743\, United States
CATEGORIES:Art Demo,Film/Media,History,Lectures,Workshop Classes
ATTACH;FMTTYPE=image/jpeg:https://www.huntingtonarts.org/wp-content/uploads/2025/12/HCC-logo-1.jpg
GEO:40.8705011;-73.4300972
X-APPLE-STRUCTURED-LOCATION;VALUE=URI;X-ADDRESS=Huntington Public Library 338 Main Street Huntington 11743 United States;X-APPLE-RADIUS=500;X-TITLE=338 Main Street:geo:-73.4300972,40.8705011
END:VEVENT
BEGIN:VEVENT
DTSTART;TZID=America/New_York:20270223T193000
DTEND;TZID=America/New_York:20270223T210000
DTSTAMP:20260422T184645
CREATED:20260105T173124Z
LAST-MODIFIED:20260105T173124Z
UID:10018896-1803411000-1803416400@www.huntingtonarts.org
SUMMARY:Huntington Camera Club
DESCRIPTION:We meet at Huntington Public Library every Tuesday night to discuss photography. We have guest speakers\, member presentations\, in-house competitions and lots more. No photographic background is necessary but we do cover all levels of experience in our presentations. Visit our website for more information hccny.org
URL:https://www.huntingtonarts.org/event/huntington-camera-club-3/2027-02-23/
LOCATION:Huntington Public Library\, 338 Main Street\, Huntington\, 11743\, United States
CATEGORIES:Art Demo,Film/Media,History,Lectures,Workshop Classes
ATTACH;FMTTYPE=image/jpeg:https://www.huntingtonarts.org/wp-content/uploads/2025/12/HCC-logo-1.jpg
GEO:40.8705011;-73.4300972
X-APPLE-STRUCTURED-LOCATION;VALUE=URI;X-ADDRESS=Huntington Public Library 338 Main Street Huntington 11743 United States;X-APPLE-RADIUS=500;X-TITLE=338 Main Street:geo:-73.4300972,40.8705011
END:VEVENT
END:VCALENDAR