BEGIN:VCALENDAR
VERSION:2.0
PRODID:-//Huntington Arts Council - ECPv6.15.20//NONSGML v1.0//EN
CALSCALE:GREGORIAN
METHOD:PUBLISH
X-ORIGINAL-URL:https://www.huntingtonarts.org
X-WR-CALDESC:Events for Huntington Arts Council
REFRESH-INTERVAL;VALUE=DURATION:PT1H
X-Robots-Tag:noindex
X-PUBLISHED-TTL:PT1H
BEGIN:VTIMEZONE
TZID:America/New_York
BEGIN:DAYLIGHT
TZOFFSETFROM:-0500
TZOFFSETTO:-0400
TZNAME:EDT
DTSTART:20250309T070000
END:DAYLIGHT
BEGIN:STANDARD
TZOFFSETFROM:-0400
TZOFFSETTO:-0500
TZNAME:EST
DTSTART:20251102T060000
END:STANDARD
BEGIN:DAYLIGHT
TZOFFSETFROM:-0500
TZOFFSETTO:-0400
TZNAME:EDT
DTSTART:20260308T070000
END:DAYLIGHT
BEGIN:STANDARD
TZOFFSETFROM:-0400
TZOFFSETTO:-0500
TZNAME:EST
DTSTART:20261101T060000
END:STANDARD
BEGIN:DAYLIGHT
TZOFFSETFROM:-0500
TZOFFSETTO:-0400
TZNAME:EDT
DTSTART:20270314T070000
END:DAYLIGHT
BEGIN:STANDARD
TZOFFSETFROM:-0400
TZOFFSETTO:-0500
TZNAME:EST
DTSTART:20271107T060000
END:STANDARD
BEGIN:DAYLIGHT
TZOFFSETFROM:-0500
TZOFFSETTO:-0400
TZNAME:EDT
DTSTART:20280312T070000
END:DAYLIGHT
BEGIN:STANDARD
TZOFFSETFROM:-0400
TZOFFSETTO:-0500
TZNAME:EST
DTSTART:20281105T060000
END:STANDARD
END:VTIMEZONE
BEGIN:VEVENT
DTSTART;TZID=America/New_York:20260707T140000
DTEND;TZID=America/New_York:20261215T100000
DTSTAMP:20260422T105446
CREATED:20260420T162442Z
LAST-MODIFIED:20260420T162442Z
UID:10024173-1783432800-1797328800@www.huntingtonarts.org
SUMMARY:Jan Guarino presents Fearless Watercolors On-Line Classes
DESCRIPTION:Watercolors are perceived as difficult\, unforgiving medium to paint in and the hardest to learn. I teach the beauty of how forgiving the medium really by painting landscapes\, florals\, waterscapes\, still lifes\, people… we paint anything and all things! \nYou will gain a new skill\, a deeper understanding of the medium and lose the fear around watercolors\, have fun and develop tangible ideas that they can use way beyond these classes. I simply LOVE this medium and long to embrace the unexpected and unusual effects of watercolors and integrate them into my paintings. \nCome in and lose your fear\, gain your skills and find your style!
URL:https://www.huntingtonarts.org/event/jan-guarino-presents-fearless-watercolors-on-line-classes/2026-07-07/2/
LOCATION:Zoom
CATEGORIES:Art Demo,Workshop Classes
ATTACH;FMTTYPE=image/jpeg:https://www.huntingtonarts.org/wp-content/uploads/2026/04/Peonies-3-scaled.jpg
ORGANIZER;CN="Jan Guarino":MAILTO:jan@janguarinofineart.com
END:VEVENT
BEGIN:VEVENT
DTSTART;TZID=America/New_York:20260714T140000
DTEND;TZID=America/New_York:20261222T100000
DTSTAMP:20260422T105446
CREATED:20260420T162442Z
LAST-MODIFIED:20260420T162442Z
UID:10024174-1784037600-1797933600@www.huntingtonarts.org
SUMMARY:Jan Guarino presents Fearless Watercolors On-Line Classes
DESCRIPTION:Watercolors are perceived as difficult\, unforgiving medium to paint in and the hardest to learn. I teach the beauty of how forgiving the medium really by painting landscapes\, florals\, waterscapes\, still lifes\, people… we paint anything and all things! \nYou will gain a new skill\, a deeper understanding of the medium and lose the fear around watercolors\, have fun and develop tangible ideas that they can use way beyond these classes. I simply LOVE this medium and long to embrace the unexpected and unusual effects of watercolors and integrate them into my paintings. \nCome in and lose your fear\, gain your skills and find your style!
URL:https://www.huntingtonarts.org/event/jan-guarino-presents-fearless-watercolors-on-line-classes/2026-07-14/
LOCATION:Zoom
CATEGORIES:Art Demo,Workshop Classes
ATTACH;FMTTYPE=image/jpeg:https://www.huntingtonarts.org/wp-content/uploads/2026/04/Peonies-3-scaled.jpg
ORGANIZER;CN="Jan Guarino":MAILTO:jan@janguarinofineart.com
END:VEVENT
BEGIN:VEVENT
DTSTART;TZID=America/New_York:20260721T140000
DTEND;TZID=America/New_York:20261229T100000
DTSTAMP:20260422T105446
CREATED:20260420T162442Z
LAST-MODIFIED:20260420T162442Z
UID:10024175-1784642400-1798538400@www.huntingtonarts.org
SUMMARY:Jan Guarino presents Fearless Watercolors On-Line Classes
DESCRIPTION:Watercolors are perceived as difficult\, unforgiving medium to paint in and the hardest to learn. I teach the beauty of how forgiving the medium really by painting landscapes\, florals\, waterscapes\, still lifes\, people… we paint anything and all things! \nYou will gain a new skill\, a deeper understanding of the medium and lose the fear around watercolors\, have fun and develop tangible ideas that they can use way beyond these classes. I simply LOVE this medium and long to embrace the unexpected and unusual effects of watercolors and integrate them into my paintings. \nCome in and lose your fear\, gain your skills and find your style!
URL:https://www.huntingtonarts.org/event/jan-guarino-presents-fearless-watercolors-on-line-classes/2026-07-21/
LOCATION:Zoom
CATEGORIES:Art Demo,Workshop Classes
ATTACH;FMTTYPE=image/jpeg:https://www.huntingtonarts.org/wp-content/uploads/2026/04/Peonies-3-scaled.jpg
ORGANIZER;CN="Jan Guarino":MAILTO:jan@janguarinofineart.com
END:VEVENT
BEGIN:VEVENT
DTSTART;TZID=America/New_York:20260728T140000
DTEND;TZID=America/New_York:20270105T100000
DTSTAMP:20260422T105446
CREATED:20260420T162442Z
LAST-MODIFIED:20260420T162442Z
UID:10024176-1785247200-1799143200@www.huntingtonarts.org
SUMMARY:Jan Guarino presents Fearless Watercolors On-Line Classes
DESCRIPTION:Watercolors are perceived as difficult\, unforgiving medium to paint in and the hardest to learn. I teach the beauty of how forgiving the medium really by painting landscapes\, florals\, waterscapes\, still lifes\, people… we paint anything and all things! \nYou will gain a new skill\, a deeper understanding of the medium and lose the fear around watercolors\, have fun and develop tangible ideas that they can use way beyond these classes. I simply LOVE this medium and long to embrace the unexpected and unusual effects of watercolors and integrate them into my paintings. \nCome in and lose your fear\, gain your skills and find your style!
URL:https://www.huntingtonarts.org/event/jan-guarino-presents-fearless-watercolors-on-line-classes/2026-07-28/
LOCATION:Zoom
CATEGORIES:Art Demo,Workshop Classes
ATTACH;FMTTYPE=image/jpeg:https://www.huntingtonarts.org/wp-content/uploads/2026/04/Peonies-3-scaled.jpg
ORGANIZER;CN="Jan Guarino":MAILTO:jan@janguarinofineart.com
END:VEVENT
BEGIN:VEVENT
DTSTART;TZID=America/New_York:20260804T140000
DTEND;TZID=America/New_York:20270112T100000
DTSTAMP:20260422T105446
CREATED:20260420T162442Z
LAST-MODIFIED:20260420T162442Z
UID:10024177-1785852000-1799748000@www.huntingtonarts.org
SUMMARY:Jan Guarino presents Fearless Watercolors On-Line Classes
DESCRIPTION:Watercolors are perceived as difficult\, unforgiving medium to paint in and the hardest to learn. I teach the beauty of how forgiving the medium really by painting landscapes\, florals\, waterscapes\, still lifes\, people… we paint anything and all things! \nYou will gain a new skill\, a deeper understanding of the medium and lose the fear around watercolors\, have fun and develop tangible ideas that they can use way beyond these classes. I simply LOVE this medium and long to embrace the unexpected and unusual effects of watercolors and integrate them into my paintings. \nCome in and lose your fear\, gain your skills and find your style!
URL:https://www.huntingtonarts.org/event/jan-guarino-presents-fearless-watercolors-on-line-classes/2026-08-04/
LOCATION:Zoom
CATEGORIES:Art Demo,Workshop Classes
ATTACH;FMTTYPE=image/jpeg:https://www.huntingtonarts.org/wp-content/uploads/2026/04/Peonies-3-scaled.jpg
ORGANIZER;CN="Jan Guarino":MAILTO:jan@janguarinofineart.com
END:VEVENT
BEGIN:VEVENT
DTSTART;TZID=America/New_York:20260811T140000
DTEND;TZID=America/New_York:20270119T100000
DTSTAMP:20260422T105446
CREATED:20260420T162442Z
LAST-MODIFIED:20260420T162442Z
UID:10024178-1786456800-1800352800@www.huntingtonarts.org
SUMMARY:Jan Guarino presents Fearless Watercolors On-Line Classes
DESCRIPTION:Watercolors are perceived as difficult\, unforgiving medium to paint in and the hardest to learn. I teach the beauty of how forgiving the medium really by painting landscapes\, florals\, waterscapes\, still lifes\, people… we paint anything and all things! \nYou will gain a new skill\, a deeper understanding of the medium and lose the fear around watercolors\, have fun and develop tangible ideas that they can use way beyond these classes. I simply LOVE this medium and long to embrace the unexpected and unusual effects of watercolors and integrate them into my paintings. \nCome in and lose your fear\, gain your skills and find your style!
URL:https://www.huntingtonarts.org/event/jan-guarino-presents-fearless-watercolors-on-line-classes/2026-08-11/
LOCATION:Zoom
CATEGORIES:Art Demo,Workshop Classes
ATTACH;FMTTYPE=image/jpeg:https://www.huntingtonarts.org/wp-content/uploads/2026/04/Peonies-3-scaled.jpg
ORGANIZER;CN="Jan Guarino":MAILTO:jan@janguarinofineart.com
END:VEVENT
BEGIN:VEVENT
DTSTART;TZID=America/New_York:20260818T140000
DTEND;TZID=America/New_York:20270126T100000
DTSTAMP:20260422T105446
CREATED:20260420T162442Z
LAST-MODIFIED:20260420T162442Z
UID:10024179-1787061600-1800957600@www.huntingtonarts.org
SUMMARY:Jan Guarino presents Fearless Watercolors On-Line Classes
DESCRIPTION:Watercolors are perceived as difficult\, unforgiving medium to paint in and the hardest to learn. I teach the beauty of how forgiving the medium really by painting landscapes\, florals\, waterscapes\, still lifes\, people… we paint anything and all things! \nYou will gain a new skill\, a deeper understanding of the medium and lose the fear around watercolors\, have fun and develop tangible ideas that they can use way beyond these classes. I simply LOVE this medium and long to embrace the unexpected and unusual effects of watercolors and integrate them into my paintings. \nCome in and lose your fear\, gain your skills and find your style!
URL:https://www.huntingtonarts.org/event/jan-guarino-presents-fearless-watercolors-on-line-classes/2026-08-18/
LOCATION:Zoom
CATEGORIES:Art Demo,Workshop Classes
ATTACH;FMTTYPE=image/jpeg:https://www.huntingtonarts.org/wp-content/uploads/2026/04/Peonies-3-scaled.jpg
ORGANIZER;CN="Jan Guarino":MAILTO:jan@janguarinofineart.com
END:VEVENT
BEGIN:VEVENT
DTSTART;TZID=America/New_York:20260825T140000
DTEND;TZID=America/New_York:20270202T100000
DTSTAMP:20260422T105446
CREATED:20260420T162442Z
LAST-MODIFIED:20260420T162442Z
UID:10024180-1787666400-1801562400@www.huntingtonarts.org
SUMMARY:Jan Guarino presents Fearless Watercolors On-Line Classes
DESCRIPTION:Watercolors are perceived as difficult\, unforgiving medium to paint in and the hardest to learn. I teach the beauty of how forgiving the medium really by painting landscapes\, florals\, waterscapes\, still lifes\, people… we paint anything and all things! \nYou will gain a new skill\, a deeper understanding of the medium and lose the fear around watercolors\, have fun and develop tangible ideas that they can use way beyond these classes. I simply LOVE this medium and long to embrace the unexpected and unusual effects of watercolors and integrate them into my paintings. \nCome in and lose your fear\, gain your skills and find your style!
URL:https://www.huntingtonarts.org/event/jan-guarino-presents-fearless-watercolors-on-line-classes/2026-08-25/
LOCATION:Zoom
CATEGORIES:Art Demo,Workshop Classes
ATTACH;FMTTYPE=image/jpeg:https://www.huntingtonarts.org/wp-content/uploads/2026/04/Peonies-3-scaled.jpg
ORGANIZER;CN="Jan Guarino":MAILTO:jan@janguarinofineart.com
END:VEVENT
BEGIN:VEVENT
DTSTART;TZID=America/New_York:20260901T140000
DTEND;TZID=America/New_York:20270209T100000
DTSTAMP:20260422T105446
CREATED:20260420T162442Z
LAST-MODIFIED:20260420T162442Z
UID:10024181-1788271200-1802167200@www.huntingtonarts.org
SUMMARY:Jan Guarino presents Fearless Watercolors On-Line Classes
DESCRIPTION:Watercolors are perceived as difficult\, unforgiving medium to paint in and the hardest to learn. I teach the beauty of how forgiving the medium really by painting landscapes\, florals\, waterscapes\, still lifes\, people… we paint anything and all things! \nYou will gain a new skill\, a deeper understanding of the medium and lose the fear around watercolors\, have fun and develop tangible ideas that they can use way beyond these classes. I simply LOVE this medium and long to embrace the unexpected and unusual effects of watercolors and integrate them into my paintings. \nCome in and lose your fear\, gain your skills and find your style!
URL:https://www.huntingtonarts.org/event/jan-guarino-presents-fearless-watercolors-on-line-classes/2026-09-01/
LOCATION:Zoom
CATEGORIES:Art Demo,Workshop Classes
ATTACH;FMTTYPE=image/jpeg:https://www.huntingtonarts.org/wp-content/uploads/2026/04/Peonies-3-scaled.jpg
ORGANIZER;CN="Jan Guarino":MAILTO:jan@janguarinofineart.com
END:VEVENT
BEGIN:VEVENT
DTSTART;TZID=America/New_York:20260901T193000
DTEND;TZID=America/New_York:20260901T210000
DTSTAMP:20260422T105446
CREATED:20260105T173124Z
LAST-MODIFIED:20260105T173124Z
UID:10018871-1788291000-1788296400@www.huntingtonarts.org
SUMMARY:Huntington Camera Club
DESCRIPTION:We meet at Huntington Public Library every Tuesday night to discuss photography. We have guest speakers\, member presentations\, in-house competitions and lots more. No photographic background is necessary but we do cover all levels of experience in our presentations. Visit our website for more information hccny.org
URL:https://www.huntingtonarts.org/event/huntington-camera-club-3/2026-09-01/
LOCATION:Huntington Public Library\, 338 Main Street\, Huntington\, 11743\, United States
CATEGORIES:Art Demo,Film/Media,History,Lectures,Workshop Classes
ATTACH;FMTTYPE=image/jpeg:https://www.huntingtonarts.org/wp-content/uploads/2025/12/HCC-logo-1.jpg
GEO:40.8705011;-73.4300972
X-APPLE-STRUCTURED-LOCATION;VALUE=URI;X-ADDRESS=Huntington Public Library 338 Main Street Huntington 11743 United States;X-APPLE-RADIUS=500;X-TITLE=338 Main Street:geo:-73.4300972,40.8705011
END:VEVENT
BEGIN:VEVENT
DTSTART;TZID=America/New_York:20260908T140000
DTEND;TZID=America/New_York:20270216T100000
DTSTAMP:20260422T105446
CREATED:20260420T162442Z
LAST-MODIFIED:20260420T162442Z
UID:10024182-1788876000-1802772000@www.huntingtonarts.org
SUMMARY:Jan Guarino presents Fearless Watercolors On-Line Classes
DESCRIPTION:Watercolors are perceived as difficult\, unforgiving medium to paint in and the hardest to learn. I teach the beauty of how forgiving the medium really by painting landscapes\, florals\, waterscapes\, still lifes\, people… we paint anything and all things! \nYou will gain a new skill\, a deeper understanding of the medium and lose the fear around watercolors\, have fun and develop tangible ideas that they can use way beyond these classes. I simply LOVE this medium and long to embrace the unexpected and unusual effects of watercolors and integrate them into my paintings. \nCome in and lose your fear\, gain your skills and find your style!
URL:https://www.huntingtonarts.org/event/jan-guarino-presents-fearless-watercolors-on-line-classes/2026-09-08/
LOCATION:Zoom
CATEGORIES:Art Demo,Workshop Classes
ATTACH;FMTTYPE=image/jpeg:https://www.huntingtonarts.org/wp-content/uploads/2026/04/Peonies-3-scaled.jpg
ORGANIZER;CN="Jan Guarino":MAILTO:jan@janguarinofineart.com
END:VEVENT
BEGIN:VEVENT
DTSTART;TZID=America/New_York:20260908T193000
DTEND;TZID=America/New_York:20260908T210000
DTSTAMP:20260422T105446
CREATED:20260105T173124Z
LAST-MODIFIED:20260105T173124Z
UID:10018872-1788895800-1788901200@www.huntingtonarts.org
SUMMARY:Huntington Camera Club
DESCRIPTION:We meet at Huntington Public Library every Tuesday night to discuss photography. We have guest speakers\, member presentations\, in-house competitions and lots more. No photographic background is necessary but we do cover all levels of experience in our presentations. Visit our website for more information hccny.org
URL:https://www.huntingtonarts.org/event/huntington-camera-club-3/2026-09-08/
LOCATION:Huntington Public Library\, 338 Main Street\, Huntington\, 11743\, United States
CATEGORIES:Art Demo,Film/Media,History,Lectures,Workshop Classes
ATTACH;FMTTYPE=image/jpeg:https://www.huntingtonarts.org/wp-content/uploads/2025/12/HCC-logo-1.jpg
GEO:40.8705011;-73.4300972
X-APPLE-STRUCTURED-LOCATION;VALUE=URI;X-ADDRESS=Huntington Public Library 338 Main Street Huntington 11743 United States;X-APPLE-RADIUS=500;X-TITLE=338 Main Street:geo:-73.4300972,40.8705011
END:VEVENT
BEGIN:VEVENT
DTSTART;TZID=America/New_York:20260915T140000
DTEND;TZID=America/New_York:20270223T100000
DTSTAMP:20260422T105446
CREATED:20260420T162442Z
LAST-MODIFIED:20260420T162442Z
UID:10024183-1789480800-1803376800@www.huntingtonarts.org
SUMMARY:Jan Guarino presents Fearless Watercolors On-Line Classes
DESCRIPTION:Watercolors are perceived as difficult\, unforgiving medium to paint in and the hardest to learn. I teach the beauty of how forgiving the medium really by painting landscapes\, florals\, waterscapes\, still lifes\, people… we paint anything and all things! \nYou will gain a new skill\, a deeper understanding of the medium and lose the fear around watercolors\, have fun and develop tangible ideas that they can use way beyond these classes. I simply LOVE this medium and long to embrace the unexpected and unusual effects of watercolors and integrate them into my paintings. \nCome in and lose your fear\, gain your skills and find your style!
URL:https://www.huntingtonarts.org/event/jan-guarino-presents-fearless-watercolors-on-line-classes/2026-09-15/
LOCATION:Zoom
CATEGORIES:Art Demo,Workshop Classes
ATTACH;FMTTYPE=image/jpeg:https://www.huntingtonarts.org/wp-content/uploads/2026/04/Peonies-3-scaled.jpg
ORGANIZER;CN="Jan Guarino":MAILTO:jan@janguarinofineart.com
END:VEVENT
BEGIN:VEVENT
DTSTART;TZID=America/New_York:20260915T193000
DTEND;TZID=America/New_York:20260915T210000
DTSTAMP:20260422T105446
CREATED:20260105T173124Z
LAST-MODIFIED:20260105T173124Z
UID:10018873-1789500600-1789506000@www.huntingtonarts.org
SUMMARY:Huntington Camera Club
DESCRIPTION:We meet at Huntington Public Library every Tuesday night to discuss photography. We have guest speakers\, member presentations\, in-house competitions and lots more. No photographic background is necessary but we do cover all levels of experience in our presentations. Visit our website for more information hccny.org
URL:https://www.huntingtonarts.org/event/huntington-camera-club-3/2026-09-15/
LOCATION:Huntington Public Library\, 338 Main Street\, Huntington\, 11743\, United States
CATEGORIES:Art Demo,Film/Media,History,Lectures,Workshop Classes
ATTACH;FMTTYPE=image/jpeg:https://www.huntingtonarts.org/wp-content/uploads/2025/12/HCC-logo-1.jpg
GEO:40.8705011;-73.4300972
X-APPLE-STRUCTURED-LOCATION;VALUE=URI;X-ADDRESS=Huntington Public Library 338 Main Street Huntington 11743 United States;X-APPLE-RADIUS=500;X-TITLE=338 Main Street:geo:-73.4300972,40.8705011
END:VEVENT
BEGIN:VEVENT
DTSTART;TZID=America/New_York:20260919T080000
DTEND;TZID=America/New_York:20260919T170000
DTSTAMP:20260422T105446
CREATED:20260107T154503Z
LAST-MODIFIED:20260107T154503Z
UID:10019211-1789804800-1789837200@www.huntingtonarts.org
SUMMARY:Jan Guarino presents Fearless Watercolors one week in Tuscany
DESCRIPTION:Join Jan for a week of art instruction\, dining\, touring\, and exploring as we paint our way around Tuscany. Our focus will be on our beautiful surroundings interpreting the landscape and simplifying to achieve fun and exciting paintings. Each day will be a demonstration with a guided discussion of composition\, where to place your focus\, colors best to use and why\, watercolor techniques all while holding onto and growing your own personal style – learn to be fearless. \nWatercolors may feel intimidating at first. To be successful\, you need to know how to control and give up control all at the same time. It should look and feel effortless—yet it takes an understanding of the medium. \nIn this week long workshop with artist and educator Jan Guarino\, explore one of the most important aspects of this medium—the element of surprise that happens when you get out of the way and allow the paint to move in water. Jan says that watercolor is all about how the paint flows and what happens in its wake. Deciding to control it or allow it takes time\, patience\, and practice. \nThis workshop will be centered around not just documenting a space in time\, but interpreting the essence of the land. By studying the light\, students will develop a greater understanding of their own painting knowledge\, building skills they can develop in the field and take on future adventures forever. We will also be sure to take time each day to explore the towns\, the wine and foods and all the area has to offer.
URL:https://www.huntingtonarts.org/event/jan-guarino-presents-fearless-watercolors-one-week-in-tuscany/2026-09-19/
LOCATION:Tuscany\, Italy\, Italy
CATEGORIES:Art Demo,Workshop Classes
ATTACH;FMTTYPE=image/jpeg:https://www.huntingtonarts.org/wp-content/uploads/2026/01/Castle-of-Angels-wm.jpg
ORGANIZER;CN="Jan Guarino":MAILTO:info@ilchiostro.com
GEO:42.611735;-77.2919246
END:VEVENT
BEGIN:VEVENT
DTSTART;TZID=America/New_York:20260922T140000
DTEND;TZID=America/New_York:20270302T100000
DTSTAMP:20260422T105446
CREATED:20260420T162442Z
LAST-MODIFIED:20260420T162442Z
UID:10024184-1790085600-1803981600@www.huntingtonarts.org
SUMMARY:Jan Guarino presents Fearless Watercolors On-Line Classes
DESCRIPTION:Watercolors are perceived as difficult\, unforgiving medium to paint in and the hardest to learn. I teach the beauty of how forgiving the medium really by painting landscapes\, florals\, waterscapes\, still lifes\, people… we paint anything and all things! \nYou will gain a new skill\, a deeper understanding of the medium and lose the fear around watercolors\, have fun and develop tangible ideas that they can use way beyond these classes. I simply LOVE this medium and long to embrace the unexpected and unusual effects of watercolors and integrate them into my paintings. \nCome in and lose your fear\, gain your skills and find your style!
URL:https://www.huntingtonarts.org/event/jan-guarino-presents-fearless-watercolors-on-line-classes/2026-09-22/
LOCATION:Zoom
CATEGORIES:Art Demo,Workshop Classes
ATTACH;FMTTYPE=image/jpeg:https://www.huntingtonarts.org/wp-content/uploads/2026/04/Peonies-3-scaled.jpg
ORGANIZER;CN="Jan Guarino":MAILTO:jan@janguarinofineart.com
END:VEVENT
BEGIN:VEVENT
DTSTART;TZID=America/New_York:20260922T193000
DTEND;TZID=America/New_York:20260922T210000
DTSTAMP:20260422T105446
CREATED:20260105T173124Z
LAST-MODIFIED:20260105T173124Z
UID:10018874-1790105400-1790110800@www.huntingtonarts.org
SUMMARY:Huntington Camera Club
DESCRIPTION:We meet at Huntington Public Library every Tuesday night to discuss photography. We have guest speakers\, member presentations\, in-house competitions and lots more. No photographic background is necessary but we do cover all levels of experience in our presentations. Visit our website for more information hccny.org
URL:https://www.huntingtonarts.org/event/huntington-camera-club-3/2026-09-22/
LOCATION:Huntington Public Library\, 338 Main Street\, Huntington\, 11743\, United States
CATEGORIES:Art Demo,Film/Media,History,Lectures,Workshop Classes
ATTACH;FMTTYPE=image/jpeg:https://www.huntingtonarts.org/wp-content/uploads/2025/12/HCC-logo-1.jpg
GEO:40.8705011;-73.4300972
X-APPLE-STRUCTURED-LOCATION;VALUE=URI;X-ADDRESS=Huntington Public Library 338 Main Street Huntington 11743 United States;X-APPLE-RADIUS=500;X-TITLE=338 Main Street:geo:-73.4300972,40.8705011
END:VEVENT
BEGIN:VEVENT
DTSTART;TZID=America/New_York:20260929T140000
DTEND;TZID=America/New_York:20270309T100000
DTSTAMP:20260422T105446
CREATED:20260420T162442Z
LAST-MODIFIED:20260420T162442Z
UID:10024185-1790690400-1804586400@www.huntingtonarts.org
SUMMARY:Jan Guarino presents Fearless Watercolors On-Line Classes
DESCRIPTION:Watercolors are perceived as difficult\, unforgiving medium to paint in and the hardest to learn. I teach the beauty of how forgiving the medium really by painting landscapes\, florals\, waterscapes\, still lifes\, people… we paint anything and all things! \nYou will gain a new skill\, a deeper understanding of the medium and lose the fear around watercolors\, have fun and develop tangible ideas that they can use way beyond these classes. I simply LOVE this medium and long to embrace the unexpected and unusual effects of watercolors and integrate them into my paintings. \nCome in and lose your fear\, gain your skills and find your style!
URL:https://www.huntingtonarts.org/event/jan-guarino-presents-fearless-watercolors-on-line-classes/2026-09-29/
LOCATION:Zoom
CATEGORIES:Art Demo,Workshop Classes
ATTACH;FMTTYPE=image/jpeg:https://www.huntingtonarts.org/wp-content/uploads/2026/04/Peonies-3-scaled.jpg
ORGANIZER;CN="Jan Guarino":MAILTO:jan@janguarinofineart.com
END:VEVENT
BEGIN:VEVENT
DTSTART;TZID=America/New_York:20260929T193000
DTEND;TZID=America/New_York:20260929T210000
DTSTAMP:20260422T105446
CREATED:20260105T173124Z
LAST-MODIFIED:20260105T173124Z
UID:10018875-1790710200-1790715600@www.huntingtonarts.org
SUMMARY:Huntington Camera Club
DESCRIPTION:We meet at Huntington Public Library every Tuesday night to discuss photography. We have guest speakers\, member presentations\, in-house competitions and lots more. No photographic background is necessary but we do cover all levels of experience in our presentations. Visit our website for more information hccny.org
URL:https://www.huntingtonarts.org/event/huntington-camera-club-3/2026-09-29/
LOCATION:Huntington Public Library\, 338 Main Street\, Huntington\, 11743\, United States
CATEGORIES:Art Demo,Film/Media,History,Lectures,Workshop Classes
ATTACH;FMTTYPE=image/jpeg:https://www.huntingtonarts.org/wp-content/uploads/2025/12/HCC-logo-1.jpg
GEO:40.8705011;-73.4300972
X-APPLE-STRUCTURED-LOCATION;VALUE=URI;X-ADDRESS=Huntington Public Library 338 Main Street Huntington 11743 United States;X-APPLE-RADIUS=500;X-TITLE=338 Main Street:geo:-73.4300972,40.8705011
END:VEVENT
END:VCALENDAR