BEGIN:VCALENDAR
VERSION:2.0
PRODID:-//Huntington Arts Council - ECPv6.15.20//NONSGML v1.0//EN
CALSCALE:GREGORIAN
METHOD:PUBLISH
X-WR-CALNAME:Huntington Arts Council
X-ORIGINAL-URL:https://www.huntingtonarts.org
X-WR-CALDESC:Events for Huntington Arts Council
REFRESH-INTERVAL;VALUE=DURATION:PT1H
X-Robots-Tag:noindex
X-PUBLISHED-TTL:PT1H
BEGIN:VTIMEZONE
TZID:America/New_York
BEGIN:DAYLIGHT
TZOFFSETFROM:-0500
TZOFFSETTO:-0400
TZNAME:EDT
DTSTART:20250309T070000
END:DAYLIGHT
BEGIN:STANDARD
TZOFFSETFROM:-0400
TZOFFSETTO:-0500
TZNAME:EST
DTSTART:20251102T060000
END:STANDARD
BEGIN:DAYLIGHT
TZOFFSETFROM:-0500
TZOFFSETTO:-0400
TZNAME:EDT
DTSTART:20260308T070000
END:DAYLIGHT
BEGIN:STANDARD
TZOFFSETFROM:-0400
TZOFFSETTO:-0500
TZNAME:EST
DTSTART:20261101T060000
END:STANDARD
BEGIN:DAYLIGHT
TZOFFSETFROM:-0500
TZOFFSETTO:-0400
TZNAME:EDT
DTSTART:20270314T070000
END:DAYLIGHT
BEGIN:STANDARD
TZOFFSETFROM:-0400
TZOFFSETTO:-0500
TZNAME:EST
DTSTART:20271107T060000
END:STANDARD
END:VTIMEZONE
BEGIN:VEVENT
DTSTART;VALUE=DATE:20260406
DTEND;VALUE=DATE:20260614
DTSTAMP:20260422T063000
CREATED:20260122T193742Z
LAST-MODIFIED:20260312T150045Z
UID:10022820-1775433600-1781395199@www.huntingtonarts.org
SUMMARY:Spirit of Huntington presents Drawing and Painting Class
DESCRIPTION:This expressive art program invites students to explore art through both learning and doing. Each session begins with a brief\, engaging introduction to a featured artist and their work. Students then create their own art using guided techniques and a range of materials—including watercolor\, pencil\, pastels\, and charcoal—while focusing on self-expression\, creativity\, and confidence rather than perfection. Our art classes are open to all abilities\, all ages\, and all levels of experience! \nIN PERSON CLASSES\nMondays: 5:00pm-6:30pm\nWednesdays: 3:00pm-4:15pm\nThursdays: 1:30pm-2:45pm\nSaturdays: 10:30am-12:00pm \nVIRTUAL CLASSES (Join us on Zoom!)\nSaturdays: 12:30pm-1:30pm \nPRICE\n$75 per class or 5 for $300 \nPlease call Michael D at 631-533-9639 for more info!
URL:https://www.huntingtonarts.org/event/spirit-of-huntington-presents-drawing-and-painting-class/2026-04-06/
LOCATION:Spirit of Huntington\, 2 Melville Rd. N.\, Huntington Station\, 11746\, United States
CATEGORIES:Art Demo,Children and Family,History,Workshop Classes
ATTACH;FMTTYPE=image/png:https://www.huntingtonarts.org/wp-content/uploads/2026/01/Art.png
ORGANIZER;CN="Spirit of Huntington":MAILTO:michaeld@spiritofhuntington.com
END:VEVENT
BEGIN:VEVENT
DTSTART;VALUE=DATE:20260406
DTEND;VALUE=DATE:20260614
DTSTAMP:20260422T063000
CREATED:20260122T193802Z
LAST-MODIFIED:20260312T145929Z
UID:10022819-1775433600-1781395199@www.huntingtonarts.org
SUMMARY:Spirit of Huntington presents Ceramics Class
DESCRIPTION:In this innovative program\, we teach individuals to ignite their passion for creative expression through physical interaction with clay. Students create their own pieces that are then kiln fired\, and glazed with colors of their choice. \nHAND BUILDING CLASSES (Guided class for those new to clay)\nThursdays: 3:00pm-4:30pm\nThursdays: 5:30pm-7:30pm\nWednesdays: 5:30pm-7:30pm\n$75 per class\n5 for $300\n10 for $590 \nWHEEL THROWING CLASSES (6 weeks)\nMondays 5:30pm-7:30pm\nTuesdays: 5:30pm-7:30pm\n$350 + $40 Clay/$75 per class \nWHEEL THROWING/HAND BUILDING (8 weeks)\nTuesdays: 10:00am-1:00pm\nThursdays: 10:00am-1:00pm\n$530 + $40 Clay/$75 per class \nKIDS SERIES (6 weeks)\nSaturdays: 9:30am-11:00am\n$250 + $40 Clay/$75 per class \nPlease call Michael D at 631-533-9639 for more info!
URL:https://www.huntingtonarts.org/event/spirit-of-huntington-presents-ceramics-class/2026-04-06/
LOCATION:Spirit of Huntington\, 2 Melville Rd. N.\, Huntington Station\, 11746\, United States
CATEGORIES:Art Demo,Children and Family,Workshop Classes
ATTACH;FMTTYPE=image/png:https://www.huntingtonarts.org/wp-content/uploads/2026/01/Clay.png
ORGANIZER;CN="Spirit of Huntington":MAILTO:michaeld@spiritofhuntington.com
END:VEVENT
BEGIN:VEVENT
DTSTART;TZID=America/New_York:20260602T193000
DTEND;TZID=America/New_York:20260602T210000
DTSTAMP:20260422T063000
CREATED:20260105T173124Z
LAST-MODIFIED:20260105T173124Z
UID:10018858-1780428600-1780434000@www.huntingtonarts.org
SUMMARY:Huntington Camera Club
DESCRIPTION:We meet at Huntington Public Library every Tuesday night to discuss photography. We have guest speakers\, member presentations\, in-house competitions and lots more. No photographic background is necessary but we do cover all levels of experience in our presentations. Visit our website for more information hccny.org
URL:https://www.huntingtonarts.org/event/huntington-camera-club-3/2026-06-02/
LOCATION:Huntington Public Library\, 338 Main Street\, Huntington\, 11743\, United States
CATEGORIES:Art Demo,Film/Media,History,Lectures,Workshop Classes
ATTACH;FMTTYPE=image/jpeg:https://www.huntingtonarts.org/wp-content/uploads/2025/12/HCC-logo-1.jpg
GEO:40.8705011;-73.4300972
X-APPLE-STRUCTURED-LOCATION;VALUE=URI;X-ADDRESS=Huntington Public Library 338 Main Street Huntington 11743 United States;X-APPLE-RADIUS=500;X-TITLE=338 Main Street:geo:-73.4300972,40.8705011
END:VEVENT
BEGIN:VEVENT
DTSTART;TZID=America/New_York:20260609T193000
DTEND;TZID=America/New_York:20260609T210000
DTSTAMP:20260422T063000
CREATED:20260105T173124Z
LAST-MODIFIED:20260105T173124Z
UID:10018859-1781033400-1781038800@www.huntingtonarts.org
SUMMARY:Huntington Camera Club
DESCRIPTION:We meet at Huntington Public Library every Tuesday night to discuss photography. We have guest speakers\, member presentations\, in-house competitions and lots more. No photographic background is necessary but we do cover all levels of experience in our presentations. Visit our website for more information hccny.org
URL:https://www.huntingtonarts.org/event/huntington-camera-club-3/2026-06-09/
LOCATION:Huntington Public Library\, 338 Main Street\, Huntington\, 11743\, United States
CATEGORIES:Art Demo,Film/Media,History,Lectures,Workshop Classes
ATTACH;FMTTYPE=image/jpeg:https://www.huntingtonarts.org/wp-content/uploads/2025/12/HCC-logo-1.jpg
GEO:40.8705011;-73.4300972
X-APPLE-STRUCTURED-LOCATION;VALUE=URI;X-ADDRESS=Huntington Public Library 338 Main Street Huntington 11743 United States;X-APPLE-RADIUS=500;X-TITLE=338 Main Street:geo:-73.4300972,40.8705011
END:VEVENT
BEGIN:VEVENT
DTSTART;TZID=America/New_York:20260611T183000
DTEND;TZID=America/New_York:20260611T200000
DTSTAMP:20260422T063000
CREATED:20260415T170223Z
LAST-MODIFIED:20260415T170223Z
UID:10023683-1781202600-1781208000@www.huntingtonarts.org
SUMMARY:The Whaling Museum presents Crafts & Cocktails: Beachy Windchimes
DESCRIPTION:Thurs. June 11 | 6:30 PM | Adults 21+ \nFrom musical windchimes to the great sails of tall ships\, discover the many fascinating ways humans have harnessed the power of wind through the centuries. Sip a Summer Wind cocktail or mocktail as you use driftwood\, seashells\, and frosted shard of sea glass to create a gorgeous set of chimes to hang up at home! \n$25 Member; $35 Participant
URL:https://www.huntingtonarts.org/event/the-whaling-museum-presents-crafts-cocktails-beachy-windchimes/
LOCATION:The Whaling Museum and Education Center\, 301 Main Street\, Cold Spring Harbor\, NY\, 11724\, United States
CATEGORIES:Art Demo,Exhibitions,History,Workshop Classes
ATTACH;FMTTYPE=image/jpeg:https://www.huntingtonarts.org/wp-content/uploads/2026/04/CC-Winchimes-2-scaled.jpeg
ORGANIZER;CN="The Whaling Museum and Education Center":MAILTO:jpalumbo@cshwhalingmuseum.org
GEO:40.8725752;-73.4541433
X-APPLE-STRUCTURED-LOCATION;VALUE=URI;X-ADDRESS=The Whaling Museum and Education Center 301 Main Street Cold Spring Harbor NY 11724 United States;X-APPLE-RADIUS=500;X-TITLE=301 Main Street:geo:-73.4541433,40.8725752
END:VEVENT
BEGIN:VEVENT
DTSTART;TZID=America/New_York:20260616T193000
DTEND;TZID=America/New_York:20260616T210000
DTSTAMP:20260422T063000
CREATED:20260105T173124Z
LAST-MODIFIED:20260105T173124Z
UID:10018860-1781638200-1781643600@www.huntingtonarts.org
SUMMARY:Huntington Camera Club
DESCRIPTION:We meet at Huntington Public Library every Tuesday night to discuss photography. We have guest speakers\, member presentations\, in-house competitions and lots more. No photographic background is necessary but we do cover all levels of experience in our presentations. Visit our website for more information hccny.org
URL:https://www.huntingtonarts.org/event/huntington-camera-club-3/2026-06-16/
LOCATION:Huntington Public Library\, 338 Main Street\, Huntington\, 11743\, United States
CATEGORIES:Art Demo,Film/Media,History,Lectures,Workshop Classes
ATTACH;FMTTYPE=image/jpeg:https://www.huntingtonarts.org/wp-content/uploads/2025/12/HCC-logo-1.jpg
GEO:40.8705011;-73.4300972
X-APPLE-STRUCTURED-LOCATION;VALUE=URI;X-ADDRESS=Huntington Public Library 338 Main Street Huntington 11743 United States;X-APPLE-RADIUS=500;X-TITLE=338 Main Street:geo:-73.4300972,40.8705011
END:VEVENT
BEGIN:VEVENT
DTSTART;VALUE=DATE:20260619
DTEND;VALUE=DATE:20260621
DTSTAMP:20260422T063000
CREATED:20260420T163400Z
LAST-MODIFIED:20260420T163400Z
UID:10024166-1781827200-1781999999@www.huntingtonarts.org
SUMMARY:Jan Guarino presents Fearless Portraits in Watercolors
DESCRIPTION:Watercolor invites the unexpected and portraits can be tricky. In this workshop\, you’ll learn to embrace it\, work with the medium and turn it into something uniquely your own. \nThis workshop will focus on the art of the portrait—bringing expression\, character\, and life into your watercolor work.\nI’ll be demonstrating throughout the class—the very heart of how we learn—so you can see each step in action and understand the “why” behind every decision. \nYou’ll also receive individual guidance and constructive critiques to help you grow with clarity and confidence. \nI truly enjoy sharing my watercolor techniques\, theories\, and the joy of painting with my students. My hope is that you discover that same enjoyment—interpreting your world through paint\, color\, splatters\, and drips.
URL:https://www.huntingtonarts.org/event/jan-guarino-presents-fearless-portraits-in-watercolors/
LOCATION:Art League of Long Island\, 107 East Deer Park Road\, Dix Hills\, NY\, 11746\, United States
CATEGORIES:Art Demo,Workshop Classes
ATTACH;FMTTYPE=image/jpeg:https://www.huntingtonarts.org/wp-content/uploads/2026/04/A-Winter-Bundle-scaled.jpg
ORGANIZER;CN="Jan Guarino":MAILTO:jan@janguarinofineart.com
END:VEVENT
BEGIN:VEVENT
DTSTART;TZID=America/New_York:20260619T100000
DTEND;TZID=America/New_York:20260620T170000
DTSTAMP:20260422T063000
CREATED:20260107T154254Z
LAST-MODIFIED:20260107T154440Z
UID:10019210-1781863200-1781974800@www.huntingtonarts.org
SUMMARY:Jan Guarino presents Fearless Watercolors Portrait 2 day Workshop
DESCRIPTION:My intention is always to create an unexpected depiction of the subject\, a colorful interpretation\, not a literal translation. I enjoy using this unusual color palette to bring you into the painting and though\, you may have been seen that place before\, you feel you are looking at it for the very first time. A humble subject is suddenly worthy of careful notice because of the unexpected depiction\, \nThis workshop will focus on the art of the portrait. I will demo – the very heart of learning – give individual help and constructive critiques. Materials are chosen to give artists the maximum chance of success with these techniques. I SO enjoy teaching my watercolor techniques\, theories and joy with all of my students. It is my hope that you find enjoyment in interpreting your world with paint\, splatters\, drips and color by embracing the unexpected and unplanned that only a watercolor can give you!
URL:https://www.huntingtonarts.org/event/jan-guarino-presents-fearless-watercolors-portrait-2-day-workshop/
LOCATION:Art League of Long Island\, 107 East Deer Park Road\, Dix Hills\, NY\, 11746\, United States
CATEGORIES:Art Demo,Workshop Classes
ATTACH;FMTTYPE=image/jpeg:https://www.huntingtonarts.org/wp-content/uploads/2026/01/Scarlett-Sunlit-wm.jpg
ORGANIZER;CN="Jan Guarino":MAILTO:info@artlealgueli.org
END:VEVENT
BEGIN:VEVENT
DTSTART;TZID=America/New_York:20260623T193000
DTEND;TZID=America/New_York:20260623T210000
DTSTAMP:20260422T063000
CREATED:20260105T173124Z
LAST-MODIFIED:20260105T173124Z
UID:10018861-1782243000-1782248400@www.huntingtonarts.org
SUMMARY:Huntington Camera Club
DESCRIPTION:We meet at Huntington Public Library every Tuesday night to discuss photography. We have guest speakers\, member presentations\, in-house competitions and lots more. No photographic background is necessary but we do cover all levels of experience in our presentations. Visit our website for more information hccny.org
URL:https://www.huntingtonarts.org/event/huntington-camera-club-3/2026-06-23/
LOCATION:Huntington Public Library\, 338 Main Street\, Huntington\, 11743\, United States
CATEGORIES:Art Demo,Film/Media,History,Lectures,Workshop Classes
ATTACH;FMTTYPE=image/jpeg:https://www.huntingtonarts.org/wp-content/uploads/2025/12/HCC-logo-1.jpg
GEO:40.8705011;-73.4300972
X-APPLE-STRUCTURED-LOCATION;VALUE=URI;X-ADDRESS=Huntington Public Library 338 Main Street Huntington 11743 United States;X-APPLE-RADIUS=500;X-TITLE=338 Main Street:geo:-73.4300972,40.8705011
END:VEVENT
BEGIN:VEVENT
DTSTART;TZID=America/New_York:20260630T193000
DTEND;TZID=America/New_York:20260630T210000
DTSTAMP:20260422T063000
CREATED:20260105T173124Z
LAST-MODIFIED:20260105T173124Z
UID:10018862-1782847800-1782853200@www.huntingtonarts.org
SUMMARY:Huntington Camera Club
DESCRIPTION:We meet at Huntington Public Library every Tuesday night to discuss photography. We have guest speakers\, member presentations\, in-house competitions and lots more. No photographic background is necessary but we do cover all levels of experience in our presentations. Visit our website for more information hccny.org
URL:https://www.huntingtonarts.org/event/huntington-camera-club-3/2026-06-30/
LOCATION:Huntington Public Library\, 338 Main Street\, Huntington\, 11743\, United States
CATEGORIES:Art Demo,Film/Media,History,Lectures,Workshop Classes
ATTACH;FMTTYPE=image/jpeg:https://www.huntingtonarts.org/wp-content/uploads/2025/12/HCC-logo-1.jpg
GEO:40.8705011;-73.4300972
X-APPLE-STRUCTURED-LOCATION;VALUE=URI;X-ADDRESS=Huntington Public Library 338 Main Street Huntington 11743 United States;X-APPLE-RADIUS=500;X-TITLE=338 Main Street:geo:-73.4300972,40.8705011
END:VEVENT
END:VCALENDAR