BEGIN:VCALENDAR
VERSION:2.0
PRODID:-//Huntington Arts Council - ECPv6.15.20//NONSGML v1.0//EN
CALSCALE:GREGORIAN
METHOD:PUBLISH
X-WR-CALNAME:Huntington Arts Council
X-ORIGINAL-URL:https://www.huntingtonarts.org
X-WR-CALDESC:Events for Huntington Arts Council
REFRESH-INTERVAL;VALUE=DURATION:PT1H
X-Robots-Tag:noindex
X-PUBLISHED-TTL:PT1H
BEGIN:VTIMEZONE
TZID:America/New_York
BEGIN:DAYLIGHT
TZOFFSETFROM:-0500
TZOFFSETTO:-0400
TZNAME:EDT
DTSTART:20250309T070000
END:DAYLIGHT
BEGIN:STANDARD
TZOFFSETFROM:-0400
TZOFFSETTO:-0500
TZNAME:EST
DTSTART:20251102T060000
END:STANDARD
BEGIN:DAYLIGHT
TZOFFSETFROM:-0500
TZOFFSETTO:-0400
TZNAME:EDT
DTSTART:20260308T070000
END:DAYLIGHT
BEGIN:STANDARD
TZOFFSETFROM:-0400
TZOFFSETTO:-0500
TZNAME:EST
DTSTART:20261101T060000
END:STANDARD
BEGIN:DAYLIGHT
TZOFFSETFROM:-0500
TZOFFSETTO:-0400
TZNAME:EDT
DTSTART:20270314T070000
END:DAYLIGHT
BEGIN:STANDARD
TZOFFSETFROM:-0400
TZOFFSETTO:-0500
TZNAME:EST
DTSTART:20271107T060000
END:STANDARD
END:VTIMEZONE
BEGIN:VEVENT
DTSTART;TZID=America/New_York:20260106T190000
DTEND;TZID=America/New_York:20260106T210000
DTSTAMP:20260422T072439
CREATED:20260106T151842Z
LAST-MODIFIED:20260106T151842Z
UID:10019216-1767726000-1767733200@www.huntingtonarts.org
SUMMARY:Suburban Art League presents Lana Ballot Zoom Pastel Landscape
DESCRIPTION:ZOOM link emailed to members soon-NonMembers request email and consider membership to suburbanartleague@gmail.com with the 48 hours prior to the demo. Materials list and reference photo is on our website
URL:https://www.huntingtonarts.org/event/suburban-art-league-presents-lana-ballot-zoom-pastel-landscape/
LOCATION:Zoom
CATEGORIES:Art Demo
ORGANIZER;CN="SAL-Suburban Art League":MAILTO:Suburbanartleague@gmail.com
END:VEVENT
BEGIN:VEVENT
DTSTART;TZID=America/New_York:20260106T193000
DTEND;TZID=America/New_York:20260106T210000
DTSTAMP:20260422T072439
CREATED:20260105T173124Z
LAST-MODIFIED:20260105T173124Z
UID:10018837-1767727800-1767733200@www.huntingtonarts.org
SUMMARY:Huntington Camera Club
DESCRIPTION:We meet at Huntington Public Library every Tuesday night to discuss photography. We have guest speakers\, member presentations\, in-house competitions and lots more. No photographic background is necessary but we do cover all levels of experience in our presentations. Visit our website for more information hccny.org
URL:https://www.huntingtonarts.org/event/huntington-camera-club-3/2026-01-06/
LOCATION:Huntington Public Library\, 338 Main Street\, Huntington\, 11743\, United States
CATEGORIES:Art Demo,Film/Media,History,Lectures,Workshop Classes
ATTACH;FMTTYPE=image/jpeg:https://www.huntingtonarts.org/wp-content/uploads/2025/12/HCC-logo-1.jpg
GEO:40.8705011;-73.4300972
X-APPLE-STRUCTURED-LOCATION;VALUE=URI;X-ADDRESS=Huntington Public Library 338 Main Street Huntington 11743 United States;X-APPLE-RADIUS=500;X-TITLE=338 Main Street:geo:-73.4300972,40.8705011
END:VEVENT
BEGIN:VEVENT
DTSTART;TZID=America/New_York:20260108T183000
DTEND;TZID=America/New_York:20260108T200000
DTSTAMP:20260422T072439
CREATED:20251203T171025Z
LAST-MODIFIED:20251203T171025Z
UID:10017523-1767897000-1767902400@www.huntingtonarts.org
SUMMARY:The Whaling Museum presents Crafts & Cocktails: Secret Signals
DESCRIPTION:Thurs. Jan. 8 | 6:30 PM | Adults 21+ \nSip a “Three Dots & a Dash” cocktail/mocktail and spell a secret code in a beaded bracelet. \n$25 Member; $35 Participant
URL:https://www.huntingtonarts.org/event/the-whaling-museum-presents-crafts-cocktails-secret-signals/
LOCATION:The Whaling Museum & Education Center of Cold Spring Harbor\, 301 Main Street\, Cold Spring Harbor\, NY\, 11724\, United States
CATEGORIES:Art Demo,History,Workshop Classes
ATTACH;FMTTYPE=image/png:https://www.huntingtonarts.org/wp-content/uploads/2025/12/Secret-Signals-1.png
ORGANIZER;CN="The Whaling Museum &amp%3B Education Center of CSH":MAILTO:trongo@cshwhalingmuseum.org
GEO:40.8724711;-73.4536788
X-APPLE-STRUCTURED-LOCATION;VALUE=URI;X-ADDRESS=The Whaling Museum & Education Center of Cold Spring Harbor 301 Main Street Cold Spring Harbor NY 11724 United States;X-APPLE-RADIUS=500;X-TITLE=301 Main Street:geo:-73.4536788,40.8724711
END:VEVENT
BEGIN:VEVENT
DTSTART;TZID=America/New_York:20260113T193000
DTEND;TZID=America/New_York:20260113T210000
DTSTAMP:20260422T072439
CREATED:20260105T173124Z
LAST-MODIFIED:20260105T173124Z
UID:10018838-1768332600-1768338000@www.huntingtonarts.org
SUMMARY:Huntington Camera Club
DESCRIPTION:We meet at Huntington Public Library every Tuesday night to discuss photography. We have guest speakers\, member presentations\, in-house competitions and lots more. No photographic background is necessary but we do cover all levels of experience in our presentations. Visit our website for more information hccny.org
URL:https://www.huntingtonarts.org/event/huntington-camera-club-3/2026-01-13/
LOCATION:Huntington Public Library\, 338 Main Street\, Huntington\, 11743\, United States
CATEGORIES:Art Demo,Film/Media,History,Lectures,Workshop Classes
ATTACH;FMTTYPE=image/jpeg:https://www.huntingtonarts.org/wp-content/uploads/2025/12/HCC-logo-1.jpg
GEO:40.8705011;-73.4300972
X-APPLE-STRUCTURED-LOCATION;VALUE=URI;X-ADDRESS=Huntington Public Library 338 Main Street Huntington 11743 United States;X-APPLE-RADIUS=500;X-TITLE=338 Main Street:geo:-73.4300972,40.8705011
END:VEVENT
BEGIN:VEVENT
DTSTART;TZID=America/New_York:20260120T193000
DTEND;TZID=America/New_York:20260120T210000
DTSTAMP:20260422T072439
CREATED:20260105T173124Z
LAST-MODIFIED:20260105T173124Z
UID:10018839-1768937400-1768942800@www.huntingtonarts.org
SUMMARY:Huntington Camera Club
DESCRIPTION:We meet at Huntington Public Library every Tuesday night to discuss photography. We have guest speakers\, member presentations\, in-house competitions and lots more. No photographic background is necessary but we do cover all levels of experience in our presentations. Visit our website for more information hccny.org
URL:https://www.huntingtonarts.org/event/huntington-camera-club-3/2026-01-20/
LOCATION:Huntington Public Library\, 338 Main Street\, Huntington\, 11743\, United States
CATEGORIES:Art Demo,Film/Media,History,Lectures,Workshop Classes
ATTACH;FMTTYPE=image/jpeg:https://www.huntingtonarts.org/wp-content/uploads/2025/12/HCC-logo-1.jpg
GEO:40.8705011;-73.4300972
X-APPLE-STRUCTURED-LOCATION;VALUE=URI;X-ADDRESS=Huntington Public Library 338 Main Street Huntington 11743 United States;X-APPLE-RADIUS=500;X-TITLE=338 Main Street:geo:-73.4300972,40.8705011
END:VEVENT
BEGIN:VEVENT
DTSTART;TZID=America/New_York:20260127T193000
DTEND;TZID=America/New_York:20260127T210000
DTSTAMP:20260422T072439
CREATED:20260105T173124Z
LAST-MODIFIED:20260105T173124Z
UID:10018840-1769542200-1769547600@www.huntingtonarts.org
SUMMARY:Huntington Camera Club
DESCRIPTION:We meet at Huntington Public Library every Tuesday night to discuss photography. We have guest speakers\, member presentations\, in-house competitions and lots more. No photographic background is necessary but we do cover all levels of experience in our presentations. Visit our website for more information hccny.org
URL:https://www.huntingtonarts.org/event/huntington-camera-club-3/2026-01-27/
LOCATION:Huntington Public Library\, 338 Main Street\, Huntington\, 11743\, United States
CATEGORIES:Art Demo,Film/Media,History,Lectures,Workshop Classes
ATTACH;FMTTYPE=image/jpeg:https://www.huntingtonarts.org/wp-content/uploads/2025/12/HCC-logo-1.jpg
GEO:40.8705011;-73.4300972
X-APPLE-STRUCTURED-LOCATION;VALUE=URI;X-ADDRESS=Huntington Public Library 338 Main Street Huntington 11743 United States;X-APPLE-RADIUS=500;X-TITLE=338 Main Street:geo:-73.4300972,40.8705011
END:VEVENT
END:VCALENDAR