BEGIN:VCALENDAR
VERSION:2.0
PRODID:-//Huntington Arts Council - ECPv6.15.20//NONSGML v1.0//EN
CALSCALE:GREGORIAN
METHOD:PUBLISH
X-ORIGINAL-URL:https://www.huntingtonarts.org
X-WR-CALDESC:Events for Huntington Arts Council
REFRESH-INTERVAL;VALUE=DURATION:PT1H
X-Robots-Tag:noindex
X-PUBLISHED-TTL:PT1H
BEGIN:VTIMEZONE
TZID:America/New_York
BEGIN:DAYLIGHT
TZOFFSETFROM:-0500
TZOFFSETTO:-0400
TZNAME:EDT
DTSTART:20240310T070000
END:DAYLIGHT
BEGIN:STANDARD
TZOFFSETFROM:-0400
TZOFFSETTO:-0500
TZNAME:EST
DTSTART:20241103T060000
END:STANDARD
BEGIN:DAYLIGHT
TZOFFSETFROM:-0500
TZOFFSETTO:-0400
TZNAME:EDT
DTSTART:20250309T070000
END:DAYLIGHT
BEGIN:STANDARD
TZOFFSETFROM:-0400
TZOFFSETTO:-0500
TZNAME:EST
DTSTART:20251102T060000
END:STANDARD
BEGIN:DAYLIGHT
TZOFFSETFROM:-0500
TZOFFSETTO:-0400
TZNAME:EDT
DTSTART:20260308T070000
END:DAYLIGHT
BEGIN:STANDARD
TZOFFSETFROM:-0400
TZOFFSETTO:-0500
TZNAME:EST
DTSTART:20261101T060000
END:STANDARD
END:VTIMEZONE
BEGIN:VEVENT
DTSTART;TZID=America/New_York:20250909T110000
DTEND;TZID=America/New_York:20251216T130000
DTSTAMP:20260422T102531
CREATED:20250826T141130Z
LAST-MODIFIED:20250826T141130Z
UID:10015814-1757415600-1765890000@www.huntingtonarts.org
SUMMARY:Fearless watercolors On-Line Zoom Classes
DESCRIPTION:Have you always loved to paint but were afraid to try watercolors? Or tried watercolors and wasn’t successful? Well get ready to learn techniques that will allow you to feel free while holding onto detail\, gain control\, make corrections and have fun. AND we’ll be getting ready to paint scenes for our holiday cards too! \nIn these classes you will learn: 1) to use color wheel and avoid muddy paintings: 2) how to let watercolor paint do the work for you: 3) how to bridge the palette and why its so important; 4) to integrate your own style and creativity; 5) utilize the right colors to achieve movement & granulation; 6) to trust your instincts and allow blossoms\, drips and splatters to work for you … and the proper order in which to do it all. \nYou will receive my reference photo\, my contour drawing\, a live critique\, a recording of the class and my final painting to help you along. This is an interactive class\, not a webinar. You are able to ask questions and interact with me ~ it’s as close as we can get without being together.
URL:https://www.huntingtonarts.org/event/fearless-watercolors-on-line-zoom-classes/
LOCATION:Zoom
CATEGORIES:Art Demo,Workshop Classes
ATTACH;FMTTYPE=image/jpeg:https://www.huntingtonarts.org/wp-content/uploads/2025/08/Holiday-Cardinal-copy-scaled.jpg
ORGANIZER;CN="Jan Guarino":MAILTO:jan@janguarinofineart.com
END:VEVENT
BEGIN:VEVENT
DTSTART;TZID=America/New_York:20251103T190000
DTEND;TZID=America/New_York:20251103T210000
DTSTAMP:20260422T102531
CREATED:20250409T203244Z
LAST-MODIFIED:20250926T161635Z
UID:10015308-1762196400-1762203600@www.huntingtonarts.org
SUMMARY:Suburban Art Leagues Free Demo with Christine Greene (DATE CHANGED TO MONDAY)
DESCRIPTION:Join caricature artist Christine Greene as she sketches members from the audience who can win a seat in the model’s chair! At least 5 sketches will be done that eventing! Free refreshments. This event will be held on Monday\, Nov. 2 due to Eklection Day (the building is closed on Tuesday\, Nov. 4).
URL:https://www.huntingtonarts.org/event/suburban-art-leagues-free-demo-with-christine-greene-date-changed-to-monday/
LOCATION:Syosset Woodbury Community Center\, 7800 Jericho Tpke\, Woodbury\, NY\, 11791\, United States
CATEGORIES:Art Demo
ATTACH;FMTTYPE=image/png:https://www.huntingtonarts.org/wp-content/uploads/2025/04/SAL-logo-orig-3.png
ORGANIZER;CN="SAL-Suburban Art League":MAILTO:Suburbanartleague@gmail.com
END:VEVENT
BEGIN:VEVENT
DTSTART;TZID=America/New_York:20251115T093000
DTEND;TZID=America/New_York:20251115T103000
DTSTAMP:20260422T102531
CREATED:20251024T165818Z
LAST-MODIFIED:20251024T165818Z
UID:10017203-1763199000-1763202600@www.huntingtonarts.org
SUMMARY:Heckscher Museum of Art presents Art Explorers Club
DESCRIPTION:Start your weekend with art! Join us one Saturday each month for a new and exciting interactive gallery tour\, hands-on art making\, stories\, and much more. Both English and Spanish speakers are welcome. Kids will explore a variety of different art materials and techniques as they create open-ended projects and let their imaginations soar! Get creative and make new friends at this program designed specifically for ages five through 10.\n$10 per family\, Free for members\nRegistration recommended\nRegister at heckscher.org/explorers
URL:https://www.huntingtonarts.org/event/heckscher-museum-of-art-presents-art-explorers-club/
LOCATION:Heckscher Museum of Art\, 2 Prime Avenue\, Huntington\, NY\, 11743\, United States
CATEGORIES:Art Demo,Children and Family,Workshop Classes
ATTACH;FMTTYPE=image/jpeg:https://www.huntingtonarts.org/wp-content/uploads/2025/10/Art-Explorers-Club-scaled.jpeg
ORGANIZER;CN="Heckscher Museum of Art":MAILTO:info@heckscher.org
GEO:40.8747968;-73.4217504
X-APPLE-STRUCTURED-LOCATION;VALUE=URI;X-ADDRESS=Heckscher Museum of Art 2 Prime Avenue Huntington NY 11743 United States;X-APPLE-RADIUS=500;X-TITLE=2 Prime Avenue:geo:-73.4217504,40.8747968
END:VEVENT
END:VCALENDAR