BEGIN:VCALENDAR
VERSION:2.0
PRODID:-//Huntington Arts Council - ECPv6.15.20//NONSGML v1.0//EN
CALSCALE:GREGORIAN
METHOD:PUBLISH
X-ORIGINAL-URL:https://www.huntingtonarts.org
X-WR-CALDESC:Events for Huntington Arts Council
REFRESH-INTERVAL;VALUE=DURATION:PT1H
X-Robots-Tag:noindex
X-PUBLISHED-TTL:PT1H
BEGIN:VTIMEZONE
TZID:America/New_York
BEGIN:DAYLIGHT
TZOFFSETFROM:-0500
TZOFFSETTO:-0400
TZNAME:EDT
DTSTART:20250309T070000
END:DAYLIGHT
BEGIN:STANDARD
TZOFFSETFROM:-0400
TZOFFSETTO:-0500
TZNAME:EST
DTSTART:20251102T060000
END:STANDARD
BEGIN:DAYLIGHT
TZOFFSETFROM:-0500
TZOFFSETTO:-0400
TZNAME:EDT
DTSTART:20260308T070000
END:DAYLIGHT
BEGIN:STANDARD
TZOFFSETFROM:-0400
TZOFFSETTO:-0500
TZNAME:EST
DTSTART:20261101T060000
END:STANDARD
BEGIN:DAYLIGHT
TZOFFSETFROM:-0500
TZOFFSETTO:-0400
TZNAME:EDT
DTSTART:20270314T070000
END:DAYLIGHT
BEGIN:STANDARD
TZOFFSETFROM:-0400
TZOFFSETTO:-0500
TZNAME:EST
DTSTART:20271107T060000
END:STANDARD
END:VTIMEZONE
BEGIN:VEVENT
DTSTART;TZID=America/New_York:20260423T120000
DTEND;TZID=America/New_York:20260528T170000
DTSTAMP:20260421T181303
CREATED:20260326T201140Z
LAST-MODIFIED:20260326T201140Z
UID:10023177-1776945600-1779987600@www.huntingtonarts.org
SUMMARY:Heckscher Museum of Art presents Lines of Influence: Artists Teaching Artists
DESCRIPTION:Lines of Influence: Artists Teaching Artists celebrates the longstanding tradition of artists educating and learning from one another. The exhibition illuminates diverse pedagogies of artmaking across generations\, tracing networks of mentorship that include color theorist Josef Albers\, plein air instructor William Merritt Chase\, Abstract Expressionist pioneer Hans Hofmann\, and feminist educators Judy Chicago and Miriam Schapiro. \nDrawing from the Heckscher Museum’s collection\, this exhibition brings together 54 works by 39 artists\, including paintings\, sculptures\, works on paper\, and ceramics that span the nineteenth century to the present. It showcases never-before-exhibited works such as drawings of plaster casts by Thomas Anshutz and a terra cotta sculpture by Mary Frank. Other key works include an early abstract painting that Elaine De Kooning created while studying with Albers at Black Mountain College\, teaching sketches by George Grosz\, and a luminous “mindscape” painting by Richard Mayhew. Lines of Influence highlights instances in which artists collaborated\, apprenticed\, and guided one another\, revealing the vibrant exchanges that shaped their artistic legacies.
URL:https://www.huntingtonarts.org/event/heckscher-museum-of-art-presents-lines-of-influence-artists-teaching-artists/2026-04-23/
LOCATION:Heckscher Museum of Art\, 2 Prime Avenue\, Huntington\, NY\, 11743\, United States
CATEGORIES:Exhibitions
ATTACH;FMTTYPE=image/jpeg:https://www.huntingtonarts.org/wp-content/uploads/2026/03/Lines-Homepage-Slide-mobile.jpg
ORGANIZER;CN="Heckscher Museum of Art":MAILTO:info@heckscher.org
GEO:40.8747968;-73.4217504
X-APPLE-STRUCTURED-LOCATION;VALUE=URI;X-ADDRESS=Heckscher Museum of Art 2 Prime Avenue Huntington NY 11743 United States;X-APPLE-RADIUS=500;X-TITLE=2 Prime Avenue:geo:-73.4217504,40.8747968
END:VEVENT
BEGIN:VEVENT
DTSTART;TZID=America/New_York:20260423T120000
DTEND;TZID=America/New_York:20260528T170000
DTSTAMP:20260421T181303
CREATED:20260327T152535Z
LAST-MODIFIED:20260327T152535Z
UID:10023198-1776945600-1779987600@www.huntingtonarts.org
SUMMARY:Heckscher Museum of Art presents Long Island’s Best: Young Artists at The Heckscher Museum 2026
DESCRIPTION:Celebrating its 30th anniversary\, Long Island’s Best has been a hallmark of the Museum’s educational programming for three decades\, showcasing the outstanding work of over 2\,000 high school students from across Long Island. What began as an annual exhibition of outstanding student work has become a lasting tradition⸺one that recognizes excellence while nurturing the next generation of creative thinkers. Long Island’s Best continues to be the only juried exhibition for Long Island high school students that provides the opportunity to exhibit in a museum. \nStudents are challenged to select artwork on view in the Museum as the inspiration for their own work\, making creative connections with the generations who have come before them. The Heckscher encourages students to think outside the box as they work in a broad range of media\, styles\, and subjects. Students also write artist statements explaining their creative process. This year\, 63 public and private schools submitted students’ artwork for jurying. 402 entries were received\, and Consulting Curator Meredith A. Brown and guest juror Aaron Feltman selected 84 pieces for display. \nThis anniversary exhibition celebrates its remarkable legacy. Visitors are invited to view archival memories and watch video footage featuring reflections from past exhibiting students\, teachers\, guest jurors\, and more. The exhibition also highlights numerous alumni who share where their journeys have led—from careers in the arts to paths shaped by creativity in countless other fields. Together\, these stories reflect the lasting impact of arts education and the power of early encouragement.
URL:https://www.huntingtonarts.org/event/heckscher-museum-of-art-presents-long-islands-best-young-artists-at-the-heckscher-museum-2026/2026-04-23/
LOCATION:Heckscher Museum of Art\, 2 Prime Avenue\, Huntington\, NY\, 11743\, United States
CATEGORIES:Exhibitions
ATTACH;FMTTYPE=image/jpeg:https://www.huntingtonarts.org/wp-content/uploads/2026/03/Livingston_P_CrownedInCitrus_R5qj8.jpg
ORGANIZER;CN="Heckscher Museum of Art":MAILTO:info@heckscher.org
GEO:40.8747968;-73.4217504
X-APPLE-STRUCTURED-LOCATION;VALUE=URI;X-ADDRESS=Heckscher Museum of Art 2 Prime Avenue Huntington NY 11743 United States;X-APPLE-RADIUS=500;X-TITLE=2 Prime Avenue:geo:-73.4217504,40.8747968
END:VEVENT
BEGIN:VEVENT
DTSTART;TZID=America/New_York:20260425T080000
DTEND;TZID=America/New_York:20260425T170000
DTSTAMP:20260421T181303
CREATED:20260323T185003Z
LAST-MODIFIED:20260323T185003Z
UID:10023084-1777104000-1777136400@www.huntingtonarts.org
SUMMARY:The Art Guild of Port Washington presents De-mystifying Landscape Painting: Learn a clear process for both plein air & studio landscapes with Megan Euell
DESCRIPTION:This artist workshop led by Megan Euell aims to provide participants with a clear and structured approach to creating beautiful landscape paintings in a studio setting. \nThis workshop is perfect for both beginners looking to understand the basics and more experienced artists seeking to refine their skills in landscape painting. Open to using Oil paints\, water based Oil paints and Watercolor.
URL:https://www.huntingtonarts.org/event/the-art-guild-of-port-washington-presents-de-mystifying-landscape-painting-learn-a-clear-process-for-both-plein-air-studio-landscapes-with-megan-euell/2026-04-25/1/
LOCATION:The Art Guild of Port Washington\, 200 Port Washington Boulevard\, Manhasset\, NY\, 11030
CATEGORIES:Workshop Classes
ATTACH;FMTTYPE=image/jpeg:https://www.huntingtonarts.org/wp-content/uploads/2026/03/Megan.Euell_.425.jpg
ORGANIZER;CN="the art guild":MAILTO:info@theartguild.org
END:VEVENT
BEGIN:VEVENT
DTSTART;TZID=America/New_York:20260425T093000
DTEND;TZID=America/New_York:20260425T103000
DTSTAMP:20260421T181303
CREATED:20260407T182113Z
LAST-MODIFIED:20260407T182113Z
UID:10023436-1777109400-1777113000@www.huntingtonarts.org
SUMMARY:Heckscher Museum of Art presents Art Explorers Club: Circus Tent Fun
DESCRIPTION:Start your weekend with art! Join us one Saturday each month for a new and exciting interactive gallery tour\, hands-on art making\, stories\, and much more. Both English and Spanish speakers are welcome. Kids will explore a variety of different art materials and techniques as they create open-ended projects and let their imaginations soar! Get creative and make new friends at this program designed specifically for ages five through 10.\nOn April 25\, Art Explorers will make a work of art inspired by George Luks’s painting The Circus Tent\, which is full of fun and nostalgia. Participants will use their imaginations to create their own circus tent drawings that open and close and fill them with drawings of exciting acts!\n$10 per child\, Free for members\nRegistration recommended. Register at Heckscher.org/explorers \nFor Ages 5 – 10\nDrop off optional for kids ages 6+
URL:https://www.huntingtonarts.org/event/heckscher-museum-of-art-presents-art-explorers-club-circus-tent-fun/
LOCATION:Heckscher Museum of Art\, 2 Prime Avenue\, Huntington\, NY\, 11743\, United States
CATEGORIES:Children and Family
ATTACH;FMTTYPE=image/jpeg:https://www.huntingtonarts.org/wp-content/uploads/2026/04/April-Art-Explorers-Image-2.jpg
ORGANIZER;CN="Heckscher Museum of Art":MAILTO:info@heckscher.org
GEO:40.8747968;-73.4217504
X-APPLE-STRUCTURED-LOCATION;VALUE=URI;X-ADDRESS=Heckscher Museum of Art 2 Prime Avenue Huntington NY 11743 United States;X-APPLE-RADIUS=500;X-TITLE=2 Prime Avenue:geo:-73.4217504,40.8747968
END:VEVENT
BEGIN:VEVENT
DTSTART;TZID=America/New_York:20260425T100000
DTEND;TZID=America/New_York:20260425T130000
DTSTAMP:20260421T181303
CREATED:20260116T181609Z
LAST-MODIFIED:20260116T181609Z
UID:10021086-1777111200-1777122000@www.huntingtonarts.org
SUMMARY:Huntington Fine Arts presents Still Life Drawing & Painting Program (Grade 6 - 12)
DESCRIPTION:Still life is the most efficient way to build fundamental drawing and painting skills that transfer to every other area of art. This 10-week intensive course focuses on the art of still life drawing and painting as a primary tool for developing strong visual fundamentals. Through direct observation\, students learn to see more accurately and translate what they observe into confident\, intentional work. Open to students grades 6-12. Rolling Admission.
URL:https://www.huntingtonarts.org/event/huntington-fine-arts-presents-still-life-drawing-painting-program-grade-6-12/2026-04-25/
LOCATION:Huntington Fine Arts\, 266 East Pulaski Road\, Greenlawn\, NY\, 11740\, United States
CATEGORIES:Workshop Classes
ATTACH;FMTTYPE=image/jpeg:https://www.huntingtonarts.org/wp-content/uploads/2026/01/hfastilllife.jpg
ORGANIZER;CN="Huntington Fine Arts":MAILTO:harry@huntfinearts.com
END:VEVENT
BEGIN:VEVENT
DTSTART;TZID=America/New_York:20260425T130000
DTEND;TZID=America/New_York:20260426T160000
DTSTAMP:20260421T181303
CREATED:20260105T171130Z
LAST-MODIFIED:20260402T171710Z
UID:10017948-1777122000-1777219200@www.huntingtonarts.org
SUMMARY:BAFFA Art Gallery presents Annual Juried High School Art Exhibit
DESCRIPTION:BAFFA’s Annual Juried Invitational High School Art Show\, featuring artwork from students at thirteen area high schools\, can be seen at the BAFFA Art Gallery on April 25th and 26th from 1 to 4 PM. Participating schools are: Bayport-Blue Point\, Bay Shore\, Bellport\, Brentwood\, Centereach\, Commack\, Connetquot\, Longwood\, Newfield\, Patchogue-Medford\, Sachem East\, Sachem North\, and Sayville. An awards ceremony will be held on April 25th from 2 to 3 PM. Guest judges for this always exciting show will be Diana Aliberti\, Lisa Stanko\, and Rick Wenner. Both shows are free and open to the public.\nThe BAFFA Art Gallery is located in the historic Gillette House at 47 Gillette Avenue in Sayville. For additional information: www.baffa.org.
URL:https://www.huntingtonarts.org/event/baffa-art-gallery-presents-baffas-annual-juried-high-school-art-exhibit/
LOCATION:BAFFA Gallery\, 47 Gillette Avenue\, Sayville\, NY\, 11782\, United States
CATEGORIES:Exhibitions
ATTACH;FMTTYPE=image/jpeg:https://www.huntingtonarts.org/wp-content/uploads/2026/01/Student-Art-Shows-Sq-2.jpg
ORGANIZER;CN="Bay Area Friends of the Fine Arts (BAFFA)":MAILTO:baffaoffice@gmail.com
GEO:40.7343766;-73.0814701
X-APPLE-STRUCTURED-LOCATION;VALUE=URI;X-ADDRESS=BAFFA Gallery 47 Gillette Avenue Sayville NY 11782 United States;X-APPLE-RADIUS=500;X-TITLE=47 Gillette Avenue:geo:-73.0814701,40.7343766
END:VEVENT
BEGIN:VEVENT
DTSTART;TZID=America/New_York:20260425T130000
DTEND;TZID=America/New_York:20260426T160000
DTSTAMP:20260421T181303
CREATED:20260312T181925Z
LAST-MODIFIED:20260312T181925Z
UID:10022452-1777122000-1777219200@www.huntingtonarts.org
SUMMARY:Annual Juried Invitational High School Art Show at the BAFFA Art Gallery
DESCRIPTION:The Annual Juried Invitational High School Art Show\, featuring artwork from students at eleven area high schools\, can be seen at the BAFFA Art Gallery on April 25th and 26th from 1 to 4 PM. Participating schools are: Bayport-Blue Point\, Bay Shore\, Bellport\, Brentwood\, Centereach\, Commack\, Connetquot\, Longwood\, Patchogue-Medford\, Sachem East\, Sachem North\, and Sayville. An awards ceremony will be held on April 25th from 2 to 3 PM. Guest judges for this always exciting show will be Diana Aliberti\, Lisa Stanko\, and Rick Wenner. Both shows are free and open to the public.\nThe BAFFA Art Gallery is located in the historic Gillette House at 47 Gillette Avenue in Sayville. For additional information: www.baffa.org.
URL:https://www.huntingtonarts.org/event/annual-juried-invitational-high-school-art-show-at-the-baffa-art-gallery/
LOCATION:BAFFA Gallery\, 47 Gillette Avenue\, Sayville\, NY\, 11782\, United States
CATEGORIES:Exhibitions
ATTACH;FMTTYPE=image/jpeg:https://www.huntingtonarts.org/wp-content/uploads/2026/03/Student-Art-Shows-Sq-2-1.jpg
ORGANIZER;CN="Bay Area Friends of the Fine Arts (BAFFA)":MAILTO:baffaoffice@gmail.com
GEO:40.7343766;-73.0814701
X-APPLE-STRUCTURED-LOCATION;VALUE=URI;X-ADDRESS=BAFFA Gallery 47 Gillette Avenue Sayville NY 11782 United States;X-APPLE-RADIUS=500;X-TITLE=47 Gillette Avenue:geo:-73.0814701,40.7343766
END:VEVENT
BEGIN:VEVENT
DTSTART;TZID=America/New_York:20260425T140000
DTEND;TZID=America/New_York:20260425T160000
DTSTAMP:20260421T181303
CREATED:20260116T180230Z
LAST-MODIFIED:20260116T180230Z
UID:10020825-1777125600-1777132800@www.huntingtonarts.org
SUMMARY:Huntington Fine Arts presents Comic Art Workshop & Multi-week Intensive (Ages 8-14)
DESCRIPTION:Bring your stories to life through the art of comics. Learn character design\, panel composition\, and storytelling techniques as you follow a complete roadmap from concept to finished comic book page. All materials provided. One-Night Workshop: Learn essential techniques and create a finished piece to take home in just one session. Dates: February 28\, March 28\, April 25\, May 23\, and June 20. Intensive: Master advanced techniques and create a high-quality masterpiece. Continues for three additional weeks after each workshop.
URL:https://www.huntingtonarts.org/event/huntington-fine-arts-presents-comic-art-workshop-multi-week-intensive-ages-8-14/2026-04-25/
LOCATION:Huntington Fine Arts\, 266 East Pulaski Road\, Greenlawn\, NY\, 11740\, United States
CATEGORIES:Workshop Classes
ATTACH;FMTTYPE=image/jpeg:https://www.huntingtonarts.org/wp-content/uploads/2026/01/hfacomicart.jpg
ORGANIZER;CN="Huntington Fine Arts":MAILTO:harry@huntfinearts.com
END:VEVENT
END:VCALENDAR